{
 "currentVersion": 11.3,
 "serviceDescription": "AVIRIS/abundance_m1_md",
 "name": "AVIRIS/abundance_m1_md",
 "description": "",
 "extent": {
  "xmin": -117.38990087199994,
  "ymin": 35.225979662990056,
  "xmax": -113.28135890201943,
  "ymax": 38.452871894000054,
  "spatialReference": {
   "wkid": 4326,
   "latestWkid": 4326
  }
 },
 "initialExtent": {
  "xmin": -117.38990087199994,
  "ymin": 35.225979662990056,
  "xmax": -113.28135890201943,
  "ymax": 38.452871894000054,
  "spatialReference": {
   "wkid": 4326,
   "latestWkid": 4326
  }
 },
 "fullExtent": {
  "xmin": -117.38990087199994,
  "ymin": 35.225979662990056,
  "xmax": -113.28135890201943,
  "ymax": 38.452871894000054,
  "spatialReference": {
   "wkid": 4326,
   "latestWkid": 4326
  }
 },
 "sortableFields": "MinPS,MaxPS,LowPS,HighPS,CenterX,CenterY,ZOrder,Shape_Length,Shape_Area,ToSunZenith,TotalCloudFraction,AcquisitionDate",
 "bandCount": 10,
 "pixelType": "F32",
 "minValues": [
  0.0019433593843132257,
  5.406260606832802E-4,
  6.531454273499548E-4,
  2.015088830376043E-4,
  0,
  3.390714118722826E-4,
  9.727387223392725E-4,
  9.472656529396771E-4,
  0.001165796653367579,
  9.926361599355005E-6
 ],
 "maxValues": [
  0.9930566453840584,
  0.998046875,
  0.9940546794096008,
  0.9213755894452333,
  0.26867020048666745,
  0.998046875,
  0.9880664157681167,
  0.998046875,
  0.8283788895932958,
  0.41917967441258946
 ],
 "meanValues": [
  0.11752112863486643,
  0.0015643006477523561,
  0.026394076308249685,
  0.0026940235940910934,
  9.854291100781972E-5,
  0.004106047942991966,
  0.0532943029685462,
  0.015355544180602015,
  0.005859241192909148,
  2.881094663943395E-4
 ],
 "stdvValues": [
  0.20295222272036736,
  0.006805398457556655,
  0.10430077735101546,
  0.01425133890811734,
  2.0309414281774455E-4,
  0.00665689159940671,
  0.09920975126310097,
  0.05673577453820799,
  0.023871479574263325,
  9.454874535455222E-4
 ],
 "hasMultidimensions": false,
 "pixelSizeX": 9.342478954863923E-5,
 "pixelSizeY": 9.34247895486392E-5,
 "meanPixelSize": 10.400000000023264,
 "datasetFormat": "AMD",
 "uncompressedSize": 60758623200,
 "blockWidth": 2048,
 "blockHeight": 256,
 "compressionType": "None",
 "bandNames": [
  "calcite",
  "chlorite",
  "dolomite",
  "goethite",
  "gypsum",
  "hematite",
  "illite+muscovite",
  "kaolinite",
  "montmorillonite",
  "vermiculite"
 ],
 "allowCopy": false,
 "allowAnalysis": true,
 "itemAccess": false,
 "inspectionCapabilities": "",
 "minPixelSize": 0,
 "maxPixelSize": 0,
 "copyrightText": "",
 "serviceDataType": "esriImageServiceDataTypeGeneric",
 "serviceSourceType": "esriImageServiceSourceTypeMosaicDataset",
 "objectIdField": "OBJECTID",
 "fields": [
  {
   "name": "OBJECTID",
   "type": "esriFieldTypeOID",
   "alias": "OBJECTID",
   "domain": null
  },
  {
   "name": "Shape",
   "type": "esriFieldTypeGeometry",
   "alias": "Shape",
   "domain": null
  },
  {
   "name": "Name",
   "type": "esriFieldTypeString",
   "alias": "Name",
   "domain": null,
   "length": 200
  },
  {
   "name": "MinPS",
   "type": "esriFieldTypeDouble",
   "alias": "MinPS",
   "domain": null
  },
  {
   "name": "MaxPS",
   "type": "esriFieldTypeDouble",
   "alias": "MaxPS",
   "domain": null
  },
  {
   "name": "LowPS",
   "type": "esriFieldTypeDouble",
   "alias": "LowPS",
   "domain": null
  },
  {
   "name": "HighPS",
   "type": "esriFieldTypeDouble",
   "alias": "HighPS",
   "domain": null
  },
  {
   "name": "Category",
   "type": "esriFieldTypeInteger",
   "alias": "Category",
   "domain": {
    "type": "codedValue",
    "name": "MosaicCatalogItemCategoryDomain",
    "description": "Catalog item categories.",
    "codedValues": [
     {
      "name": "Unknown",
      "code": 0
     },
     {
      "name": "Primary",
      "code": 1
     },
     {
      "name": "Overview",
      "code": 2
     },
     {
      "name": "Unprocessed Overview",
      "code": 3
     },
     {
      "name": "Partial Overview",
      "code": 4
     },
     {
      "name": "Inactive",
      "code": 5
     },
     {
      "name": "Uploaded",
      "code": 253
     },
     {
      "name": "Incomplete",
      "code": 254
     },
     {
      "name": "Custom",
      "code": 255
     }
    ],
    "mergePolicy": "esriMPTDefaultValue",
    "splitPolicy": "esriSPTDefaultValue"
   }
  },
  {
   "name": "Tag",
   "type": "esriFieldTypeString",
   "alias": "Tag",
   "domain": null,
   "length": 100
  },
  {
   "name": "GroupName",
   "type": "esriFieldTypeString",
   "alias": "GroupName",
   "domain": null,
   "length": 100
  },
  {
   "name": "ProductName",
   "type": "esriFieldTypeString",
   "alias": "ProductName",
   "domain": null,
   "length": 100
  },
  {
   "name": "CenterX",
   "type": "esriFieldTypeDouble",
   "alias": "CenterX",
   "domain": null
  },
  {
   "name": "CenterY",
   "type": "esriFieldTypeDouble",
   "alias": "CenterY",
   "domain": null
  },
  {
   "name": "ZOrder",
   "type": "esriFieldTypeInteger",
   "alias": "ZOrder",
   "domain": null
  },
  {
   "name": "Shape_Length",
   "type": "esriFieldTypeDouble",
   "alias": "Shape_Length",
   "domain": null
  },
  {
   "name": "Shape_Area",
   "type": "esriFieldTypeDouble",
   "alias": "Shape_Area",
   "domain": null
  },
  {
   "name": "ToSunZenith",
   "type": "esriFieldTypeDouble",
   "alias": "ToSunZenith",
   "domain": null
  },
  {
   "name": "TotalCloudFraction",
   "type": "esriFieldTypeDouble",
   "alias": "TotalCloudFraction",
   "domain": null
  },
  {
   "name": "AcquisitionDate",
   "type": "esriFieldTypeDate",
   "alias": "AcquisitionDate",
   "domain": null,
   "length": 8
  }
 ],
 "capabilities": "Catalog,Mensuration,Image,Metadata",
 "defaultMosaicMethod": "ByAttribute",
 "allowedMosaicMethods": "ByAttribute,NorthWest,Center,LockRaster,Nadir,Viewpoint,Seamline,None",
 "sortField": "ToSunZenith",
 "sortValue": "",
 "sortAscending": true,
 "mosaicOperator": "First",
 "maxDownloadSizeLimit": 2048,
 "defaultCompressionQuality": 75,
 "defaultResamplingMethod": "Nearest",
 "maxImageHeight": 4100,
 "maxImageWidth": 15000,
 "maxRecordCount": 1000,
 "maxDownloadImageCount": 20,
 "maxMosaicImageCount": 20,
 "allowRasterFunction": true,
 "rasterFunctionInfos": [
  {
   "name": "None",
   "description": "Make a Raster or Raster Dataset into a Function Raster Dataset.",
   "help": ""
  },
  {
   "name": "Calcite_Abundance_m1",
   "description": "Calcite_Abundance_m1 extract band and stretch",
   "help": ""
  },
  {
   "name": "Chlorite_Abundance_m1",
   "description": "Chlorite_Abundance_m1 extract band and stretch",
   "help": ""
  },
  {
   "name": "Dolomite_Abundance_m1",
   "description": "Dolomite_Abundance_m1 extract band and stretch",
   "help": ""
  },
  {
   "name": "Goethite_Abundance_m1",
   "description": "Goethite_Abundance_m1 extract band and stretch",
   "help": ""
  },
  {
   "name": "Gypsum_Abundance_m1",
   "description": "Gypsum_Abundance_m1 extract band and stretch",
   "help": ""
  },
  {
   "name": "Hematite_Abundance_m1",
   "description": "Hematite_Abundance_m1 extract band and stretch",
   "help": ""
  },
  {
   "name": "Illite+Muscovite_Abundance_m1",
   "description": "Illite+Muscovite_Abundance_m1 extract band and stretch",
   "help": ""
  },
  {
   "name": "Kaolinite_Abundance_m1",
   "description": "Kaolinite_Abundance_m1 extract band and stretch",
   "help": ""
  },
  {
   "name": "Montmorillonite_Abundance_m1",
   "description": "Montmorillonite_Abundance_m1 extract band and stretch",
   "help": ""
  },
  {
   "name": "RGB_Hematite_Goethite_Kaolinite_Abundance_M1",
   "description": "RGB_Hematite_Goethite_Kaolinite_Abundance_M1",
   "help": ""
  },
  {
   "name": "RGB_Montmorillonite_Illite+Muscovite_Calcite_Abundance_M1",
   "description": "RGB_Montmorillonite_Illite+Muscovite_Calcite_Abundance_M1",
   "help": ""
  },
  {
   "name": "Vermiculite_Abundance_m1",
   "description": "Vermiculite_Abundance_m1 extract band and stretch",
   "help": ""
  }
 ],
 "rasterTypeInfos": [
  {
   "name": "Raster Dataset",
   "description": "Supports all ArcGIS Raster Datasets",
   "help": ""
  }
 ],
 "mensurationCapabilities": "Basic",
 "hasHistograms": true,
 "hasColormap": false,
 "hasRasterAttributeTable": false,
 "minScale": 0,
 "maxScale": 0,
 "exportTilesAllowed": false,
 "supportsStatistics": true,
 "supportsAdvancedQueries": true,
 "editFieldsInfo": null,
 "ownershipBasedAccessControlForRasters": null,
 "allowComputeTiePoints": false,
 "useStandardizedQueries": true,
 "advancedQueryCapabilities": {
  "useStandardizedQueries": true,
  "supportsStatistics": true,
  "supportsOrderBy": true,
  "supportsDistinct": true,
  "supportsPagination": true
 },
 "spatialReference": {
  "wkid": 4326,
  "latestWkid": 4326
 },
 "resampling": false
}
