{
 "currentVersion": 11.3,
 "serviceDescription": "NASA_EMIT/EMIT_L2A_Reflectance_RGB_crf",
 "name": "NASA_EMIT/EMIT_L2A_Reflectance_RGB_crf",
 "description": "",
 "extent": {
  "xmin": 3132888.7300000004,
  "ymin": 1187054.5600465015,
  "xmax": 6719964.732258862,
  "ymax": 4388061.299000002,
  "spatialReference": {
   "wkid": 102100,
   "latestWkid": 3857
  }
 },
 "initialExtent": {
  "xmin": 3132888.7300000004,
  "ymin": 1187054.5600465015,
  "xmax": 6719964.732258862,
  "ymax": 4388061.299000002,
  "spatialReference": {
   "wkid": 102100,
   "latestWkid": 3857
  }
 },
 "fullExtent": {
  "xmin": 3132888.7300000004,
  "ymin": 1187054.5600465015,
  "xmax": 6719964.732258862,
  "ymax": 4388061.299000002,
  "spatialReference": {
   "wkid": 102100,
   "latestWkid": 3857
  }
 },
 "sortableFields": "",
 "bandCount": 3,
 "pixelType": "F32",
 "minValues": [
  0,
  0,
  0
 ],
 "maxValues": [
  255,
  255,
  255
 ],
 "meanValues": [
  163.05082729779562,
  118.05485764949916,
  83.6968450874079
 ],
 "stdvValues": [
  70.55220951366941,
  48.905040733390784,
  34.050855911953306
 ],
 "hasMultidimensions": false,
 "pixelSizeX": 60.36104804649169,
 "pixelSizeY": 60.361048046491696,
 "meanPixelSize": 60.36104804649169,
 "datasetFormat": "Cache/LERC2D",
 "uncompressedSize": 37817678844,
 "blockWidth": 256,
 "blockHeight": 256,
 "compressionType": "LERC2D",
 "bandNames": [
  "Band_39",
  "Band_24",
  "Band_14"
 ],
 "allowCopy": false,
 "allowAnalysis": true,
 "itemAccess": false,
 "inspectionCapabilities": "",
 "minPixelSize": 0,
 "maxPixelSize": 0,
 "copyrightText": "",
 "serviceDataType": "esriImageServiceDataTypeGeneric",
 "serviceSourceType": "esriImageServiceSourceTypeDataset",
 "objectIdField": "",
 "fields": [],
 "capabilities": "Mensuration,Image,Metadata",
 "defaultMosaicMethod": "Center",
 "allowedMosaicMethods": "",
 "sortField": "",
 "sortValue": null,
 "sortAscending": true,
 "mosaicOperator": "First",
 "defaultCompressionQuality": 75,
 "defaultResamplingMethod": "Nearest",
 "maxImageHeight": 4100,
 "maxImageWidth": 15000,
 "allowRasterFunction": true,
 "rasterFunctionInfos": [
  {
   "name": "None",
   "description": "",
   "help": ""
  }
 ],
 "rasterTypeInfos": [
  {
   "name": "Raster Dataset",
   "description": "Supports all ArcGIS Raster Datasets",
   "help": ""
  }
 ],
 "mensurationCapabilities": "Basic",
 "hasHistograms": true,
 "hasColormap": false,
 "hasRasterAttributeTable": false,
 "minScale": 0,
 "maxScale": 0,
 "exportTilesAllowed": false,
 "supportsStatistics": false,
 "supportsAdvancedQueries": false,
 "editFieldsInfo": null,
 "ownershipBasedAccessControlForRasters": null,
 "allowComputeTiePoints": false,
 "useStandardizedQueries": true,
 "advancedQueryCapabilities": {
  "useStandardizedQueries": true,
  "supportsStatistics": false,
  "supportsOrderBy": false,
  "supportsDistinct": false,
  "supportsPagination": false
 },
 "spatialReference": {
  "wkid": 102100,
  "latestWkid": 3857
 },
 "resampling": false
}
