{
 "currentVersion": 11.3,
 "serviceDescription": "NASA_EMIT/EMIT_L2B_Abundance",
 "name": "NASA_EMIT/EMIT_L2B_Abundance",
 "description": "",
 "extent": {
  "xmin": 3132888.7300000004,
  "ymin": 1187054.5600465038,
  "xmax": 6719964.73225886,
  "ymax": 4388061.299000002,
  "spatialReference": {
   "wkid": 102100,
   "latestWkid": 3857
  }
 },
 "initialExtent": {
  "xmin": 3132888.7300000004,
  "ymin": 1187054.5600465038,
  "xmax": 6719964.73225886,
  "ymax": 4388061.299000002,
  "spatialReference": {
   "wkid": 102100,
   "latestWkid": 3857
  }
 },
 "fullExtent": {
  "xmin": 3132888.7300000004,
  "ymin": 1187054.5600465038,
  "xmax": 6719964.73225886,
  "ymax": 4388061.299000002,
  "spatialReference": {
   "wkid": 102100,
   "latestWkid": 3857
  }
 },
 "sortableFields": "",
 "bandCount": 10,
 "pixelType": "F32",
 "minValues": [
  0,
  0,
  0,
  0,
  0,
  0,
  -0.5,
  -0.33725491166114807,
  -0.3450980484485626,
  0
 ],
 "maxValues": [
  0.4975000023841858,
  0.5,
  0.49799999594688416,
  0.5,
  0.24972550570964813,
  0.42500001192092896,
  0.41372549533843994,
  0.5,
  0.41999998688697815,
  0.1070588231086731
 ],
 "meanValues": [
  0.05519291205070984,
  0.004505556027043425,
  0.0032942401146123443,
  0.004636305389817192,
  9.491161577214652E-5,
  0.0037254789383923074,
  0.009280103724134979,
  0.006785565806154657,
  0.002661295821649038,
  2.0350764190316933E-6
 ],
 "stdvValues": [
  0.08788295123686825,
  0.021159244929297497,
  0.016900050742635796,
  0.01172026352538573,
  0.002323411654487208,
  0.005878733039947934,
  0.015540272305635537,
  0.020019254111886684,
  0.009352211867635747,
  1.4811141125228898E-4
 ],
 "hasMultidimensions": false,
 "pixelSizeX": 60.36104804649165,
 "pixelSizeY": 60.361048046491646,
 "meanPixelSize": 60.361048046491646,
 "datasetFormat": "Cache/LERC2D",
 "uncompressedSize": 126058929480,
 "blockWidth": 256,
 "blockHeight": 256,
 "compressionType": "LERC2D",
 "bandNames": [
  "Calcite",
  "Chlorite",
  "Dolomite",
  "Goethite",
  "Gypsum",
  "Hematite",
  "Illite+Muscovite",
  "Kaolinite",
  "Montmorillonite",
  "Vermiculite"
 ],
 "allowCopy": false,
 "allowAnalysis": true,
 "itemAccess": false,
 "inspectionCapabilities": "",
 "noDataValue": -9999,
 "noDataValues": [
  -9999,
  -9999,
  -9999,
  -9999,
  -9999,
  -9999,
  -9999,
  -9999,
  -9999,
  -9999
 ],
 "minPixelSize": 0,
 "maxPixelSize": 0,
 "copyrightText": "",
 "serviceDataType": "esriImageServiceDataTypeGeneric",
 "serviceSourceType": "esriImageServiceSourceTypeDataset",
 "objectIdField": "",
 "fields": [],
 "capabilities": "Image,Metadata,Pixels,Mensuration",
 "defaultMosaicMethod": "Center",
 "allowedMosaicMethods": "",
 "sortField": "",
 "sortValue": null,
 "sortAscending": true,
 "mosaicOperator": "First",
 "defaultCompressionQuality": 100,
 "defaultResamplingMethod": "Nearest",
 "maxImageHeight": 4100,
 "maxImageWidth": 15000,
 "allowRasterFunction": true,
 "rasterFunctionInfos": [
  {
   "name": "None",
   "description": "Make a Raster or Raster Dataset into a Function Raster Dataset.",
   "help": ""
  },
  {
   "name": "Spectral_Abundance_Composite_RGB_Hematite_Goethite_Kaolinite",
   "description": "Spectral_Abundance_Composite_RGB_Hematite_Goethite_Kaolinite\nR: Hematite, Gamma=1.5, Min=0, Max=0.1\nG: Goethite, Gamma=1.5, Min=0, Max=0.1\nB: Kaolinite, Gamma=1.5, Min=0, Max=0.2",
   "help": ""
  },
  {
   "name": "Spectral_Abundance_Composite_RGB_Montmorillonite_IlliteMuscovite_Calcite",
   "description": "Spectral_Abundance_Composite_RGB_Montmorillonite_IlliteMuscovite_Calcite\nR: Montmorillonite, Gamma=1.5, Min=0, Max=0.1\nG: Illite+Muscovite, Gamma=1.5, Min=0, Max=0.2\nB: Calcite, Gamma=1.5, Min=0, Max=0.3\n",
   "help": ""
  },
  {
   "name": "Spectral_Abundance_Calcite",
   "description": "Spectral Abundance - Calcite\ngamma=1, Min=0, Max=0.4",
   "help": ""
  },
  {
   "name": "Spectral_Abundance_Chlorite",
   "description": "Spectral_Abundance_Chlorite\ngamma=1, Min=0. Max=0.2",
   "help": ""
  },
  {
   "name": "Spectral_Abundance_Dolomite",
   "description": "Spectral_Abundance_Dolomite\nGamma=1, Min=0, Max=0.2",
   "help": ""
  },
  {
   "name": "Spectral_Abundance_Goethite",
   "description": "Spectral_Abundance_Goethite\nGamma=1, Min=0, Max=0.1",
   "help": ""
  },
  {
   "name": "Spectral_Abundance_Gypsum",
   "description": "Spectral_Abundance_Gypsum\nGamma=1, Min=0, Max=0.1",
   "help": ""
  },
  {
   "name": "Spectral_Abundance_Hematite",
   "description": "Spectral_Abundance_Hematite\nGamma=1, Min=0, Max=0.1",
   "help": ""
  },
  {
   "name": "Spectral_Abundance_Illite_Muscovite",
   "description": "Spectral_Abundance_Illite+Muscovite\nGamma=1, min=0, Max=0.2",
   "help": ""
  },
  {
   "name": "Spectral_Abundance_Kaolinite",
   "description": "Spectral_Abundance_Kaolinite\nGamma=1, Min=0, Max=0.2",
   "help": ""
  },
  {
   "name": "Spectral_Abundance_Montmorillonite",
   "description": "Spectral_Abundance_Montmorillonite\nGamma=1, Min=0, Max=0.1",
   "help": ""
  },
  {
   "name": "Spectral_Abundance_Vermiculite",
   "description": "Spectral_Abundance_Vermiculite\nGamma=1, Min=0, Max=0.02",
   "help": ""
  }
 ],
 "rasterTypeInfos": [
  {
   "name": "Raster Dataset",
   "description": "Supports all ArcGIS Raster Datasets",
   "help": ""
  }
 ],
 "mensurationCapabilities": "Basic",
 "hasHistograms": true,
 "hasColormap": false,
 "hasRasterAttributeTable": false,
 "minScale": 0,
 "maxScale": 0,
 "exportTilesAllowed": false,
 "supportsStatistics": false,
 "supportsAdvancedQueries": false,
 "editFieldsInfo": null,
 "ownershipBasedAccessControlForRasters": null,
 "allowComputeTiePoints": false,
 "useStandardizedQueries": true,
 "advancedQueryCapabilities": {
  "useStandardizedQueries": true,
  "supportsStatistics": false,
  "supportsOrderBy": false,
  "supportsDistinct": false,
  "supportsPagination": false
 },
 "spatialReference": {
  "wkid": 102100,
  "latestWkid": 3857
 }
}
