{
 "currentVersion": 11.3,
 "serviceDescription": "NASA_EMIT/EMIT_L2B_Abundance_MD",
 "name": "NASA_EMIT/EMIT_L2B_Abundance_MD",
 "description": "",
 "extent": {
  "xmin": 3132888.7300000004,
  "ymin": 1187054.5600465033,
  "xmax": 6719964.73225886,
  "ymax": 4388061.299000002,
  "spatialReference": {
   "wkid": 102100,
   "latestWkid": 3857
  }
 },
 "initialExtent": {
  "xmin": 3132888.7300000004,
  "ymin": 1187054.5600465033,
  "xmax": 6719964.73225886,
  "ymax": 4388061.299000002,
  "spatialReference": {
   "wkid": 102100,
   "latestWkid": 3857
  }
 },
 "fullExtent": {
  "xmin": 3132888.7300000004,
  "ymin": 1187054.5600465033,
  "xmax": 6719964.73225886,
  "ymax": 4388061.299000002,
  "spatialReference": {
   "wkid": 102100,
   "latestWkid": 3857
  }
 },
 "sortableFields": "MinPS,MaxPS,LowPS,HighPS,CenterX,CenterY,ZOrder,Shape_Length,Shape_Area,Aspect,CloudCirrusF,CloudF,CloudsBufferF,Cosine,DAAC_index,EarthSunDist,FID_index,Orbit,OrbitSegment,PathLength,RetrievedAOTMedian,RetrievedEleMedian,RetrievedWVMedian,ScreenedOnboardFraction,Slope,SolarPhase,ToSensorAzimuth,ToSensorZenith,ToSunAzimuth,ToSunZenith,TotalCloudFraction,UTCTime,dcid",
 "bandCount": 10,
 "pixelType": "F64",
 "minValues": [
  -0.015388530446216464,
  1.9757200789172208E-4,
  -0.005125578260958719,
  -9.170744458515401E-4,
  0,
  -3.414616925283553E-4,
  -0.0016221518235397525,
  -0.0010013307542067196,
  -0.00162957079055559,
  0
 ],
 "maxValues": [
  0.49899141187779605,
  0.3209403123217954,
  0.45595866092571674,
  0.20352071296724714,
  0.21722120927108793,
  0.18003847486158978,
  0.27005554759671213,
  0.3111526504721951,
  0.23678741842786627,
  0.14481465084827508
 ],
 "meanValues": [
  0.04592095667277275,
  0.0013146665729489606,
  0.010579367948702605,
  0.009167765008987102,
  1.2820959035120144E-4,
  0.012244297343417058,
  0.012155510283206309,
  0.0022703522194809926,
  0.002100648767640532,
  2.0571191805322624E-4
 ],
 "stdvValues": [
  0.05963938612641548,
  0.010023412816434816,
  0.024151447927846223,
  0.013957650951374611,
  0.0019125600822332116,
  0.01884668182694363,
  0.019981277592488782,
  0.011894599124650672,
  0.00887845659751555,
  9.724435117406966E-4
 ],
 "hasMultidimensions": false,
 "pixelSizeX": 60.36104804649165,
 "pixelSizeY": 60.36104804649166,
 "meanPixelSize": 60.36104804649166,
 "datasetFormat": "AMD",
 "uncompressedSize": 252117858960,
 "blockWidth": 2048,
 "blockHeight": 256,
 "compressionType": "None",
 "bandNames": [
  "Calcite",
  "Chlorite",
  "Dolomite",
  "Goethite",
  "Gypsum",
  "Hematite",
  "Illite+Muscovite",
  "Kaolinite",
  "Montmorillonite",
  "Vermiculite"
 ],
 "allowCopy": false,
 "allowAnalysis": true,
 "itemAccess": false,
 "inspectionCapabilities": "",
 "noDataValue": -9999,
 "noDataValues": [
  -9999,
  -9999,
  -9999,
  -9999,
  -9999,
  -9999,
  -9999,
  -9999,
  -9999,
  -9999
 ],
 "minPixelSize": 0,
 "maxPixelSize": 0,
 "copyrightText": "",
 "serviceDataType": "esriImageServiceDataTypeGeneric",
 "serviceSourceType": "esriImageServiceSourceTypeMosaicDataset",
 "objectIdField": "OBJECTID",
 "fields": [
  {
   "name": "OBJECTID",
   "type": "esriFieldTypeOID",
   "alias": "OBJECTID",
   "domain": null
  },
  {
   "name": "Shape",
   "type": "esriFieldTypeGeometry",
   "alias": "Shape",
   "domain": null
  },
  {
   "name": "Name",
   "type": "esriFieldTypeString",
   "alias": "Name",
   "domain": null,
   "length": 200
  },
  {
   "name": "MinPS",
   "type": "esriFieldTypeDouble",
   "alias": "MinPS",
   "domain": null
  },
  {
   "name": "MaxPS",
   "type": "esriFieldTypeDouble",
   "alias": "MaxPS",
   "domain": null
  },
  {
   "name": "LowPS",
   "type": "esriFieldTypeDouble",
   "alias": "LowPS",
   "domain": null
  },
  {
   "name": "HighPS",
   "type": "esriFieldTypeDouble",
   "alias": "HighPS",
   "domain": null
  },
  {
   "name": "Category",
   "type": "esriFieldTypeInteger",
   "alias": "Category",
   "domain": {
    "type": "codedValue",
    "name": "MosaicCatalogItemCategoryDomain",
    "description": "Catalog item categories.",
    "codedValues": [
     {
      "name": "Unknown",
      "code": 0
     },
     {
      "name": "Primary",
      "code": 1
     },
     {
      "name": "Overview",
      "code": 2
     },
     {
      "name": "Unprocessed Overview",
      "code": 3
     },
     {
      "name": "Partial Overview",
      "code": 4
     },
     {
      "name": "Inactive",
      "code": 5
     },
     {
      "name": "Uploaded",
      "code": 253
     },
     {
      "name": "Incomplete",
      "code": 254
     },
     {
      "name": "Custom",
      "code": 255
     }
    ],
    "mergePolicy": "esriMPTDefaultValue",
    "splitPolicy": "esriSPTDefaultValue"
   }
  },
  {
   "name": "Tag",
   "type": "esriFieldTypeString",
   "alias": "Tag",
   "domain": null,
   "length": 100
  },
  {
   "name": "GroupName",
   "type": "esriFieldTypeString",
   "alias": "GroupName",
   "domain": null,
   "length": 100
  },
  {
   "name": "ProductName",
   "type": "esriFieldTypeString",
   "alias": "ProductName",
   "domain": null,
   "length": 100
  },
  {
   "name": "CenterX",
   "type": "esriFieldTypeDouble",
   "alias": "CenterX",
   "domain": null
  },
  {
   "name": "CenterY",
   "type": "esriFieldTypeDouble",
   "alias": "CenterY",
   "domain": null
  },
  {
   "name": "ZOrder",
   "type": "esriFieldTypeInteger",
   "alias": "ZOrder",
   "domain": null
  },
  {
   "name": "Aspect",
   "type": "esriFieldTypeDouble",
   "alias": "Aspect",
   "domain": null
  },
  {
   "name": "CloudCirrusF",
   "type": "esriFieldTypeDouble",
   "alias": "CloudCirrusF",
   "domain": null
  },
  {
   "name": "CloudF",
   "type": "esriFieldTypeDouble",
   "alias": "CloudF",
   "domain": null
  },
  {
   "name": "CloudsBufferF",
   "type": "esriFieldTypeDouble",
   "alias": "CloudsBufferF",
   "domain": null
  },
  {
   "name": "Cosine",
   "type": "esriFieldTypeDouble",
   "alias": "Cosine",
   "domain": null
  },
  {
   "name": "DAAC_index",
   "type": "esriFieldTypeInteger",
   "alias": "DAAC_index",
   "domain": null
  },
  {
   "name": "EarthSunDist",
   "type": "esriFieldTypeDouble",
   "alias": "EarthSunDist",
   "domain": null
  },
  {
   "name": "FID_index",
   "type": "esriFieldTypeInteger",
   "alias": "FID_index",
   "domain": null
  },
  {
   "name": "L1BObservationDownload",
   "type": "esriFieldTypeString",
   "alias": "L1BObservationDownload",
   "domain": null,
   "length": 8000
  },
  {
   "name": "L1BRadianceDownload",
   "type": "esriFieldTypeString",
   "alias": "L1BRadianceDownload",
   "domain": null,
   "length": 8000
  },
  {
   "name": "L2AMaskDownload",
   "type": "esriFieldTypeString",
   "alias": "L2AMaskDownload",
   "domain": null,
   "length": 8000
  },
  {
   "name": "L2AReflectanceDownload",
   "type": "esriFieldTypeString",
   "alias": "L2AReflectanceDownload",
   "domain": null,
   "length": 8000
  },
  {
   "name": "L2AReflUncDownload",
   "type": "esriFieldTypeString",
   "alias": "L2AReflUncDownload",
   "domain": null,
   "length": 8000
  },
  {
   "name": "Orbit",
   "type": "esriFieldTypeInteger",
   "alias": "Orbit",
   "domain": null
  },
  {
   "name": "OrbitSegment",
   "type": "esriFieldTypeInteger",
   "alias": "OrbitSegment",
   "domain": null
  },
  {
   "name": "PathLength",
   "type": "esriFieldTypeDouble",
   "alias": "PathLength",
   "domain": null
  },
  {
   "name": "RetrievedAOTMedian",
   "type": "esriFieldTypeDouble",
   "alias": "RetrievedAOTMedian",
   "domain": null
  },
  {
   "name": "RetrievedEleMedian",
   "type": "esriFieldTypeDouble",
   "alias": "RetrievedEleMedian",
   "domain": null
  },
  {
   "name": "RetrievedWVMedian",
   "type": "esriFieldTypeDouble",
   "alias": "RetrievedWVMedian",
   "domain": null
  },
  {
   "name": "ScreenedOnboardFraction",
   "type": "esriFieldTypeDouble",
   "alias": "ScreenedOnboardFraction",
   "domain": null
  },
  {
   "name": "Slope",
   "type": "esriFieldTypeDouble",
   "alias": "Slope",
   "domain": null
  },
  {
   "name": "SolarPhase",
   "type": "esriFieldTypeDouble",
   "alias": "SolarPhase",
   "domain": null
  },
  {
   "name": "ToSensorAzimuth",
   "type": "esriFieldTypeDouble",
   "alias": "ToSensorAzimuth",
   "domain": null
  },
  {
   "name": "ToSensorZenith",
   "type": "esriFieldTypeDouble",
   "alias": "ToSensorZenith",
   "domain": null
  },
  {
   "name": "ToSunAzimuth",
   "type": "esriFieldTypeDouble",
   "alias": "ToSunAzimuth",
   "domain": null
  },
  {
   "name": "ToSunZenith",
   "type": "esriFieldTypeDouble",
   "alias": "ToSunZenith",
   "domain": null
  },
  {
   "name": "TotalCloudFraction",
   "type": "esriFieldTypeDouble",
   "alias": "TotalCloudFraction",
   "domain": null
  },
  {
   "name": "UTCTime",
   "type": "esriFieldTypeDouble",
   "alias": "UTCTime",
   "domain": null
  },
  {
   "name": "dcid",
   "type": "esriFieldTypeInteger",
   "alias": "dcid",
   "domain": null
  },
  {
   "name": "end_time",
   "type": "esriFieldTypeString",
   "alias": "end_time",
   "domain": null,
   "length": 8000
  },
  {
   "name": "fid",
   "type": "esriFieldTypeString",
   "alias": "fid",
   "domain": null,
   "length": 8000
  },
  {
   "name": "start_time",
   "type": "esriFieldTypeString",
   "alias": "start_time",
   "domain": null,
   "length": 8000
  },
  {
   "name": "Name_fromURL",
   "type": "esriFieldTypeString",
   "alias": "Name_fromURL",
   "domain": null,
   "length": 8000
  },
  {
   "name": "Shape_Length",
   "type": "esriFieldTypeDouble",
   "alias": "Shape_Length",
   "domain": null
  },
  {
   "name": "Shape_Area",
   "type": "esriFieldTypeDouble",
   "alias": "Shape_Area",
   "domain": null
  }
 ],
 "capabilities": "Catalog,Mensuration,Pixels,Image,Metadata",
 "defaultMosaicMethod": "ByAttribute",
 "allowedMosaicMethods": "ByAttribute,NorthWest,Center,LockRaster,Nadir,Viewpoint,Seamline,None",
 "sortField": "ToSunZenith",
 "sortValue": "",
 "sortAscending": true,
 "mosaicOperator": "First",
 "maxDownloadSizeLimit": 2048,
 "defaultCompressionQuality": 75,
 "defaultResamplingMethod": "Nearest",
 "maxImageHeight": 4100,
 "maxImageWidth": 15000,
 "maxRecordCount": 1000,
 "maxDownloadImageCount": 20,
 "maxMosaicImageCount": 50,
 "allowRasterFunction": true,
 "rasterFunctionInfos": [
  {
   "name": "None",
   "description": "Make a Raster or Raster Dataset into a Function Raster Dataset.",
   "help": ""
  },
  {
   "name": "Spectral_Abundance_Composite_RGB_Hematite_Goethite_Kaolinite",
   "description": "Spectral_Abundance_Composite_RGB_Hematite_Goethite_Kaolinite\nR: Hematite, Gamma=1.5, Min=0, Max=0.1\nG: Goethite, Gamma=1.5, Min=0, Max=0.1\nB: Kaolinite, Gamma=1.5, Min=0, Max=0.2",
   "help": ""
  },
  {
   "name": "Spectral_Abundance_Composite_RGB_Montmorillonite_IlliteMuscovite_Calcite",
   "description": "Spectral_Abundance_Composite_RGB_Montmorillonite_IlliteMuscovite_Calcite\nR: Montmorillonite, Gamma=1.5, Min=0, Max=0.1\nG: Illite+Muscovite, Gamma=1.5, Min=0, Max=0.2\nB: Calcite, Gamma=1.5, Min=0, Max=0.3\n",
   "help": ""
  },
  {
   "name": "Spectral_Abundance_Calcite",
   "description": "Spectral Abundance - Calcite\ngamma=1, Min=0, Max=0.4",
   "help": ""
  },
  {
   "name": "Spectral_Abundance_Chlorite",
   "description": "Spectral_Abundance_Chlorite\ngamma=1, Min=0. Max=0.2",
   "help": ""
  },
  {
   "name": "Spectral_Abundance_Dolomite",
   "description": "Spectral_Abundance_Dolomite\nGamma=1, Min=0, Max=0.2",
   "help": ""
  },
  {
   "name": "Spectral_Abundance_Goethite",
   "description": "Spectral_Abundance_Goethite\nGamma=1, Min=0, Max=0.1",
   "help": ""
  },
  {
   "name": "Spectral_Abundance_Gypsum",
   "description": "Spectral_Abundance_Gypsum\nGamma=1, Min=0, Max=0.1",
   "help": ""
  },
  {
   "name": "Spectral_Abundance_Hematite",
   "description": "Spectral_Abundance_Hematite\nGamma=1, Min=0, Max=0.1",
   "help": ""
  },
  {
   "name": "Spectral_Abundance_Illite_Muscovite",
   "description": "Spectral_Abundance_Illite+Muscovite\nGamma=1, min=0, Max=0.2",
   "help": ""
  },
  {
   "name": "Spectral_Abundance_Kaolinite",
   "description": "Spectral_Abundance_Kaolinite\nGamma=1, Min=0, Max=0.2",
   "help": ""
  },
  {
   "name": "Spectral_Abundance_Montmorillonite",
   "description": "Spectral_Abundance_Montmorillonite\nGamma=1, Min=0, Max=0.1",
   "help": ""
  },
  {
   "name": "Spectral_Abundance_Vermiculite",
   "description": "Spectral_Abundance_Vermiculite\nGamma=1, Min=0, Max=0.02",
   "help": ""
  }
 ],
 "rasterTypeInfos": [
  {
   "name": "Raster Dataset",
   "description": "Supports all ArcGIS Raster Datasets",
   "help": ""
  }
 ],
 "mensurationCapabilities": "Basic",
 "hasHistograms": true,
 "hasColormap": false,
 "hasRasterAttributeTable": false,
 "minScale": 0,
 "maxScale": 0,
 "exportTilesAllowed": false,
 "supportsStatistics": true,
 "supportsAdvancedQueries": true,
 "editFieldsInfo": null,
 "ownershipBasedAccessControlForRasters": null,
 "allowComputeTiePoints": false,
 "useStandardizedQueries": true,
 "advancedQueryCapabilities": {
  "useStandardizedQueries": true,
  "supportsStatistics": true,
  "supportsOrderBy": true,
  "supportsDistinct": true,
  "supportsPagination": true
 },
 "spatialReference": {
  "wkid": 102100,
  "latestWkid": 3857
 },
 "resampling": false
}
