{
 "currentVersion": 11.3,
 "serviceDescription": "NASA_EMIT/EMIT_L2B_abundance_mosaic_ANS_AP",
 "name": "NASA_EMIT/EMIT_L2B_abundance_mosaic_ANS_AP",
 "description": "",
 "extent": {
  "xmin": 3332140.5496000014,
  "ymin": 1149229.385602038,
  "xmax": 6702399.667275863,
  "ymax": 3930183.5912000015,
  "spatialReference": {
   "wkid": 102100,
   "latestWkid": 3857
  }
 },
 "initialExtent": {
  "xmin": 3332140.5496000014,
  "ymin": 1149229.385602038,
  "xmax": 6702399.667275863,
  "ymax": 3930183.5912000015,
  "spatialReference": {
   "wkid": 102100,
   "latestWkid": 3857
  }
 },
 "fullExtent": {
  "xmin": 3332140.5496000014,
  "ymin": 1149229.385602038,
  "xmax": 6702399.667275863,
  "ymax": 3930183.5912000015,
  "spatialReference": {
   "wkid": 102100,
   "latestWkid": 3857
  }
 },
 "sortableFields": "MinPS,MaxPS,LowPS,HighPS,CenterX,CenterY,ZOrder,Shape_Length,Shape_Area,Aspect,CloudCirrusF,CloudF,CloudsBufferF,Cosine,DAAC_index,EarthSunDist,FID_index,Orbit,OrbitSegment,PathLength,RetrievedAOTMedian,RetrievedEleMedian,RetrievedWVMedian,ScreenedOnboardFraction,Slope,SolarPhase,ToSensorAzimuth,ToSensorZenith,ToSunAzimuth,ToSunZenith,TotalCloudFraction,UTCTime,dcid",
 "bandCount": 10,
 "pixelType": "F64",
 "minValues": [
  9.765625E-4,
  6.280637462623418E-4,
  8.923100540414454E-4,
  3.9828431908972556E-4,
  4.25091915531084E-4,
  3.5232843947596853E-4,
  5.28492673765868E-4,
  6.089154630899429E-4,
  4.6338848187588166E-4,
  2.8339462005533283E-4
 ],
 "maxValues": [
  0.4990234375,
  0.3209405743400567,
  0.4559704376151786,
  0.20352328705484976,
  0.21722196883638392,
  0.18003983257221992,
  0.2700597562943585,
  0.31115580163896084,
  0.23679151423857553,
  0.14481465084827508
 ],
 "meanValues": [
  0.05210973884370866,
  0.0037842511614363003,
  0.005967724209423268,
  0.014676711952523878,
  5.327852793741008E-4,
  0.02752806592028228,
  0.03023018028726157,
  0.007487902943930423,
  0.005228359333215161,
  3.421265905355241E-4
 ],
 "stdvValues": [
  0.05361779068403334,
  0.018438703604380016,
  0.027678711720401032,
  0.02173121800413334,
  0.003290530280144988,
  0.02900539728132857,
  0.029436384656062683,
  0.0211429999155951,
  0.014383129700160084,
  0.0017961058574548295
 ],
 "hasMultidimensions": false,
 "pixelSizeX": 60.36104804649165,
 "pixelSizeY": 60.36104804649166,
 "meanPixelSize": 60.36104804649166,
 "datasetFormat": "AMD",
 "uncompressedSize": 205794409600,
 "blockWidth": 2048,
 "blockHeight": 256,
 "compressionType": "None",
 "bandNames": [
  "Calcite",
  "Chlorite",
  "Dolomite",
  "Goethite",
  "Gypsum",
  "Hematite",
  "Illite+Muscovite",
  "Kaolinite",
  "Montmorillonite",
  "Vermiculite"
 ],
 "allowCopy": true,
 "allowAnalysis": true,
 "itemAccess": false,
 "inspectionCapabilities": "",
 "noDataValue": -9999,
 "noDataValues": [
  -9999,
  -9999,
  -9999,
  -9999,
  -9999,
  -9999,
  -9999,
  -9999,
  -9999,
  -9999
 ],
 "minPixelSize": 0,
 "maxPixelSize": 0,
 "copyrightText": "",
 "serviceDataType": "esriImageServiceDataTypeGeneric",
 "serviceSourceType": "esriImageServiceSourceTypeMosaicDataset",
 "objectIdField": "OBJECTID",
 "fields": [
  {
   "name": "OBJECTID",
   "type": "esriFieldTypeOID",
   "alias": "OBJECTID",
   "domain": null
  },
  {
   "name": "Shape",
   "type": "esriFieldTypeGeometry",
   "alias": "Shape",
   "domain": null
  },
  {
   "name": "Name",
   "type": "esriFieldTypeString",
   "alias": "Name",
   "domain": null,
   "length": 200
  },
  {
   "name": "MinPS",
   "type": "esriFieldTypeDouble",
   "alias": "MinPS",
   "domain": null
  },
  {
   "name": "MaxPS",
   "type": "esriFieldTypeDouble",
   "alias": "MaxPS",
   "domain": null
  },
  {
   "name": "LowPS",
   "type": "esriFieldTypeDouble",
   "alias": "LowPS",
   "domain": null
  },
  {
   "name": "HighPS",
   "type": "esriFieldTypeDouble",
   "alias": "HighPS",
   "domain": null
  },
  {
   "name": "Category",
   "type": "esriFieldTypeInteger",
   "alias": "Category",
   "domain": {
    "type": "codedValue",
    "name": "MosaicCatalogItemCategoryDomain",
    "description": "Catalog item categories.",
    "codedValues": [
     {
      "name": "Unknown",
      "code": 0
     },
     {
      "name": "Primary",
      "code": 1
     },
     {
      "name": "Overview",
      "code": 2
     },
     {
      "name": "Unprocessed Overview",
      "code": 3
     },
     {
      "name": "Partial Overview",
      "code": 4
     },
     {
      "name": "Inactive",
      "code": 5
     },
     {
      "name": "Uploaded",
      "code": 253
     },
     {
      "name": "Incomplete",
      "code": 254
     },
     {
      "name": "Custom",
      "code": 255
     }
    ],
    "mergePolicy": "esriMPTDefaultValue",
    "splitPolicy": "esriSPTDefaultValue"
   }
  },
  {
   "name": "Tag",
   "type": "esriFieldTypeString",
   "alias": "Tag",
   "domain": null,
   "length": 100
  },
  {
   "name": "GroupName",
   "type": "esriFieldTypeString",
   "alias": "GroupName",
   "domain": null,
   "length": 100
  },
  {
   "name": "ProductName",
   "type": "esriFieldTypeString",
   "alias": "ProductName",
   "domain": null,
   "length": 100
  },
  {
   "name": "CenterX",
   "type": "esriFieldTypeDouble",
   "alias": "CenterX",
   "domain": null
  },
  {
   "name": "CenterY",
   "type": "esriFieldTypeDouble",
   "alias": "CenterY",
   "domain": null
  },
  {
   "name": "ZOrder",
   "type": "esriFieldTypeInteger",
   "alias": "ZOrder",
   "domain": null
  },
  {
   "name": "Aspect",
   "type": "esriFieldTypeDouble",
   "alias": "Aspect",
   "domain": null
  },
  {
   "name": "CloudCirrusF",
   "type": "esriFieldTypeDouble",
   "alias": "CloudCirrusF",
   "domain": null
  },
  {
   "name": "CloudF",
   "type": "esriFieldTypeDouble",
   "alias": "CloudF",
   "domain": null
  },
  {
   "name": "CloudsBufferF",
   "type": "esriFieldTypeDouble",
   "alias": "CloudsBufferF",
   "domain": null
  },
  {
   "name": "Cosine",
   "type": "esriFieldTypeDouble",
   "alias": "Cosine",
   "domain": null
  },
  {
   "name": "DAAC_index",
   "type": "esriFieldTypeInteger",
   "alias": "DAAC_index",
   "domain": null
  },
  {
   "name": "EarthSunDist",
   "type": "esriFieldTypeDouble",
   "alias": "EarthSunDist",
   "domain": null
  },
  {
   "name": "FID_index",
   "type": "esriFieldTypeInteger",
   "alias": "FID_index",
   "domain": null
  },
  {
   "name": "L1BObservationDownload",
   "type": "esriFieldTypeString",
   "alias": "L1BObservationDownload",
   "domain": null,
   "length": 8000
  },
  {
   "name": "L1BRadianceDownload",
   "type": "esriFieldTypeString",
   "alias": "L1BRadianceDownload",
   "domain": null,
   "length": 8000
  },
  {
   "name": "L2AMaskDownload",
   "type": "esriFieldTypeString",
   "alias": "L2AMaskDownload",
   "domain": null,
   "length": 8000
  },
  {
   "name": "L2AReflectanceDownload",
   "type": "esriFieldTypeString",
   "alias": "L2AReflectanceDownload",
   "domain": null,
   "length": 8000
  },
  {
   "name": "L2AReflUncDownload",
   "type": "esriFieldTypeString",
   "alias": "L2AReflUncDownload",
   "domain": null,
   "length": 8000
  },
  {
   "name": "Orbit",
   "type": "esriFieldTypeInteger",
   "alias": "Orbit",
   "domain": null
  },
  {
   "name": "OrbitSegment",
   "type": "esriFieldTypeInteger",
   "alias": "OrbitSegment",
   "domain": null
  },
  {
   "name": "PathLength",
   "type": "esriFieldTypeDouble",
   "alias": "PathLength",
   "domain": null
  },
  {
   "name": "RetrievedAOTMedian",
   "type": "esriFieldTypeDouble",
   "alias": "RetrievedAOTMedian",
   "domain": null
  },
  {
   "name": "RetrievedEleMedian",
   "type": "esriFieldTypeDouble",
   "alias": "RetrievedEleMedian",
   "domain": null
  },
  {
   "name": "RetrievedWVMedian",
   "type": "esriFieldTypeDouble",
   "alias": "RetrievedWVMedian",
   "domain": null
  },
  {
   "name": "ScreenedOnboardFraction",
   "type": "esriFieldTypeDouble",
   "alias": "ScreenedOnboardFraction",
   "domain": null
  },
  {
   "name": "Slope",
   "type": "esriFieldTypeDouble",
   "alias": "Slope",
   "domain": null
  },
  {
   "name": "SolarPhase",
   "type": "esriFieldTypeDouble",
   "alias": "SolarPhase",
   "domain": null
  },
  {
   "name": "ToSensorAzimuth",
   "type": "esriFieldTypeDouble",
   "alias": "ToSensorAzimuth",
   "domain": null
  },
  {
   "name": "ToSensorZenith",
   "type": "esriFieldTypeDouble",
   "alias": "ToSensorZenith",
   "domain": null
  },
  {
   "name": "ToSunAzimuth",
   "type": "esriFieldTypeDouble",
   "alias": "ToSunAzimuth",
   "domain": null
  },
  {
   "name": "ToSunZenith",
   "type": "esriFieldTypeDouble",
   "alias": "ToSunZenith",
   "domain": null
  },
  {
   "name": "TotalCloudFraction",
   "type": "esriFieldTypeDouble",
   "alias": "TotalCloudFraction",
   "domain": null
  },
  {
   "name": "UTCTime",
   "type": "esriFieldTypeDouble",
   "alias": "UTCTime",
   "domain": null
  },
  {
   "name": "dcid",
   "type": "esriFieldTypeInteger",
   "alias": "dcid",
   "domain": null
  },
  {
   "name": "end_time",
   "type": "esriFieldTypeString",
   "alias": "end_time",
   "domain": null,
   "length": 8000
  },
  {
   "name": "fid",
   "type": "esriFieldTypeString",
   "alias": "fid",
   "domain": null,
   "length": 8000
  },
  {
   "name": "start_time",
   "type": "esriFieldTypeString",
   "alias": "start_time",
   "domain": null,
   "length": 8000
  },
  {
   "name": "Name_fromURL",
   "type": "esriFieldTypeString",
   "alias": "Name_fromURL",
   "domain": null,
   "length": 8000
  },
  {
   "name": "Shape_Length",
   "type": "esriFieldTypeDouble",
   "alias": "Shape_Length",
   "domain": null
  },
  {
   "name": "Shape_Area",
   "type": "esriFieldTypeDouble",
   "alias": "Shape_Area",
   "domain": null
  }
 ],
 "capabilities": "Image,Metadata,Catalog",
 "defaultMosaicMethod": "ByAttribute",
 "allowedMosaicMethods": "ByAttribute,NorthWest,Center,LockRaster,Nadir,Viewpoint,Seamline,None",
 "sortField": "ToSunZenith",
 "sortValue": "",
 "sortAscending": true,
 "mosaicOperator": "First",
 "maxDownloadSizeLimit": 2048,
 "defaultCompressionQuality": 75,
 "defaultResamplingMethod": "Nearest",
 "maxImageHeight": 4100,
 "maxImageWidth": 15000,
 "maxRecordCount": 1000,
 "maxDownloadImageCount": 20,
 "maxMosaicImageCount": 50,
 "allowRasterFunction": true,
 "rasterFunctionInfos": [
  {
   "name": "None",
   "description": "Make a Raster or Raster Dataset into a Function Raster Dataset.",
   "help": ""
  },
  {
   "name": "R-G-B_Calcite-Gothite-Kaolinite",
   "description": "EMIT spectral abundance composite : Calcite-Gothite-Kaolinite",
   "help": ""
  },
  {
   "name": "R-G-B_Calcite-Gothite-Kaolinite (1)",
   "description": "EMIT spectral abundance composite : Calcite-Gothite-Kaolinite",
   "help": ""
  }
 ],
 "rasterTypeInfos": [
  {
   "name": "Raster Dataset",
   "description": "Supports all ArcGIS Raster Datasets",
   "help": ""
  }
 ],
 "mensurationCapabilities": "None",
 "hasHistograms": true,
 "hasColormap": false,
 "hasRasterAttributeTable": false,
 "minScale": 0,
 "maxScale": 0,
 "exportTilesAllowed": false,
 "supportsStatistics": true,
 "supportsAdvancedQueries": true,
 "editFieldsInfo": null,
 "ownershipBasedAccessControlForRasters": null,
 "allowComputeTiePoints": false,
 "useStandardizedQueries": true,
 "advancedQueryCapabilities": {
  "useStandardizedQueries": true,
  "supportsStatistics": true,
  "supportsOrderBy": true,
  "supportsDistinct": true,
  "supportsPagination": true
 },
 "spatialReference": {
  "wkid": 102100,
  "latestWkid": 3857
 }
}
