{
 "currentVersion": 11.3,
 "serviceDescription": "NASA_EMIT/MinimumWavelengthMap_2100_2400",
 "name": "NASA_EMIT/MinimumWavelengthMap_2100_2400",
 "description": "",
 "extent": {
  "xmin": 4036191.8139999993,
  "ymin": 3094312.492076599,
  "xmax": 4167537.454549166,
  "ymax": 3223364.412799999,
  "spatialReference": {
   "wkid": 102100,
   "latestWkid": 3857
  }
 },
 "initialExtent": {
  "xmin": 4036191.8139999993,
  "ymin": 3094312.492076599,
  "xmax": 4167537.454549166,
  "ymax": 3223364.412799999,
  "spatialReference": {
   "wkid": 102100,
   "latestWkid": 3857
  }
 },
 "fullExtent": {
  "xmin": 4036191.8139999993,
  "ymin": 3094312.492076599,
  "xmax": 4167537.454549166,
  "ymax": 3223364.412799999,
  "spatialReference": {
   "wkid": 102100,
   "latestWkid": 3857
  }
 },
 "sortableFields": "MinPS,MaxPS,LowPS,HighPS,CenterX,CenterY,ZOrder,Shape_Length,Shape_Area,Aspect,CloudCirrusF,CloudF,CloudsBufferF,Cosine,DAAC_index,EarthSunDist,FID_index,Orbit,OrbitSegment,PathLength,RetrievedAOTMedian,RetrievedEleMedian,RetrievedWVMedian,ScreenedOnboardFraction,Slope,SolarPhase,ToSensorAzimuth,ToSensorZenith,ToSunAzimuth,ToSunZenith,TotalCloudFraction,UTCTime,dcid,AcquisitionDate",
 "bandCount": 2,
 "pixelType": "F32",
 "minValues": [
  2.0999999046325684,
  -4.440892098500626E-16
 ],
 "maxValues": [
  2.4000000953674316,
  22.993446350097656
 ],
 "meanValues": [
  2.2783280037899694,
  0.12037027143506826
 ],
 "stdvValues": [
  0.06544097161575922,
  0.07263737489142066
 ],
 "hasMultidimensions": false,
 "pixelSizeX": 60.361048046492,
 "pixelSizeY": 60.36104804649209,
 "meanPixelSize": 60.361048046492044,
 "datasetFormat": "AMD",
 "uncompressedSize": 37218304,
 "blockWidth": 2048,
 "blockHeight": 256,
 "compressionType": "None",
 "bandNames": [
  "Band_1",
  "Band_2"
 ],
 "allowCopy": false,
 "allowAnalysis": true,
 "itemAccess": false,
 "inspectionCapabilities": "",
 "minPixelSize": 0,
 "maxPixelSize": 0,
 "copyrightText": "",
 "serviceDataType": "esriImageServiceDataTypeGeneric",
 "serviceSourceType": "esriImageServiceSourceTypeMosaicDataset",
 "objectIdField": "OBJECTID",
 "fields": [
  {
   "name": "OBJECTID",
   "type": "esriFieldTypeOID",
   "alias": "OBJECTID",
   "domain": null
  },
  {
   "name": "Shape",
   "type": "esriFieldTypeGeometry",
   "alias": "Shape",
   "domain": null
  },
  {
   "name": "Name",
   "type": "esriFieldTypeString",
   "alias": "Name",
   "domain": null,
   "length": 200
  },
  {
   "name": "MinPS",
   "type": "esriFieldTypeDouble",
   "alias": "MinPS",
   "domain": null
  },
  {
   "name": "MaxPS",
   "type": "esriFieldTypeDouble",
   "alias": "MaxPS",
   "domain": null
  },
  {
   "name": "LowPS",
   "type": "esriFieldTypeDouble",
   "alias": "LowPS",
   "domain": null
  },
  {
   "name": "HighPS",
   "type": "esriFieldTypeDouble",
   "alias": "HighPS",
   "domain": null
  },
  {
   "name": "Category",
   "type": "esriFieldTypeInteger",
   "alias": "Category",
   "domain": {
    "type": "codedValue",
    "name": "MosaicCatalogItemCategoryDomain",
    "description": "Catalog item categories.",
    "codedValues": [
     {
      "name": "Unknown",
      "code": 0
     },
     {
      "name": "Primary",
      "code": 1
     },
     {
      "name": "Overview",
      "code": 2
     },
     {
      "name": "Unprocessed Overview",
      "code": 3
     },
     {
      "name": "Partial Overview",
      "code": 4
     },
     {
      "name": "Inactive",
      "code": 5
     },
     {
      "name": "Uploaded",
      "code": 253
     },
     {
      "name": "Incomplete",
      "code": 254
     },
     {
      "name": "Custom",
      "code": 255
     }
    ],
    "mergePolicy": "esriMPTDefaultValue",
    "splitPolicy": "esriSPTDefaultValue"
   }
  },
  {
   "name": "Tag",
   "type": "esriFieldTypeString",
   "alias": "Tag",
   "domain": null,
   "length": 100
  },
  {
   "name": "GroupName",
   "type": "esriFieldTypeString",
   "alias": "GroupName",
   "domain": null,
   "length": 100
  },
  {
   "name": "ProductName",
   "type": "esriFieldTypeString",
   "alias": "ProductName",
   "domain": null,
   "length": 100
  },
  {
   "name": "CenterX",
   "type": "esriFieldTypeDouble",
   "alias": "CenterX",
   "domain": null
  },
  {
   "name": "CenterY",
   "type": "esriFieldTypeDouble",
   "alias": "CenterY",
   "domain": null
  },
  {
   "name": "ZOrder",
   "type": "esriFieldTypeInteger",
   "alias": "ZOrder",
   "domain": null
  },
  {
   "name": "Shape_Length",
   "type": "esriFieldTypeDouble",
   "alias": "Shape_Length",
   "domain": null
  },
  {
   "name": "Shape_Area",
   "type": "esriFieldTypeDouble",
   "alias": "Shape_Area",
   "domain": null
  },
  {
   "name": "Aspect",
   "type": "esriFieldTypeDouble",
   "alias": "Aspect",
   "domain": null
  },
  {
   "name": "CloudCirrusF",
   "type": "esriFieldTypeDouble",
   "alias": "CloudCirrusF",
   "domain": null
  },
  {
   "name": "CloudF",
   "type": "esriFieldTypeDouble",
   "alias": "CloudF",
   "domain": null
  },
  {
   "name": "CloudsBufferF",
   "type": "esriFieldTypeDouble",
   "alias": "CloudsBufferF",
   "domain": null
  },
  {
   "name": "Cosine",
   "type": "esriFieldTypeDouble",
   "alias": "Cosine",
   "domain": null
  },
  {
   "name": "DAAC_index",
   "type": "esriFieldTypeInteger",
   "alias": "DAAC_index",
   "domain": null
  },
  {
   "name": "EarthSunDist",
   "type": "esriFieldTypeDouble",
   "alias": "EarthSunDist",
   "domain": null
  },
  {
   "name": "FID_index",
   "type": "esriFieldTypeInteger",
   "alias": "FID_index",
   "domain": null
  },
  {
   "name": "L1BObservationDownload",
   "type": "esriFieldTypeString",
   "alias": "L1BObservationDownload",
   "domain": null,
   "length": 8000
  },
  {
   "name": "L1BRadianceDownload",
   "type": "esriFieldTypeString",
   "alias": "L1BRadianceDownload",
   "domain": null,
   "length": 8000
  },
  {
   "name": "L2AMaskDownload",
   "type": "esriFieldTypeString",
   "alias": "L2AMaskDownload",
   "domain": null,
   "length": 8000
  },
  {
   "name": "L2AReflectanceDownload",
   "type": "esriFieldTypeString",
   "alias": "L2AReflectanceDownload",
   "domain": null,
   "length": 8000
  },
  {
   "name": "L2AReflUncDownload",
   "type": "esriFieldTypeString",
   "alias": "L2AReflUncDownload",
   "domain": null,
   "length": 8000
  },
  {
   "name": "Orbit",
   "type": "esriFieldTypeInteger",
   "alias": "Orbit",
   "domain": null
  },
  {
   "name": "OrbitSegment",
   "type": "esriFieldTypeInteger",
   "alias": "OrbitSegment",
   "domain": null
  },
  {
   "name": "PathLength",
   "type": "esriFieldTypeDouble",
   "alias": "PathLength",
   "domain": null
  },
  {
   "name": "RetrievedAOTMedian",
   "type": "esriFieldTypeDouble",
   "alias": "RetrievedAOTMedian",
   "domain": null
  },
  {
   "name": "RetrievedEleMedian",
   "type": "esriFieldTypeDouble",
   "alias": "RetrievedEleMedian",
   "domain": null
  },
  {
   "name": "RetrievedWVMedian",
   "type": "esriFieldTypeDouble",
   "alias": "RetrievedWVMedian",
   "domain": null
  },
  {
   "name": "ScreenedOnboardFraction",
   "type": "esriFieldTypeDouble",
   "alias": "ScreenedOnboardFraction",
   "domain": null
  },
  {
   "name": "Slope",
   "type": "esriFieldTypeDouble",
   "alias": "Slope",
   "domain": null
  },
  {
   "name": "SolarPhase",
   "type": "esriFieldTypeDouble",
   "alias": "SolarPhase",
   "domain": null
  },
  {
   "name": "ToSensorAzimuth",
   "type": "esriFieldTypeDouble",
   "alias": "ToSensorAzimuth",
   "domain": null
  },
  {
   "name": "ToSensorZenith",
   "type": "esriFieldTypeDouble",
   "alias": "ToSensorZenith",
   "domain": null
  },
  {
   "name": "ToSunAzimuth",
   "type": "esriFieldTypeDouble",
   "alias": "ToSunAzimuth",
   "domain": null
  },
  {
   "name": "ToSunZenith",
   "type": "esriFieldTypeDouble",
   "alias": "ToSunZenith",
   "domain": null
  },
  {
   "name": "TotalCloudFraction",
   "type": "esriFieldTypeDouble",
   "alias": "TotalCloudFraction",
   "domain": null
  },
  {
   "name": "UTCTime",
   "type": "esriFieldTypeDouble",
   "alias": "UTCTime",
   "domain": null
  },
  {
   "name": "dcid",
   "type": "esriFieldTypeInteger",
   "alias": "dcid",
   "domain": null
  },
  {
   "name": "end_time",
   "type": "esriFieldTypeString",
   "alias": "end_time",
   "domain": null,
   "length": 8000
  },
  {
   "name": "fid",
   "type": "esriFieldTypeString",
   "alias": "fid",
   "domain": null,
   "length": 8000
  },
  {
   "name": "start_time",
   "type": "esriFieldTypeString",
   "alias": "start_time",
   "domain": null,
   "length": 8000
  },
  {
   "name": "Name_fromURL",
   "type": "esriFieldTypeString",
   "alias": "Name_fromURL",
   "domain": null,
   "length": 8000
  },
  {
   "name": "SensorName",
   "type": "esriFieldTypeString",
   "alias": "Sensor Name",
   "domain": null,
   "length": 20
  },
  {
   "name": "AcquisitionDate",
   "type": "esriFieldTypeDate",
   "alias": "Acquisition Date",
   "domain": null,
   "length": 8
  }
 ],
 "capabilities": "Image,Metadata,Pixels,Catalog",
 "defaultMosaicMethod": "ByAttribute",
 "allowedMosaicMethods": "ByAttribute,NorthWest,Center,LockRaster,Nadir,Viewpoint,Seamline,None",
 "sortField": "ToSunZenith",
 "sortValue": "",
 "sortAscending": true,
 "mosaicOperator": "First",
 "maxDownloadSizeLimit": 2048,
 "defaultCompressionQuality": 75,
 "defaultResamplingMethod": "Nearest",
 "maxImageHeight": 4100,
 "maxImageWidth": 15000,
 "maxRecordCount": 1000,
 "maxDownloadImageCount": 20,
 "maxMosaicImageCount": 20,
 "allowRasterFunction": true,
 "rasterFunctionInfos": [
  {
   "name": "None",
   "description": "Make a Raster or Raster Dataset into a Function Raster Dataset.",
   "help": ""
  }
 ],
 "rasterTypeInfos": [
  {
   "name": "Raster Dataset",
   "description": "Supports all ArcGIS Raster Datasets",
   "help": ""
  }
 ],
 "mensurationCapabilities": "None",
 "hasHistograms": true,
 "hasColormap": false,
 "hasRasterAttributeTable": false,
 "minScale": 0,
 "maxScale": 0,
 "exportTilesAllowed": false,
 "supportsStatistics": true,
 "supportsAdvancedQueries": true,
 "editFieldsInfo": null,
 "ownershipBasedAccessControlForRasters": null,
 "allowComputeTiePoints": false,
 "useStandardizedQueries": true,
 "advancedQueryCapabilities": {
  "useStandardizedQueries": true,
  "supportsStatistics": true,
  "supportsOrderBy": true,
  "supportsDistinct": true,
  "supportsPagination": true
 },
 "spatialReference": {
  "wkid": 102100,
  "latestWkid": 3857
 }
}
