{
 "currentVersion": 11.3,
 "serviceDescription": "NASA_EMIT/g1g2_code_small_crf",
 "name": "NASA_EMIT/g1g2_code_small_crf",
 "description": "",
 "extent": {
  "xmin": 33.369727501449624,
  "ymin": 25.76222366277628,
  "xmax": 34.299804115451465,
  "ymax": 26.642436029407392,
  "spatialReference": {
   "wkid": 4326,
   "latestWkid": 4326
  }
 },
 "initialExtent": {
  "xmin": 33.369727501449624,
  "ymin": 25.76222366277628,
  "xmax": 34.299804115451465,
  "ymax": 26.642436029407392,
  "spatialReference": {
   "wkid": 4326,
   "latestWkid": 4326
  }
 },
 "fullExtent": {
  "xmin": 33.369727501449624,
  "ymin": 25.76222366277628,
  "xmax": 34.299804115451465,
  "ymax": 26.642436029407392,
  "spatialReference": {
   "wkid": 4326,
   "latestWkid": 4326
  }
 },
 "sortableFields": "",
 "bandCount": 1,
 "pixelType": "S32",
 "minValues": [
  1000000
 ],
 "maxValues": [
  1088130
 ],
 "meanValues": [
  1031717.1588484332
 ],
 "stdvValues": [
  17336.972535244822
 ],
 "hasMultidimensions": false,
 "pixelSizeX": 5.420026888122617E-4,
 "pixelSizeY": 5.420026888122619E-4,
 "meanPixelSize": 60.33546332716609,
 "datasetFormat": "Cache/LERC2D",
 "uncompressedSize": 11147136,
 "blockWidth": 256,
 "blockHeight": 256,
 "compressionType": "LERC2D",
 "bandNames": [
  "Band_1"
 ],
 "allowCopy": false,
 "allowAnalysis": true,
 "itemAccess": false,
 "inspectionCapabilities": "",
 "noDataValue": -9999,
 "noDataValues": [
  -9999
 ],
 "minPixelSize": 0,
 "maxPixelSize": 0,
 "copyrightText": "",
 "serviceDataType": "esriImageServiceDataTypeThematic",
 "serviceSourceType": "esriImageServiceSourceTypeDataset",
 "objectIdField": "",
 "fields": [],
 "capabilities": "Mensuration,Image,Metadata",
 "defaultMosaicMethod": "Center",
 "allowedMosaicMethods": "",
 "sortField": "",
 "sortValue": null,
 "sortAscending": true,
 "mosaicOperator": "First",
 "defaultCompressionQuality": 75,
 "defaultResamplingMethod": "Nearest",
 "maxImageHeight": 4100,
 "maxImageWidth": 15000,
 "allowRasterFunction": true,
 "rasterFunctionInfos": [
  {
   "name": "None",
   "description": "Make a Raster or Raster Dataset into a Function Raster Dataset.",
   "help": ""
  },
  {
   "name": "hpc135_g1g2_RAT",
   "description": "g1g2 hpc135",
   "help": ""
  }
 ],
 "rasterTypeInfos": [
  {
   "name": "Raster Dataset",
   "description": "Supports all ArcGIS Raster Datasets",
   "help": ""
  }
 ],
 "mensurationCapabilities": "Basic",
 "hasHistograms": true,
 "hasColormap": false,
 "hasRasterAttributeTable": true,
 "minScale": 0,
 "maxScale": 0,
 "exportTilesAllowed": false,
 "supportsStatistics": false,
 "supportsAdvancedQueries": false,
 "editFieldsInfo": null,
 "ownershipBasedAccessControlForRasters": null,
 "allowComputeTiePoints": false,
 "useStandardizedQueries": true,
 "advancedQueryCapabilities": {
  "useStandardizedQueries": true,
  "supportsStatistics": false,
  "supportsOrderBy": false,
  "supportsDistinct": false,
  "supportsPagination": false
 },
 "spatialReference": {
  "wkid": 4326,
  "latestWkid": 4326
 },
 "resampling": false
}
