{ "currentVersion": 11.3, "serviceDescription": "
This dataset provides a 100m resolution mosaic of Sentinel-1 12-day median coherence for the summer season (June\u2013August) of 2019. It was generated from all 12-day image pairs acquired over the study area during this period. Radar coherence is sensitive to changes in surface conditions, including dune migration, vegetation growth, and urban construction. In the mosaic, areas with low coherence (e.g., active dunes) appear darker, while stable surfaces appear brighter. The median coherence provides a robust measure of cumulative surface dynamics across the summer season. The dataset is valuable for investigating dune movement, sand deposition patterns, seasonal landscape variability, and the broader impacts of climate change on desertification processes. Source data are available via the ASF Global Seasonal Sentinel-1 Interferometric Coherence and Backscatter Dataset: https://asf.alaska.edu/datasets/derived/global-seasonal-sentinel-1-interferometric-coherence-and-backscatter-dataset/<\/SPAN><\/P> A higher-resolution (15m) version of this product, based on Sentinel-1 data from Summer 2021, is also available (see Section 6.6).<\/SPAN><\/P><\/DIV>",
"name": "Saudi_Dune_Sabkha/Coherence_Median__",
"description": " This dataset provides a 100m resolution mosaic of Sentinel-1 12-day median coherence for the summer season (June\u2013August) of 2019. It was generated from all 12-day image pairs acquired over the study area during this period. Radar coherence is sensitive to changes in surface conditions, including dune migration, vegetation growth, and urban construction. In the mosaic, areas with low coherence (e.g., active dunes) appear darker, while stable surfaces appear brighter. The median coherence provides a robust measure of cumulative surface dynamics across the summer season. The dataset is valuable for investigating dune movement, sand deposition patterns, seasonal landscape variability, and the broader impacts of climate change on desertification processes. Source data are available via the ASF Global Seasonal Sentinel-1 Interferometric Coherence and Backscatter Dataset: https://asf.alaska.edu/datasets/derived/global-seasonal-sentinel-1-interferometric-coherence-and-backscatter-dataset/<\/SPAN><\/P> A higher-resolution (15m) version of this product, based on Sentinel-1 data from Summer 2021, is also available (see Section 6.6).<\/SPAN><\/P><\/DIV>",
"extent": {
"xmin": 4198650.175700001,
"ymin": 2019332.8548581954,
"xmax": 5496778.320255588,
"ymax": 3227448.8768000007,
"spatialReference": {
"wkid": 102100,
"latestWkid": 3857
}
},
"initialExtent": {
"xmin": 4198650.175700001,
"ymin": 2019332.8548581954,
"xmax": 5496778.320255588,
"ymax": 3227448.8768000007,
"spatialReference": {
"wkid": 102100,
"latestWkid": 3857
}
},
"fullExtent": {
"xmin": 4198650.175700001,
"ymin": 2019332.8548581954,
"xmax": 5496778.320255588,
"ymax": 3227448.8768000007,
"spatialReference": {
"wkid": 102100,
"latestWkid": 3857
}
},
"sortableFields": "MinPS,MaxPS,LowPS,HighPS,CenterX,CenterY,ZOrder,Shape_Length,Shape_Area",
"bandCount": 1,
"pixelType": "F32",
"minValues": [
0.01180642907092988
],
"maxValues": [
0.9980661573954421
],
"meanValues": [
0.4154157087685947
],
"stdvValues": [
0.3453025767425266
],
"hasMultidimensions": false,
"pixelSizeX": 13.914379751705216,
"pixelSizeY": 13.914379751705214,
"meanPixelSize": 13.914379751705216,
"datasetFormat": "AMD",
"uncompressedSize": 32401006200,
"blockWidth": 2048,
"blockHeight": 256,
"compressionType": "None",
"bandNames": [
"Band_1"
],
"allowCopy": true,
"allowAnalysis": true,
"itemAccess": false,
"inspectionCapabilities": "",
"minPixelSize": 0,
"maxPixelSize": 0,
"copyrightText": "",
"serviceDataType": "esriImageServiceDataTypeGeneric",
"serviceSourceType": "esriImageServiceSourceTypeMosaicDataset",
"objectIdField": "OBJECTID",
"fields": [
{
"name": "OBJECTID",
"type": "esriFieldTypeOID",
"alias": "OBJECTID",
"domain": null
},
{
"name": "Shape",
"type": "esriFieldTypeGeometry",
"alias": "Shape",
"domain": null
},
{
"name": "Name",
"type": "esriFieldTypeString",
"alias": "Name",
"domain": null,
"length": 200
},
{
"name": "MinPS",
"type": "esriFieldTypeDouble",
"alias": "MinPS",
"domain": null
},
{
"name": "MaxPS",
"type": "esriFieldTypeDouble",
"alias": "MaxPS",
"domain": null
},
{
"name": "LowPS",
"type": "esriFieldTypeDouble",
"alias": "LowPS",
"domain": null
},
{
"name": "HighPS",
"type": "esriFieldTypeDouble",
"alias": "HighPS",
"domain": null
},
{
"name": "Category",
"type": "esriFieldTypeInteger",
"alias": "Category",
"domain": {
"type": "codedValue",
"name": "MosaicCatalogItemCategoryDomain",
"description": "Catalog item categories.",
"codedValues": [
{
"name": "Unknown",
"code": 0
},
{
"name": "Primary",
"code": 1
},
{
"name": "Overview",
"code": 2
},
{
"name": "Unprocessed Overview",
"code": 3
},
{
"name": "Partial Overview",
"code": 4
},
{
"name": "Inactive",
"code": 5
},
{
"name": "Uploaded",
"code": 253
},
{
"name": "Incomplete",
"code": 254
},
{
"name": "Custom",
"code": 255
}
],
"mergePolicy": "esriMPTDefaultValue",
"splitPolicy": "esriSPTDefaultValue"
}
},
{
"name": "Tag",
"type": "esriFieldTypeString",
"alias": "Tag",
"domain": null,
"length": 100
},
{
"name": "GroupName",
"type": "esriFieldTypeString",
"alias": "GroupName",
"domain": null,
"length": 100
},
{
"name": "ProductName",
"type": "esriFieldTypeString",
"alias": "ProductName",
"domain": null,
"length": 100
},
{
"name": "CenterX",
"type": "esriFieldTypeDouble",
"alias": "CenterX",
"domain": null
},
{
"name": "CenterY",
"type": "esriFieldTypeDouble",
"alias": "CenterY",
"domain": null
},
{
"name": "ZOrder",
"type": "esriFieldTypeInteger",
"alias": "ZOrder",
"domain": null
},
{
"name": "Shape_Length",
"type": "esriFieldTypeDouble",
"alias": "Shape_Length",
"domain": null
},
{
"name": "Shape_Area",
"type": "esriFieldTypeDouble",
"alias": "Shape_Area",
"domain": null
}
],
"capabilities": "Image,Metadata,Catalog,Mensuration",
"defaultMosaicMethod": "Northwest",
"allowedMosaicMethods": "NorthWest,Center,LockRaster,ByAttribute,Nadir,Viewpoint,Seamline,None",
"sortField": "",
"sortValue": null,
"sortAscending": true,
"mosaicOperator": "First",
"maxDownloadSizeLimit": 2048,
"defaultCompressionQuality": 75,
"defaultResamplingMethod": "Bilinear",
"maxImageHeight": 4100,
"maxImageWidth": 15000,
"maxRecordCount": 1000,
"maxDownloadImageCount": 20,
"maxMosaicImageCount": 20,
"allowRasterFunction": true,
"rasterFunctionInfos": [
{
"name": "None",
"description": "",
"help": ""
}
],
"rasterTypeInfos": [
{
"name": "Raster Dataset",
"description": "Supports all ArcGIS Raster Datasets",
"help": ""
}
],
"mensurationCapabilities": "Basic",
"hasHistograms": true,
"hasColormap": false,
"hasRasterAttributeTable": false,
"minScale": 0,
"maxScale": 0,
"exportTilesAllowed": false,
"supportsStatistics": true,
"supportsAdvancedQueries": true,
"editFieldsInfo": null,
"ownershipBasedAccessControlForRasters": null,
"allowComputeTiePoints": false,
"useStandardizedQueries": true,
"advancedQueryCapabilities": {
"useStandardizedQueries": true,
"supportsStatistics": true,
"supportsOrderBy": true,
"supportsDistinct": true,
"supportsPagination": true
},
"spatialReference": {
"wkid": 102100,
"latestWkid": 3857
}
}