{ "currentVersion": 11.3, "serviceDescription": "
The Annual Landsat 8 Mosaic Image Service (2013\u20132023) is derived from the Landsat 8 Operational Land Imager (OLI) and Thermal Infrared Sensor (TIRS) surface reflectance data. A total of 421 scenes were selected, primarily during the summer months (May\u2013August), to minimize cloud contamination. The dataset includes visible and near-infrared bands (Bands 1\u20137, 9 OLI) as well as thermal bands (Bands 10 & 11 TIRS). To enhance usability, spectral indices such as NDVI, NDWI, soil salinity, and false-color composites are provided as function templates. Annual overviews were generated to optimize visualization performance at multiple scales. The mosaics preserve the 30m native resolution with additional coarser levels for efficient display. The source Landsat 8 imagery can be accessed through the USGS Earth Explorer portal: https://earthexplorer.usgs.gov/<\/SPAN><\/P><\/DIV>",
"name": "Saudi_Dune_Sabkha/Landsat_OLI_Mosaic_Combined__",
"description": " The Annual Landsat 8 Mosaic Image Service (2013\u20132023) is derived from the Landsat 8 Operational Land Imager (OLI) and Thermal Infrared Sensor (TIRS) surface reflectance data. A total of 421 scenes were selected, primarily during the summer months (May\u2013August), to minimize cloud contamination. The dataset includes visible and near-infrared bands (Bands 1\u20137, 9 OLI) as well as thermal bands (Bands 10 & 11 TIRS). To enhance usability, spectral indices such as NDVI, NDWI, soil salinity, and false-color composites are provided as function templates. Annual overviews were generated to optimize visualization performance at multiple scales. The mosaics preserve the 30m native resolution with additional coarser levels for efficient display. The source Landsat 8 imagery can be accessed through the USGS Earth Explorer portal: https://earthexplorer.usgs.gov/<\/SPAN><\/P><\/DIV>",
"extent": {
"xmin": 4226975.0568,
"ymin": 2006692.444699999,
"xmax": 5583275.0568,
"ymax": 3309232.444699999,
"spatialReference": {
"wkid": 102100,
"latestWkid": 3857
}
},
"initialExtent": {
"xmin": 4226975.0568,
"ymin": 2006692.444699999,
"xmax": 5583275.0568,
"ymax": 3309232.444699999,
"spatialReference": {
"wkid": 102100,
"latestWkid": 3857
}
},
"fullExtent": {
"xmin": 4226975.0568,
"ymin": 2006692.444699999,
"xmax": 5583275.0568,
"ymax": 3309232.444699999,
"spatialReference": {
"wkid": 102100,
"latestWkid": 3857
}
},
"sortableFields": "MinPS,MaxPS,LowPS,HighPS,CenterX,CenterY,ZOrder,Shape_Length,Shape_Area,AcquisitionDate,SunAzimuth,SunElevation,CloudCover,WRS_PATH,WRS_ROW,StartTime,EndTime",
"bandCount": 7,
"pixelType": "U16",
"minValues": [
85.49609375,
78.263671875,
133.642578125,
501.662109375,
3117.5234375,
6961.60546875,
7170.23046875
],
"maxValues": [
37058.50390625,
37952.736328125,
38711.357421875,
41988.70703125,
47114.607421875,
55720.39453125,
61857.76953125
],
"meanValues": [
12018.144102987328,
13211.72243466406,
16634.72382102563,
20415.811365097128,
23548.823033382665,
27193.607292095,
25047.655508378502
],
"stdvValues": [
1973.7008867358538,
2348.2989604402414,
3445.023934661651,
4952.9953332508685,
5951.234616125955,
7158.1289272087515,
6505.613112503008
],
"hasMultidimensions": false,
"timeInfo": {
"startTimeField": "StartTime",
"endTimeField": "EndTime",
"timeExtent": [
1365320312206,
1702019950148
],
"timeReference": null
},
"pixelSizeX": 30,
"pixelSizeY": 30,
"meanPixelSize": 30,
"datasetFormat": "AMD",
"uncompressedSize": 27480988920,
"blockWidth": 2048,
"blockHeight": 256,
"compressionType": "None",
"bandNames": [
"CoastalAerosol",
"Blue",
"Green",
"Red",
"NearInfrared",
"ShortWaveInfrared_1",
"ShortWaveInfrared_2"
],
"allowCopy": true,
"allowAnalysis": true,
"itemAccess": false,
"inspectionCapabilities": "",
"minPixelSize": 0,
"maxPixelSize": 0,
"copyrightText": "",
"serviceDataType": "esriImageServiceDataTypeGeneric",
"serviceSourceType": "esriImageServiceSourceTypeMosaicDataset",
"objectIdField": "OBJECTID",
"fields": [
{
"name": "OBJECTID",
"type": "esriFieldTypeOID",
"alias": "OBJECTID",
"domain": null
},
{
"name": "Shape",
"type": "esriFieldTypeGeometry",
"alias": "Shape",
"domain": null
},
{
"name": "Name",
"type": "esriFieldTypeString",
"alias": "Name",
"domain": null,
"length": 200
},
{
"name": "MinPS",
"type": "esriFieldTypeDouble",
"alias": "MinPS",
"domain": null
},
{
"name": "MaxPS",
"type": "esriFieldTypeDouble",
"alias": "MaxPS",
"domain": null
},
{
"name": "LowPS",
"type": "esriFieldTypeDouble",
"alias": "LowPS",
"domain": null
},
{
"name": "HighPS",
"type": "esriFieldTypeDouble",
"alias": "HighPS",
"domain": null
},
{
"name": "Category",
"type": "esriFieldTypeInteger",
"alias": "Category",
"domain": {
"type": "codedValue",
"name": "MosaicCatalogItemCategoryDomain",
"description": "Catalog item categories.",
"codedValues": [
{
"name": "Unknown",
"code": 0
},
{
"name": "Primary",
"code": 1
},
{
"name": "Overview",
"code": 2
},
{
"name": "Unprocessed Overview",
"code": 3
},
{
"name": "Partial Overview",
"code": 4
},
{
"name": "Inactive",
"code": 5
},
{
"name": "Uploaded",
"code": 253
},
{
"name": "Incomplete",
"code": 254
},
{
"name": "Custom",
"code": 255
}
],
"mergePolicy": "esriMPTDefaultValue",
"splitPolicy": "esriSPTDefaultValue"
}
},
{
"name": "Tag",
"type": "esriFieldTypeString",
"alias": "Tag",
"domain": null,
"length": 100
},
{
"name": "GroupName",
"type": "esriFieldTypeString",
"alias": "GroupName",
"domain": null,
"length": 100
},
{
"name": "ProductName",
"type": "esriFieldTypeString",
"alias": "ProductName",
"domain": null,
"length": 100
},
{
"name": "CenterX",
"type": "esriFieldTypeDouble",
"alias": "CenterX",
"domain": null
},
{
"name": "CenterY",
"type": "esriFieldTypeDouble",
"alias": "CenterY",
"domain": null
},
{
"name": "ZOrder",
"type": "esriFieldTypeInteger",
"alias": "ZOrder",
"domain": null
},
{
"name": "SensorName",
"type": "esriFieldTypeString",
"alias": "Sensor Name",
"domain": null,
"length": 20
},
{
"name": "AcquisitionDate",
"type": "esriFieldTypeDate",
"alias": "Acquisition Date",
"domain": null,
"length": 8
},
{
"name": "SunAzimuth",
"type": "esriFieldTypeDouble",
"alias": "Sun Azimuth",
"domain": null
},
{
"name": "SunElevation",
"type": "esriFieldTypeDouble",
"alias": "Sun Elevation",
"domain": null
},
{
"name": "CloudCover",
"type": "esriFieldTypeDouble",
"alias": "Cloud Cover",
"domain": null
},
{
"name": "WRS_PATH",
"type": "esriFieldTypeInteger",
"alias": "WRS_PATH",
"domain": null
},
{
"name": "WRS_ROW",
"type": "esriFieldTypeInteger",
"alias": "WRS_ROW",
"domain": null
},
{
"name": "StartTime",
"type": "esriFieldTypeDate",
"alias": "StartTime",
"domain": null,
"length": 8
},
{
"name": "EndTime",
"type": "esriFieldTypeDate",
"alias": "EndTime",
"domain": null,
"length": 8
},
{
"name": "Shape_Length",
"type": "esriFieldTypeDouble",
"alias": "Shape_Length",
"domain": null
},
{
"name": "Shape_Area",
"type": "esriFieldTypeDouble",
"alias": "Shape_Area",
"domain": null
}
],
"capabilities": "Image,Metadata,Catalog,Mensuration",
"defaultMosaicMethod": "ByAttribute",
"allowedMosaicMethods": "ByAttribute,NorthWest,Center,LockRaster,Nadir,Viewpoint,Seamline,None",
"sortField": "MinPS",
"sortValue": "",
"sortAscending": true,
"mosaicOperator": "First",
"maxDownloadSizeLimit": 2048,
"defaultCompressionQuality": 75,
"defaultResamplingMethod": "Nearest",
"maxImageHeight": 4100,
"maxImageWidth": 15000,
"maxRecordCount": 1000,
"maxDownloadImageCount": 50,
"maxMosaicImageCount": 50,
"allowRasterFunction": true,
"rasterFunctionInfos": [
{
"name": "None",
"description": "Make a Raster or Raster Dataset into a Function Raster Dataset.",
"help": ""
},
{
"name": "NDVI",
"description": "NDVI",
"help": ""
}
],
"rasterTypeInfos": [
{
"name": "Raster Dataset",
"description": "Supports all ArcGIS Raster Datasets",
"help": ""
}
],
"mensurationCapabilities": "Basic,Base-Top Shadow Height",
"hasHistograms": true,
"hasColormap": false,
"hasRasterAttributeTable": false,
"minScale": 0,
"maxScale": 0,
"exportTilesAllowed": false,
"supportsStatistics": true,
"supportsAdvancedQueries": true,
"editFieldsInfo": null,
"ownershipBasedAccessControlForRasters": null,
"allowComputeTiePoints": false,
"useStandardizedQueries": true,
"advancedQueryCapabilities": {
"useStandardizedQueries": true,
"supportsStatistics": true,
"supportsOrderBy": true,
"supportsDistinct": true,
"supportsPagination": true
},
"spatialReference": {
"wkid": 102100,
"latestWkid": 3857
}
}