{ "currentVersion": 11.3, "serviceDescription": "
The Landsat 4\u20135 Thematic Mapper (TM) Annual Mosaic Image Service (1984\u20132012) provides historical, cloud-minimized mosaics at 30m spatial resolution. The mosaics are generated from surface reflectance products, derived from multispectral TM data (Bands 1\u20137), covering visible, near-infrared, shortwave infrared, and thermal ranges. Annual mosaics were produced using scenes primarily from the growing season to minimize cloud contamination. Function templates provide users with spectral indices such as NDVI and NDWI, as well as false-color composites for enhanced interpretation. This dataset enables long-term analysis of land cover change, vegetation dynamics, water resource monitoring, and climate change impacts across multiple decades. The source Landsat 4\u20135 TM data are freely available through the USGS Earth Explorer: https://earthexplorer.usgs.gov/<\/SPAN><\/P><\/DIV><\/DIV>",
"name": "Saudi_Dune_Sabkha/Landsat_TM_mosaic_combined",
"description": " The Landsat 4\u20135 Thematic Mapper (TM) Annual Mosaic Image Service (1984\u20132012) provides historical, cloud-minimized mosaics at 30m spatial resolution. The mosaics are generated from surface reflectance products, derived from multispectral TM data (Bands 1\u20137), covering visible, near-infrared, shortwave infrared, and thermal ranges. Annual mosaics were produced using scenes primarily from the growing season to minimize cloud contamination. Function templates provide users with spectral indices such as NDVI and NDWI, as well as false-color composites for enhanced interpretation. This dataset enables long-term analysis of land cover change, vegetation dynamics, water resource monitoring, and climate change impacts across multiple decades. The source Landsat 4\u20135 TM data are freely available through the USGS Earth Explorer: https://earthexplorer.usgs.gov/<\/SPAN><\/P><\/DIV><\/DIV>",
"extent": {
"xmin": 4218951.093199998,
"ymin": 2012960.2769999988,
"xmax": 5586261.093199998,
"ymax": 3301220.276999999,
"spatialReference": {
"wkid": 102100,
"latestWkid": 3857
}
},
"initialExtent": {
"xmin": 4218951.093199998,
"ymin": 2012960.2769999988,
"xmax": 5586261.093199998,
"ymax": 3301220.276999999,
"spatialReference": {
"wkid": 102100,
"latestWkid": 3857
}
},
"fullExtent": {
"xmin": 4218951.093199998,
"ymin": 2012960.2769999988,
"xmax": 5586261.093199998,
"ymax": 3301220.276999999,
"spatialReference": {
"wkid": 102100,
"latestWkid": 3857
}
},
"sortableFields": "MinPS,MaxPS,LowPS,HighPS,CenterX,CenterY,ZOrder,Shape_Length,Shape_Area,StartTime,EndTime,AcquisitionDate,SunAzimuth,SunElevation,CloudCover,OffNadir,WRS_PATH,WRS_ROW",
"bandCount": 6,
"pixelType": "U16",
"minValues": [
5660.171875,
12810.3984375,
14348.595703125,
14883.94921875,
14602.671875,
12921.140625
],
"maxValues": [
65417.828125,
28313.6015625,
30972.404296875,
33728.05078125,
65435.328125,
37472.859375
],
"meanValues": [
14018.194496317958,
18424.078246332185,
22738.051060659676,
25610.08558122221,
56534.77725617192,
28283.523238791113
],
"stdvValues": [
1138.0919132003833,
1122.6746431609115,
1491.8301925242915,
1873.5314580556103,
15792.779719194348,
1857.53989417801
],
"hasMultidimensions": false,
"timeInfo": {
"startTimeField": "StartTime",
"endTimeField": "EndTime",
"timeExtent": [
451723107000,
1028445504000
],
"timeReference": null
},
"pixelSizeX": 30,
"pixelSizeY": 30,
"meanPixelSize": 30,
"datasetFormat": "AMD",
"uncompressedSize": 23486010408,
"blockWidth": 2048,
"blockHeight": 256,
"compressionType": "None",
"bandNames": [
"Blue",
"Green",
"Red",
"NearInfrared_1",
"NearInfrared_2",
"MidInfrared"
],
"allowCopy": true,
"allowAnalysis": true,
"itemAccess": false,
"inspectionCapabilities": "",
"minPixelSize": 0,
"maxPixelSize": 0,
"copyrightText": "",
"serviceDataType": "esriImageServiceDataTypeGeneric",
"serviceSourceType": "esriImageServiceSourceTypeMosaicDataset",
"objectIdField": "OBJECTID",
"fields": [
{
"name": "OBJECTID",
"type": "esriFieldTypeOID",
"alias": "OBJECTID",
"domain": null
},
{
"name": "Shape",
"type": "esriFieldTypeGeometry",
"alias": "Shape",
"domain": null
},
{
"name": "Name",
"type": "esriFieldTypeString",
"alias": "Name",
"domain": null,
"length": 200
},
{
"name": "MinPS",
"type": "esriFieldTypeDouble",
"alias": "MinPS",
"domain": null
},
{
"name": "MaxPS",
"type": "esriFieldTypeDouble",
"alias": "MaxPS",
"domain": null
},
{
"name": "LowPS",
"type": "esriFieldTypeDouble",
"alias": "LowPS",
"domain": null
},
{
"name": "HighPS",
"type": "esriFieldTypeDouble",
"alias": "HighPS",
"domain": null
},
{
"name": "Category",
"type": "esriFieldTypeInteger",
"alias": "Category",
"domain": {
"type": "codedValue",
"name": "MosaicCatalogItemCategoryDomain",
"description": "Catalog item categories.",
"codedValues": [
{
"name": "Unknown",
"code": 0
},
{
"name": "Primary",
"code": 1
},
{
"name": "Overview",
"code": 2
},
{
"name": "Unprocessed Overview",
"code": 3
},
{
"name": "Partial Overview",
"code": 4
},
{
"name": "Inactive",
"code": 5
},
{
"name": "Uploaded",
"code": 253
},
{
"name": "Incomplete",
"code": 254
},
{
"name": "Custom",
"code": 255
}
],
"mergePolicy": "esriMPTDefaultValue",
"splitPolicy": "esriSPTDefaultValue"
}
},
{
"name": "Tag",
"type": "esriFieldTypeString",
"alias": "Tag",
"domain": null,
"length": 100
},
{
"name": "GroupName",
"type": "esriFieldTypeString",
"alias": "GroupName",
"domain": null,
"length": 100
},
{
"name": "ProductName",
"type": "esriFieldTypeString",
"alias": "ProductName",
"domain": null,
"length": 100
},
{
"name": "CenterX",
"type": "esriFieldTypeDouble",
"alias": "CenterX",
"domain": null
},
{
"name": "CenterY",
"type": "esriFieldTypeDouble",
"alias": "CenterY",
"domain": null
},
{
"name": "ZOrder",
"type": "esriFieldTypeInteger",
"alias": "ZOrder",
"domain": null
},
{
"name": "StartTime",
"type": "esriFieldTypeDate",
"alias": "StartTime",
"domain": null,
"length": 8
},
{
"name": "EndTime",
"type": "esriFieldTypeDate",
"alias": "EndTime",
"domain": null,
"length": 8
},
{
"name": "SensorName",
"type": "esriFieldTypeString",
"alias": "Sensor Name",
"domain": null,
"length": 20
},
{
"name": "AcquisitionDate",
"type": "esriFieldTypeDate",
"alias": "Acquisition Date",
"domain": null,
"length": 8
},
{
"name": "SunAzimuth",
"type": "esriFieldTypeDouble",
"alias": "Sun Azimuth",
"domain": null
},
{
"name": "SunElevation",
"type": "esriFieldTypeDouble",
"alias": "Sun Elevation",
"domain": null
},
{
"name": "CloudCover",
"type": "esriFieldTypeDouble",
"alias": "Cloud Cover",
"domain": null
},
{
"name": "OffNadir",
"type": "esriFieldTypeDouble",
"alias": "OffNadir",
"domain": null
},
{
"name": "WRS_PATH",
"type": "esriFieldTypeInteger",
"alias": "WRS_PATH",
"domain": null
},
{
"name": "WRS_ROW",
"type": "esriFieldTypeInteger",
"alias": "WRS_ROW",
"domain": null
},
{
"name": "Shape_Length",
"type": "esriFieldTypeDouble",
"alias": "Shape_Length",
"domain": null
},
{
"name": "Shape_Area",
"type": "esriFieldTypeDouble",
"alias": "Shape_Area",
"domain": null
}
],
"capabilities": "Image,Metadata,Catalog,Mensuration",
"defaultMosaicMethod": "Northwest",
"allowedMosaicMethods": "NorthWest,Center,LockRaster,ByAttribute,Nadir,Viewpoint,Seamline,None",
"sortField": "",
"sortValue": null,
"sortAscending": true,
"mosaicOperator": "First",
"maxDownloadSizeLimit": 2048,
"defaultCompressionQuality": 75,
"defaultResamplingMethod": "Nearest",
"maxImageHeight": 4100,
"maxImageWidth": 15000,
"maxRecordCount": 1000,
"maxDownloadImageCount": 20,
"maxMosaicImageCount": 20,
"allowRasterFunction": true,
"rasterFunctionInfos": [
{
"name": "None",
"description": "",
"help": ""
}
],
"rasterTypeInfos": [
{
"name": "Raster Dataset",
"description": "Supports all ArcGIS Raster Datasets",
"help": ""
}
],
"mensurationCapabilities": "Basic,Base-Top Shadow Height",
"hasHistograms": true,
"hasColormap": false,
"hasRasterAttributeTable": false,
"minScale": 0,
"maxScale": 0,
"exportTilesAllowed": false,
"supportsStatistics": true,
"supportsAdvancedQueries": true,
"editFieldsInfo": null,
"ownershipBasedAccessControlForRasters": null,
"allowComputeTiePoints": false,
"useStandardizedQueries": true,
"advancedQueryCapabilities": {
"useStandardizedQueries": true,
"supportsStatistics": true,
"supportsOrderBy": true,
"supportsDistinct": true,
"supportsPagination": true
},
"spatialReference": {
"wkid": 102100,
"latestWkid": 3857
}
}