{ "currentVersion": 11.3, "serviceDescription": "
The Annual Sentinel-1 RTC Mosaic Image Service (2015\u20132023) is derived from Copernicus Sentinel-1 synthetic aperture radar (SAR) data. The mosaics are generated using Radiometrically Terrain Corrected (RTC) backscatter products produced through the ASF on-demand processing pipeline. Each annual mosaic was assembled from scenes acquired in the first week of August, when available, to provide consistency in seasonal conditions.<\/SPAN><\/P> The mosaics are structured using the ArcGIS mosaic dataset framework and published as a time-aware image service on ArcGIS Server. Users can visualize backscatter changes over time via the time slider and perform on-the-fly calculations of spectral indices and band ratio composites. Due to the failure of Sentinel-1B in December 2021, mosaics for 2022 and 2023 have missing sections. More details on the RTC product generation can be found at the ASF RTC Guide: https://hyp3-docs.asf.alaska.edu/guides/rtc_product_guide/<\/SPAN><\/P><\/DIV>",
"name": "Saudi_Dune_Sabkha/Sentinel_1_RTC_combined__",
"description": " The Annual Sentinel-1 RTC Mosaic Image Service (2015\u20132023) is derived from Copernicus Sentinel-1 synthetic aperture radar (SAR) data. The mosaics are generated using Radiometrically Terrain Corrected (RTC) backscatter products produced through the ASF on-demand processing pipeline. Each annual mosaic was assembled from scenes acquired in the first week of August, when available, to provide consistency in seasonal conditions.<\/SPAN><\/P> The mosaics are structured using the ArcGIS mosaic dataset framework and published as a time-aware image service on ArcGIS Server. Users can visualize backscatter changes over time via the time slider and perform on-the-fly calculations of spectral indices and band ratio composites. Due to the failure of Sentinel-1B in December 2021, mosaics for 2022 and 2023 have missing sections. More details on the RTC product generation can be found at the ASF RTC Guide: https://hyp3-docs.asf.alaska.edu/guides/rtc_product_guide/<\/SPAN><\/P><\/DIV>",
"extent": {
"xmin": 4151629.3038999997,
"ymin": 1880858.9082999974,
"xmax": 5670839.3039,
"ymax": 3417308.9082999974,
"spatialReference": {
"wkid": 102100,
"latestWkid": 3857
}
},
"initialExtent": {
"xmin": 4151629.3038999997,
"ymin": 1880858.9082999974,
"xmax": 5670839.3039,
"ymax": 3417308.9082999974,
"spatialReference": {
"wkid": 102100,
"latestWkid": 3857
}
},
"fullExtent": {
"xmin": 4151629.3038999997,
"ymin": 1880858.9082999974,
"xmax": 5670839.3039,
"ymax": 3417308.9082999974,
"spatialReference": {
"wkid": 102100,
"latestWkid": 3857
}
},
"sortableFields": "MinPS,MaxPS,LowPS,HighPS,CenterX,CenterY,ZOrder,Shape_Length,Shape_Area,StartTime,EndTime",
"bandCount": 1,
"pixelType": "F32",
"minValues": [
-47.427512085065246
],
"maxValues": [
7.066348945721984
],
"meanValues": [
-19.224386894832463
],
"stdvValues": [
7.610785463420402
],
"hasMultidimensions": false,
"timeInfo": {
"startTimeField": "StartTime",
"endTimeField": "EndTime",
"timeExtent": [
1430578591000,
1691852338000
],
"timeReference": null
},
"pixelSizeX": 10,
"pixelSizeY": 10,
"meanPixelSize": 10,
"datasetFormat": "AMD",
"uncompressedSize": 93367608180,
"blockWidth": 2048,
"blockHeight": 256,
"compressionType": "None",
"bandNames": [
"Band_1"
],
"allowCopy": true,
"allowAnalysis": true,
"itemAccess": false,
"inspectionCapabilities": "",
"minPixelSize": 0,
"maxPixelSize": 0,
"copyrightText": "",
"serviceDataType": "esriImageServiceDataTypeGeneric",
"serviceSourceType": "esriImageServiceSourceTypeMosaicDataset",
"objectIdField": "OBJECTID",
"fields": [
{
"name": "OBJECTID",
"type": "esriFieldTypeOID",
"alias": "OBJECTID",
"domain": null
},
{
"name": "Shape",
"type": "esriFieldTypeGeometry",
"alias": "Shape",
"domain": null
},
{
"name": "Name",
"type": "esriFieldTypeString",
"alias": "Name",
"domain": null,
"length": 200
},
{
"name": "MinPS",
"type": "esriFieldTypeDouble",
"alias": "MinPS",
"domain": null
},
{
"name": "MaxPS",
"type": "esriFieldTypeDouble",
"alias": "MaxPS",
"domain": null
},
{
"name": "LowPS",
"type": "esriFieldTypeDouble",
"alias": "LowPS",
"domain": null
},
{
"name": "HighPS",
"type": "esriFieldTypeDouble",
"alias": "HighPS",
"domain": null
},
{
"name": "Category",
"type": "esriFieldTypeInteger",
"alias": "Category",
"domain": {
"type": "codedValue",
"name": "MosaicCatalogItemCategoryDomain",
"description": "Catalog item categories.",
"codedValues": [
{
"name": "Unknown",
"code": 0
},
{
"name": "Primary",
"code": 1
},
{
"name": "Overview",
"code": 2
},
{
"name": "Unprocessed Overview",
"code": 3
},
{
"name": "Partial Overview",
"code": 4
},
{
"name": "Inactive",
"code": 5
},
{
"name": "Uploaded",
"code": 253
},
{
"name": "Incomplete",
"code": 254
},
{
"name": "Custom",
"code": 255
}
],
"mergePolicy": "esriMPTDefaultValue",
"splitPolicy": "esriSPTDefaultValue"
}
},
{
"name": "Tag",
"type": "esriFieldTypeString",
"alias": "Tag",
"domain": null,
"length": 100
},
{
"name": "GroupName",
"type": "esriFieldTypeString",
"alias": "GroupName",
"domain": null,
"length": 100
},
{
"name": "ProductName",
"type": "esriFieldTypeString",
"alias": "ProductName",
"domain": null,
"length": 100
},
{
"name": "CenterX",
"type": "esriFieldTypeDouble",
"alias": "CenterX",
"domain": null
},
{
"name": "CenterY",
"type": "esriFieldTypeDouble",
"alias": "CenterY",
"domain": null
},
{
"name": "ZOrder",
"type": "esriFieldTypeInteger",
"alias": "ZOrder",
"domain": null
},
{
"name": "StartTime",
"type": "esriFieldTypeDate",
"alias": "StartTime",
"domain": null,
"length": 8
},
{
"name": "EndTime",
"type": "esriFieldTypeDate",
"alias": "EndTime",
"domain": null,
"length": 8
},
{
"name": "Shape_Length",
"type": "esriFieldTypeDouble",
"alias": "Shape_Length",
"domain": null
},
{
"name": "Shape_Area",
"type": "esriFieldTypeDouble",
"alias": "Shape_Area",
"domain": null
}
],
"capabilities": "Image,Metadata,Catalog,Mensuration",
"defaultMosaicMethod": "ByAttribute",
"allowedMosaicMethods": "ByAttribute,NorthWest,Center,LockRaster,Nadir,Viewpoint,Seamline,None",
"sortField": "StartTime",
"sortValue": "",
"sortAscending": true,
"mosaicOperator": "First",
"maxDownloadSizeLimit": 2048,
"defaultCompressionQuality": 75,
"defaultResamplingMethod": "Nearest",
"maxImageHeight": 4100,
"maxImageWidth": 15000,
"maxRecordCount": 1000,
"maxDownloadImageCount": 50,
"maxMosaicImageCount": 50,
"allowRasterFunction": true,
"rasterFunctionInfos": [
{
"name": "None",
"description": "Make a Raster or Raster Dataset into a Function Raster Dataset.",
"help": ""
}
],
"rasterTypeInfos": [
{
"name": "Raster Dataset",
"description": "Supports all ArcGIS Raster Datasets",
"help": ""
}
],
"mensurationCapabilities": "Basic",
"hasHistograms": true,
"hasColormap": false,
"hasRasterAttributeTable": false,
"minScale": 0,
"maxScale": 0,
"exportTilesAllowed": false,
"supportsStatistics": true,
"supportsAdvancedQueries": true,
"editFieldsInfo": null,
"ownershipBasedAccessControlForRasters": null,
"allowComputeTiePoints": false,
"useStandardizedQueries": true,
"advancedQueryCapabilities": {
"useStandardizedQueries": true,
"supportsStatistics": true,
"supportsOrderBy": true,
"supportsDistinct": true,
"supportsPagination": true
},
"spatialReference": {
"wkid": 102100,
"latestWkid": 3857
}
}