{
 "currentVersion": 11.3,
 "serviceDescription": "Tanager/abundance_m1_md",
 "name": "Tanager/abundance_m1_md",
 "description": "",
 "extent": {
  "xmin": -117.37488108599996,
  "ymin": 0.4262140638907326,
  "xmax": 117.73515951419878,
  "ymax": 49.34675763800004,
  "spatialReference": {
   "wkid": 4326,
   "latestWkid": 4326
  }
 },
 "initialExtent": {
  "xmin": -117.37488108599996,
  "ymin": 0.4262140638907326,
  "xmax": 117.73515951419878,
  "ymax": 49.34675763800004,
  "spatialReference": {
   "wkid": 4326,
   "latestWkid": 4326
  }
 },
 "fullExtent": {
  "xmin": -117.37488108599996,
  "ymin": 0.4262140638907326,
  "xmax": 117.73515951419878,
  "ymax": 49.34675763800004,
  "spatialReference": {
   "wkid": 4326,
   "latestWkid": 4326
  }
 },
 "sortableFields": "MinPS,MaxPS,LowPS,HighPS,CenterX,CenterY,ZOrder,ToSunZenith,TotalCloudFraction,AcquisitionDate,Shape_Length,Shape_Area",
 "bandCount": 10,
 "pixelType": "F32",
 "minValues": [
  0.001094389008358121,
  3.6264662048779433E-4,
  4.1703373426571483E-4,
  2.1574831043835724E-4,
  0,
  3.727602597791701E-4,
  3.2814996666274965E-4,
  1.5470714424736798E-4,
  0,
  0
 ],
 "maxValues": [
  0.9930566453840584,
  0.998046875,
  0.9940546794096008,
  0.998046875,
  0.4467229328583926,
  0.998046875,
  0.9880664157681167,
  0.998046875,
  0.838359348825179,
  0.432138025178574
 ],
 "meanValues": [
  0.018230155050805753,
  0.0012578703317987505,
  0.0023290658621737885,
  0.0035461323385053657,
  1.7556875357643855E-4,
  0.008708571390219886,
  0.017211789149169307,
  0.018202605927573688,
  0.013016798782098576,
  2.232251674963285E-4
 ],
 "stdvValues": [
  0.06805561630786168,
  0.005752123872961473,
  0.020768164426453226,
  0.018386312588975294,
  4.2735423118515E-4,
  0.019134355796222097,
  0.049622175865533885,
  0.07571044698619367,
  0.04217893769991982,
  0.001867151540983058
 ],
 "hasMultidimensions": false,
 "pixelSizeX": 2.694945852358564E-4,
 "pixelSizeY": 2.694945852358564E-4,
 "meanPixelSize": 29.999999999999996,
 "datasetFormat": "AMD",
 "uncompressedSize": 6334646063880,
 "blockWidth": 2048,
 "blockHeight": 256,
 "compressionType": "None",
 "bandNames": [
  "calcite",
  "chlorite",
  "dolomite",
  "goethite",
  "gypsum",
  "hematite",
  "illite+muscovite",
  "kaolinite",
  "montmorillonite",
  "vermiculite"
 ],
 "allowCopy": false,
 "allowAnalysis": true,
 "itemAccess": false,
 "inspectionCapabilities": "",
 "minPixelSize": 0,
 "maxPixelSize": 0,
 "copyrightText": "",
 "serviceDataType": "esriImageServiceDataTypeGeneric",
 "serviceSourceType": "esriImageServiceSourceTypeMosaicDataset",
 "objectIdField": "OBJECTID",
 "fields": [
  {
   "name": "OBJECTID",
   "type": "esriFieldTypeOID",
   "alias": "OBJECTID",
   "domain": null
  },
  {
   "name": "Shape",
   "type": "esriFieldTypeGeometry",
   "alias": "Shape",
   "domain": null
  },
  {
   "name": "Name",
   "type": "esriFieldTypeString",
   "alias": "Name",
   "domain": null,
   "length": 200
  },
  {
   "name": "MinPS",
   "type": "esriFieldTypeDouble",
   "alias": "MinPS",
   "domain": null
  },
  {
   "name": "MaxPS",
   "type": "esriFieldTypeDouble",
   "alias": "MaxPS",
   "domain": null
  },
  {
   "name": "LowPS",
   "type": "esriFieldTypeDouble",
   "alias": "LowPS",
   "domain": null
  },
  {
   "name": "HighPS",
   "type": "esriFieldTypeDouble",
   "alias": "HighPS",
   "domain": null
  },
  {
   "name": "Category",
   "type": "esriFieldTypeInteger",
   "alias": "Category",
   "domain": {
    "type": "codedValue",
    "name": "MosaicCatalogItemCategoryDomain",
    "description": "Catalog item categories.",
    "codedValues": [
     {
      "name": "Unknown",
      "code": 0
     },
     {
      "name": "Primary",
      "code": 1
     },
     {
      "name": "Overview",
      "code": 2
     },
     {
      "name": "Unprocessed Overview",
      "code": 3
     },
     {
      "name": "Partial Overview",
      "code": 4
     },
     {
      "name": "Inactive",
      "code": 5
     },
     {
      "name": "Uploaded",
      "code": 253
     },
     {
      "name": "Incomplete",
      "code": 254
     },
     {
      "name": "Custom",
      "code": 255
     }
    ],
    "mergePolicy": "esriMPTDefaultValue",
    "splitPolicy": "esriSPTDefaultValue"
   }
  },
  {
   "name": "Tag",
   "type": "esriFieldTypeString",
   "alias": "Tag",
   "domain": null,
   "length": 100
  },
  {
   "name": "GroupName",
   "type": "esriFieldTypeString",
   "alias": "GroupName",
   "domain": null,
   "length": 100
  },
  {
   "name": "ProductName",
   "type": "esriFieldTypeString",
   "alias": "ProductName",
   "domain": null,
   "length": 100
  },
  {
   "name": "CenterX",
   "type": "esriFieldTypeDouble",
   "alias": "CenterX",
   "domain": null
  },
  {
   "name": "CenterY",
   "type": "esriFieldTypeDouble",
   "alias": "CenterY",
   "domain": null
  },
  {
   "name": "ZOrder",
   "type": "esriFieldTypeInteger",
   "alias": "ZOrder",
   "domain": null
  },
  {
   "name": "ToSunZenith",
   "type": "esriFieldTypeDouble",
   "alias": "ToSunZenith",
   "domain": null
  },
  {
   "name": "TotalCloudFraction",
   "type": "esriFieldTypeDouble",
   "alias": "TotalCloudFraction",
   "domain": null
  },
  {
   "name": "AcquisitionDate",
   "type": "esriFieldTypeDate",
   "alias": "AcquisitionDate",
   "domain": null,
   "length": 8
  },
  {
   "name": "Shape_Length",
   "type": "esriFieldTypeDouble",
   "alias": "Shape_Length",
   "domain": null
  },
  {
   "name": "Shape_Area",
   "type": "esriFieldTypeDouble",
   "alias": "Shape_Area",
   "domain": null
  }
 ],
 "capabilities": "Catalog,Mensuration,Image,Metadata",
 "defaultMosaicMethod": "ByAttribute",
 "allowedMosaicMethods": "ByAttribute,NorthWest,Center,LockRaster,Nadir,Viewpoint,Seamline,None",
 "sortField": "ToSunZenith",
 "sortValue": "",
 "sortAscending": true,
 "mosaicOperator": "First",
 "maxDownloadSizeLimit": 2048,
 "defaultCompressionQuality": 75,
 "defaultResamplingMethod": "Nearest",
 "maxImageHeight": 4100,
 "maxImageWidth": 15000,
 "maxRecordCount": 1000,
 "maxDownloadImageCount": 20,
 "maxMosaicImageCount": 20,
 "allowRasterFunction": true,
 "rasterFunctionInfos": [
  {
   "name": "None",
   "description": "Make a Raster or Raster Dataset into a Function Raster Dataset.",
   "help": ""
  },
  {
   "name": "Calcite_Abundance_m1",
   "description": "Calcite_Abundance_m1 extract band and stretch",
   "help": ""
  },
  {
   "name": "Chlorite_Abundance_m1",
   "description": "Chlorite_Abundance_m1 extract band and stretch",
   "help": ""
  },
  {
   "name": "Dolomite_Abundance_m1",
   "description": "Dolomite_Abundance_m1 extract band and stretch",
   "help": ""
  },
  {
   "name": "Goethite_Abundance_m1",
   "description": "Goethite_Abundance_m1 extract band and stretch",
   "help": ""
  },
  {
   "name": "Gypsum_Abundance_m1",
   "description": "Gypsum_Abundance_m1 extract band and stretch",
   "help": ""
  },
  {
   "name": "Hematite_Abundance_m1",
   "description": "Hematite_Abundance_m1 extract band and stretch",
   "help": ""
  },
  {
   "name": "Illite+Muscovite_Abundance_m1",
   "description": "Illite+Muscovite_Abundance_m1 extract band and stretch",
   "help": ""
  },
  {
   "name": "Kaolinite_Abundance_m1",
   "description": "Kaolinite_Abundance_m1 extract band and stretch",
   "help": ""
  },
  {
   "name": "Montmorillonite_Abundance_m1",
   "description": "Montmorillonite_Abundance_m1 extract band and stretch",
   "help": ""
  },
  {
   "name": "RGB_Hematite_Goethite_Kaolinite_Abundance_M1",
   "description": "RGB_Hematite_Goethite_Kaolinite_Abundance_M1",
   "help": ""
  },
  {
   "name": "RGB_Montmorillonite_Illite+Muscovite_Calcite_Abundance_M1",
   "description": "RGB_Montmorillonite_Illite+Muscovite_Calcite_Abundance_M1",
   "help": ""
  },
  {
   "name": "Vermiculite_Abundance_m1",
   "description": "Vermiculite_Abundance_m1 extract band and stretch",
   "help": ""
  }
 ],
 "rasterTypeInfos": [
  {
   "name": "Raster Dataset",
   "description": "Supports all ArcGIS Raster Datasets",
   "help": ""
  }
 ],
 "mensurationCapabilities": "Basic",
 "hasHistograms": true,
 "hasColormap": false,
 "hasRasterAttributeTable": false,
 "minScale": 0,
 "maxScale": 0,
 "exportTilesAllowed": false,
 "supportsStatistics": true,
 "supportsAdvancedQueries": true,
 "editFieldsInfo": null,
 "ownershipBasedAccessControlForRasters": null,
 "allowComputeTiePoints": false,
 "useStandardizedQueries": true,
 "advancedQueryCapabilities": {
  "useStandardizedQueries": true,
  "supportsStatistics": true,
  "supportsOrderBy": true,
  "supportsDistinct": true,
  "supportsPagination": true
 },
 "spatialReference": {
  "wkid": 4326,
  "latestWkid": 4326
 },
 "resampling": false
}
