View In:
ArcGIS JavaScript
ArcGIS Online Map Viewer
ArcGIS Earth
Service Description: AVIRIS/surface_reflectance_md
Name: AVIRIS/surface_reflectance_md
Description:
Single Fused Map Cache: false
Extent:
XMin: -117.38990087199994
YMin: 35.225979662990056
XMax: -113.28135890201943
YMax: 38.452871894000054
Spatial Reference: 4326
(4326)
Initial Extent:
XMin: -117.38990087199994
YMin: 35.225979662990056
XMax: -113.28135890201943
YMax: 38.452871894000054
Spatial Reference: 4326
(4326)
Full Extent:
XMin: -117.38990087199994
YMin: 35.225979662990056
XMax: -113.28135890201943
YMax: 38.452871894000054
Spatial Reference: 4326
(4326)
Pixel Size X: 9.342478954863923E-5
Pixel Size Y: 9.34247895486392E-5
Band Count: 424
Pixel Type: F32
RasterFunction Infos: {"rasterFunctionInfos": [{
"name": "None",
"description": "Make a Raster or Raster Dataset into a Function Raster Dataset.",
"help": ""
}]}
Mensuration Capabilities: Basic
Inspection Capabilities:
Has Histograms: true
Has Colormap: false
Has Multi Dimensions : false
Rendering Rule:
Min Scale: 0
Max Scale: 0
Resampling: false
Copyright Text:
Service Data Type: esriImageServiceDataTypeGeneric
Min Values: -9979.470346669666, -9979.47033946868, -9979.470327883027, -9979.470313359052, -9979.47030344326, -9979.470285955817, -9979.4702702137, -9979.470256187982, -9979.470244432829, -9979.470233582892, -9979.470221572556, -9979.470208825544, -9979.47020309046, -9979.470188386738, -9979.470181921497, -9979.470167998224, -9979.47015686892, -9979.470146896318, -9979.470135234296, -9979.470131726936, -9979.470123669133, -9979.470118502155, -9979.470112401992, -9979.470105310902, -9979.470098776743, -9979.470092490315, -9979.470084026456, -9979.470074761659, -9979.47006868571, -9979.470060346648, -9979.470053469762, -9979.47004143335, -9979.470033613965, -9979.470024466515, -9979.470014285296, -9979.470003524795, -9979.46999578178, -9979.469987813383, -9979.469977919012, -9979.469969652593, -9979.46996158734, -9979.469952650368, -9979.46994874999, -9979.469942323864, -9979.469933399989, -9979.469925912155, -9979.469919495343, -9979.469914801477, -9979.469908673374, -9979.46990294574, -9979.469900487049, -9979.469892850204, -9979.469886304869, -9979.46988195373, -9979.469876283838, -9979.469872448652, -9979.469867665379, -9979.4698615112, -9979.46986034332, -9979.469854487164, -9979.469849748595, -9979.46984497091, -9979.469831213413, -9979.469822617306, -9979.469811299874, -9979.469799652754, -9979.469789113908, -9979.469779439329, -9979.469765303715, -9979.469756351842, -9979.469747457711, -9979.46973809792, -9979.46973033069, -9979.46972282615, -9979.469716303167, -9979.469711516169, -9979.469706092146, -9979.46970041853, -9979.46969670069, -9979.469692170736, -9979.469688069192, -9979.469683945295, -9979.469680003938, -9979.46967598435, -9979.469671957311, -9979.46966802713, -9979.469664778677, -9979.469661258277, -9979.469657663372, -9979.469654206303, -9979.469651188818, -9979.469647981343, -9979.469645094243, -9979.469641793636, -9979.469638574985, -9979.469635151443, -9979.469632014749, -9979.469628553954, -9979.469625394908, -9979.469622243312, -9979.46961913642, -9979.469616301474, -9979.469612036017, -9979.469609607127, -9979.469605781254, -9979.469602991012, -9979.469599526492, -9979.469596698997, -9979.469593644259, -9979.469590854016, -9979.469587594387, -9979.469585262355, -9979.469582323101, -9979.469580967096, -9979.469580549863, -9979.469578910735, -9979.469577472773, -9979.469574827817, -9979.469572503236, -9979.469570521382, -9979.469562988845, -9979.46956087288, -9979.469560589758, -9979.469559688237, -9979.469556708005, -9979.469552856055, -9979.469548639026, -9979.469544232008, -9979.469540398684, -9979.469536583987, -9979.46953340259, -9979.46952981141, -9979.469526141998, -9979.469522725907, -9979.469519149628, -9979.46951607999, -9979.469512526062, -9979.469509415445, -9979.469506431487, -9979.469503607717, -9979.469500851003, -9979.469497952727, -9979.469495464233, -9979.4694927932, -9979.469490662334, -9979.469490260002, -9979.469488840667, -9979.46948335704, -9979.469474580255, -9979.469472628203, -9979.46947540727, -9979.469480566797, -9979.469484828529, -9979.469486542162, -9979.469489529845, -9979.469493683544, -9979.469496008125, -9979.469497270999, -9979.469497867045, -9979.469497550395, -9979.469496775535, -9979.469496339676, -9979.469495698926, -9979.469494763878, -9979.469492841628, -9979.469491407392, -9979.469489924726, -9979.469488646952, -9979.469487071154, -9979.469485346344, -9979.469483517227, -9979.469481423614, -9979.469478987274, -9979.469476662693, -9979.469474777696, -9979.469473060337, -9979.46947078791, -9979.469468481955, -9979.4694671334, -9979.469466377166, -9979.469465032336, -9979.469463847694, -9979.469463389483, -9979.46946314734, -9979.469463318703, -9979.469464138267, -9979.469465468195, -9979.469467558083, -9979.469471302, -9979.470722656231, -9979.470722656231, -9979.470722656231, -9979.470722656231, -9979.470722656231, -9979.470722656231, -9979.470722656231, -9979.470722656231, -9979.470722656231, -9979.470722656231, -9979.470722656231, -9979.470722656231, -9979.470722656231, -9979.470722656231, -9979.470722656231, -9979.470722656231, -9979.470722656231, -9979.470722656231, -9979.470722656231, -9979.470722656231, -9979.470722656231, -9979.469661697862, -9979.469650924322, -9979.469641704229, -9979.469644494471, -9979.46964916226, -9979.469657592592, -9979.469653174398, -9979.46965111792, -9979.469648789614, -9979.469647973776, -9979.469634935376, -9979.469621557859, -9979.46961362299, -9979.469602648285, -9979.469591438887, -9979.469582125661, -9979.46957326692, -9979.4695672245, -9979.46956259769, -9979.469556946424, -9979.469551764545, -9979.469549194095, -9979.469545260188, -9979.469539709506, -9979.469537306693, -9979.469534859178, -9979.469529725728, -9979.469530385104, -9979.469529070077, -9979.469524949905, -9979.46952314314, -9979.469521653024, -9979.469517596182, -9979.469515513745, -9979.469512920943, -9979.469511937466, -9979.469509948161, -9979.469508718816, -9979.469507012633, -9979.469503086177, -9979.46950082865, -9979.46950030711, -9979.46950089198, -9979.46950062376, -9979.469503030297, -9979.469504039851, -9979.469503305969, -9979.469506960479, -9979.469508692739, -9979.469511058298, -9979.469513576594, -9979.469517041114, -9979.469518210855, -9979.469521645573, -9979.469528302667, -9979.469529915717, -9979.469534721342, -9979.469540178892, -9979.469545953092, -9979.469552263734, -9979.469555899617, -9979.46956555557, -9979.469574656454, -9979.469583127648, -9979.469587691128, -9979.469593223184, -9979.469594728202, -9979.470722656231, -9979.470722656231, -9979.470722656231, -9979.470722656231, -9979.470722656231, -9979.470722656231, -9979.470722656231, -9979.470722656231, -9979.470722656231, -9979.470722656231, -9979.470722656231, -9979.470722656231, -9979.470722656231, -9979.470722656231, -9979.470722656231, -9979.470722656231, -9979.470722656231, -9979.470722656231, -9979.470722656231, -9979.470722656231, -9979.470722656231, -9979.470722656231, -9979.470722656231, -9979.470722656231, -9979.470722656231, -9979.470722656231, -9979.470722656231, -9979.470722656231, -9979.470722656231, -9979.470722656231, -9979.470722656231, -9979.470722656231, -9979.470722656231, -9979.470722656231, -9979.470722656231, -9979.470722656231, -9979.470722656231, -9979.470722656231, -9979.470722656231, -9979.469753164798, -9979.46975082159, -9979.469741364941, -9979.469739764929, -9979.46973525919, -9979.469728980213, -9979.469727478921, -9979.469727413729, -9979.469712935388, -9979.469711963087, -9979.469705268857, -9979.469703048468, -9979.469700250891, -9979.469698887435, -9979.469699159381, -9979.46969535586, -9979.469692193088, -9979.469690211234, -9979.469690911588, -9979.469683621195, -9979.46968239185, -9979.469682738301, -9979.469679974136, -9979.4696801604, -9979.469682071474, -9979.469683315721, -9979.46968234342, -9979.469679627684, -9979.46968324494, -9979.469683088479, -9979.469686951605, -9979.469685290125, -9979.469688311336, -9979.469691466657, -9979.469693791238, -9979.469694104162, -9979.46969677147, -9979.469688754645, -9979.469692960498, -9979.469692751882, -9979.46969849628, -9979.469701487687, -9979.469704635558, -9979.469707656768, -9979.469712332007, -9979.469720997033, -9979.469725016621, -9979.469730332552, -9979.469734944461, -9979.469738263695, -9979.469747006951, -9979.469750437944, -9979.46975044912, -9979.469748510106, -9979.469747806026, -9979.46974940045, -9979.469752281962, -9979.469750661461, -9979.469751210941, -9979.469752853794, -9979.469755685015, -9979.469756158127, -9979.469756115286, -9979.469758696912, -9979.46975915326, -9979.469761051296, -9979.469765506743, -9979.469770008756, -9979.469767956121, -9979.469769254385, -9979.469774775265, -9979.46976760967, -9979.469769619463, -9979.469779333158, -9979.469776766433, -9979.469780409767, -9979.469789501338, -9979.469791853859, -9979.469783516659, -9979.469786351605, -9979.469789901807, -9979.46979197301, -9979.469790954201, -9979.469793306722, -9979.469796920253, -9979.469796953781, -9979.469800487219, -9979.469798976614, -9979.469808185531, -9979.469803184329, -9979.46981295204, -9979.469814265205, -9979.469817344157, -9979.469829067646, -9979.46983182436, -9979.469837362005, -9979.46985089971, -9979.4698450063, -9979.469833254872, -9979.46985581523, -9979.469854792638, -9979.469863472565, -9979.469904337137, -9979.469892427383, -9979.46988018608, -9979.46986813849, -9979.469855597301, -9979.469843465893
Max Values: -17.8273433893919, -17.753612250089645, -17.643144987523556, -17.73594281822443, -17.492168620228767, -17.475424349308014, -17.402218610048294, -17.32318016886711, -17.254840090870857, -17.203061535954475, -17.212853774428368, -17.331670328974724, -17.37048901617527, -17.408104613423347, -17.422808200120926, -17.465106710791588, -17.482208862900734, -17.492815852165222, -17.517494425177574, -17.439438491594046, -17.360392435919493, -17.283280461560935, -17.192294880282134, -17.092248051892966, -16.986132472287863, -16.860333427321166, -16.676032229792327, -16.53810329688713, -16.406334489118308, -16.273050397168845, -16.11782894982025, -15.929895638953894, -15.741132348310202, -15.542249395977706, -15.314781873486936, -15.093047826550901, -14.87062847521156, -14.647006033919752, -14.420886038802564, -14.130438803695142, -13.732688128016889, -13.423935650847852, -13.285610764287412, -12.956177323125303, -12.551512687467039, -12.17331603076309, -11.862065999768674, -11.561308740638196, -11.269887326285243, -11.16243159584701, -10.862176893278956, -10.208366034552455, -9.712053356692195, -9.56098180823028, -9.249884067103267, -8.715163884684443, -8.015209196135402, -7.439918993040919, -6.955119429156184, -6.373067555949092, -6.026790855452418, -7.541191754862666, -7.161502657458186, -5.715571282431483, -4.937400517985225, -3.7911146860569715, -3.154483076184988, -5.598643122240901, -5.930452285334468, -5.562002180144191, -3.6807045321911573, -0.6970728598535061, 1.6104841269552708, 3.157871011644602, -2.0453255139291286, -3.724046228453517, -5.985063431784511, -4.882941661402583, 6.402010682970285, 8.006353978067636, 8.575857166200876, 7.917599443346262, 7.773167733103037, 8.494290713220835, 8.76085889711976, 9.69098449125886, 4.820815447717905, 1.2729488648474216, 2.8742463625967503, 5.212383154779673, 7.646401647478342, 12.526010759174824, 16.5775303915143, 19.2242064550519, 20.39610744267702, 22.66729760915041, 24.869165427982807, 26.287166841328144, 27.54922343045473, 28.370492227375507, 28.4345758035779, 27.57748842984438, 19.166701801121235, 7.045222166925669, 8.005988482385874, 7.53632653132081, 4.701420191675425, 6.90980601683259, 7.92545760050416, 5.1347153224051, 0.7817226685583591, 0.7604630030691624, 6.860037688165903, 6.318677667528391, 7.378310564905405, 8.54515552893281, 9.715960029512644, 11.655401948839426, 14.770763404667377, 16.07838512212038, 26.002445705235004, 30.533130176365376, 32.79859424382448, 34.248637445271015, 35.437716729938984, 36.266295440495014, 37.01434326916933, 37.59864903241396, 38.0629503801465, 38.525546081364155, 38.85973096638918, 39.30332089215517, 39.679659612476826, 39.94086719304323, 40.152976520359516, 40.330485589802265, 40.62641526013613, 40.6472485139966, 41.12422037869692, 41.6528489664197, 42.28271985799074, 42.09132195264101, 41.919904477894306, 41.221198566257954, 40.41369677335024, 39.382511623203754, 36.94879771023989, 34.1756601408124, 32.75997353345156, 33.26996184140444, 34.782992132008076, 36.051993139088154, 36.689661271870136, 37.781275041401386, 40.49069453030825, 43.86239219456911, 47.00942803919315, 49.42998410761356, 51.56399917602539, 53.47139930725098, 55.198975563049316, 57.49526309967041, 59.84028339385986, 61.66678714752197, 63.77642822265625, 66.28835821151733, 68.82952785491943, 71.51665210723877, 73.88506412506104, 76.33900213241577, 78.61555290222168, 80.64307928085327, 82.94692039489746, 85.14598608016968, 86.72346544265747, 88.73564100265503, 90.9629716873169, 93.46612977981567, 96.162513256073, 98.59963846206665, 100.76873350143433, 102.8311038017273, 105.11155319213867, 107.25652551651001, 109.19974422454834, 111.00870418548584, 113.01405715942383, 114.49212169647217, 115.47944736480713, -19.539277334231883, -19.539277334231883, -19.539277334231883, -19.539277334231883, -19.539277334231883, -19.539277334231883, -19.539277334231883, -19.539277334231883, -19.539277334231883, -19.539277334231883, -19.539277334231883, -19.539277334231883, -19.539277334231883, -19.539277334231883, -19.539277334231883, -19.539277334231883, -19.539277334231883, -19.539277334231883, -19.539277334231883, -19.539277334231883, -19.539277334231883, 42.309035547077656, 45.18097497522831, 43.029062040150166, 43.73191023617983, 48.06839847564697, 51.29450702667236, 48.40562915802002, 53.21530105173588, 52.73456001281738, 57.55252408981323, 68.74522018432617, 83.85651731491089, 105.53723382949829, 137.33755111694336, 147.33312702178955, 203.32560348510742, 233.3001480102539, 303.21216201782227, 371.0461807847023, 421.68926244974136, 483.4989681839943, 538.8622742891312, 623.1718941926956, 710.6491433382034, 753.7269517183304, 759.2688409090042, 668.0235749483109, 358.72069174051285, 362.3756485581398, 442.6618919968605, 706.2534486055374, 808.3193360567093, 739.8069268465042, 417.5771923661232, 409.5957413315773, 451.6560097336769, 703.2398148775101, 858.1320115327835, 881.6153527498245, 855.0696450471878, 799.1595269441605, 700.1462594270706, 694.2846833467484, 701.6140900850296, 798.194618344307, 826.5258942842484, 629.3882447481155, 849.3133926391602, 856.9624862670898, 878.1807289123535, 858.6739807128906, 756.5593605041504, 731.7076034545898, 741.8459663391113, 640.3687705993652, 650.9983596801758, 671.3452606201172, 544.9636764526367, 508.466739654541, 504.7006721496582, 450.26130867004395, 428.64540672302246, 347.61647605895996, 431.1307773590088, 351.6554470062256, 358.19733238220215, 241.54475593566895, -19.539277334231883, -19.539277334231883, -19.539277334231883, -19.539277334231883, -19.539277334231883, -19.539277334231883, -19.539277334231883, -19.539277334231883, -19.539277334231883, -19.539277334231883, -19.539277334231883, -19.539277334231883, -19.539277334231883, -19.539277334231883, -19.539277334231883, -19.539277334231883, -19.539277334231883, -19.539277334231883, -19.539277334231883, -19.539277334231883, -19.539277334231883, -19.539277334231883, -19.539277334231883, -19.539277334231883, -19.539277334231883, -19.539277334231883, -19.539277334231883, -19.539277334231883, -19.539277334231883, -19.539277334231883, -19.539277334231883, -19.539277334231883, -19.539277334231883, -19.539277334231883, -19.539277334231883, -19.539277334231883, -19.539277334231883, -19.539277334231883, -19.539277334231883, 150.4476375579834, 162.1683530807495, 173.7326364517212, 185.11660861968994, 196.9191951751709, 207.83971881866455, 214.79095935821533, 223.60622787475586, 236.80890655517578, 247.69580459594727, 261.17236137390137, 273.1352787017822, 285.3330879211426, 293.8301315307617, 300.2355651855469, 309.40609550476074, 315.3544158935547, 318.2296485900879, 324.1019458770752, 330.62921142578125, 335.89624786376953, 342.19641876220703, 349.5375213623047, 355.15250968933105, 359.94976234436035, 700.5654220581055, 755.0681381225586, 737.1559257507324, 819.4070739746094, 818.9158477783203, 820.364185333252, 818.3817367553711, 824.6585159301758, 760.9940414428711, 743.4541473388672, 684.3042755126953, 730.5789527893066, 753.6665840148926, 770.0739288330078, 734.0175361633301, 730.0877265930176, 753.6724319458008, 742.6276397705078, 739.8518218994141, 665.9203300476074, 735.2689933776855, 673.2594833374023, 567.8485794067383, 659.5987167358398, 685.6980323791504, 738.8576736450195, 743.4560966491699, 770.9920539855957, 782.988109588623, 806.6195983886719, 815.2199554443359, 815.8924674987793, 826.6507110595703, 796.8964385986328, 774.8809280395508, 775.2201080322266, 757.7211494445801, 744.4424476623535, 762.3955955505371, 739.9414901733398, 675.889102935791, 604.815299987793, 505.61100006103516, 500.9735908508301, 492.05744552612305, 475.9805088043213, 449.0926971435547, 474.29435539245605, 473.90839195251465, 467.02635192871094, 431.7028999328613, 431.74383544921875, 395.66502571105957, 413.90959548950195, 443.2710819244385, 435.5742301940918, 355.71975898742676, 385.8297805786133, 380.82297706604004, 357.2100067138672, 371.98577880859375, 382.25474548339844, 388.9535503387451, 355.35718727111816, 345.94786643981934, 308.8632125854492, 304.0610866546631, 335.3592128753662, 357.08330154418945, 271.42670822143555, 325.28517723083496, 271.20351219177246, 260.8244094848633, 259.0407905578613, 278.69178771972656, 239.09642219543457, 232.59790897369385, 241.18900680541992, 227.93077278137207, 214.67400074005127, 201.41820335388184, 188.1624059677124, 174.90709590911865
