View In:
ArcGIS JavaScript
ArcGIS Online Map Viewer
ArcGIS Earth
Service Description: Methane/Plumes_NE_US
Name: Methane/Plumes_NE_US
Description:
Single Fused Map Cache: false
Extent:
XMin: -1.00773017489E7
YMin: 4383168.311100001
XMax: -7973594.9489
YMax: 5506456.511100002
Spatial Reference: 102100
(3857)
Initial Extent:
XMin: -1.00773017489E7
YMin: 4383168.311100001
XMax: -7973594.9489
YMax: 5506456.511100002
Spatial Reference: 102100
(3857)
Full Extent:
XMin: -1.00773017489E7
YMin: 4383168.311100001
XMax: -7973594.9489
YMax: 5506456.511100002
Spatial Reference: 102100
(3857)
Time Info:
Start Time Field: datetime
End Time Field: datetime
Time Extent:
[2021/05/11 15:05:35 UTC, 2024/02/04 16:54:48 UTC]
Time Reference:
N/A
Pixel Size X: 0.6
Pixel Size Y: 0.6000000000000001
Band Count: 4
Pixel Type: U8
RasterFunction Infos: {"rasterFunctionInfos": [{
"name": "None",
"description": "",
"help": ""
}]}
Mensuration Capabilities: Basic
Inspection Capabilities:
Has Histograms: true
Has Colormap: false
Has Multi Dimensions : false
Rendering Rule:
Min Scale: 0
Max Scale: 0
Copyright Text:
Service Data Type: esriImageServiceDataTypeGeneric
Min Values: 0, 0, 0, 0
Max Values: 254, 254, 254, 255
Mean Values: 7.770198019801979, 11.294455445544555, 15.307920792079216, 26.333168316831692
Standard Deviation Values: 27.790920172681524, 41.62554073046463, 50.790786244719925, 77.60230935054483
Object ID Field: OBJECTID
Fields:
-
OBJECTID
(
type: esriFieldTypeOID, alias: OBJECTID
)
-
Shape
(
type: esriFieldTypeGeometry, alias: Shape
)
-
Name
(
type: esriFieldTypeString, alias: Name, length: 200
)
-
MinPS
(
type: esriFieldTypeDouble, alias: MinPS
)
-
MaxPS
(
type: esriFieldTypeDouble, alias: MaxPS
)
-
LowPS
(
type: esriFieldTypeDouble, alias: LowPS
)
-
HighPS
(
type: esriFieldTypeDouble, alias: HighPS
)
-
Category
(
type: esriFieldTypeInteger, alias: Category
, Coded Values:
[0: Unknown]
, [1: Primary]
, [2: Overview]
, ...6 more...
)
-
Tag
(
type: esriFieldTypeString, alias: Tag, length: 100
)
-
GroupName
(
type: esriFieldTypeString, alias: GroupName, length: 100
)
-
ProductName
(
type: esriFieldTypeString, alias: ProductName, length: 100
)
-
CenterX
(
type: esriFieldTypeDouble, alias: CenterX
)
-
CenterY
(
type: esriFieldTypeDouble, alias: CenterY
)
-
ZOrder
(
type: esriFieldTypeInteger, alias: ZOrder
)
-
plume_ID
(
type: esriFieldTypeString, alias: plume_ID, length: 255
)
-
RFP_Regions
(
type: esriFieldTypeInteger, alias: RFP_Regions
)
-
Shape_Length
(
type: esriFieldTypeDouble, alias: Shape_Length
)
-
Shape_Area
(
type: esriFieldTypeDouble, alias: Shape_Area
)
Default Mosaic Method: None
Allowed Mosaic Methods: None,LockRaster,ByAttribute
SortField: N/A
SortValue: N/A
Mosaic Operator: First
Default Compression Quality: 75
Default Resampling Method: Nearest
Max Record Count: 1000
Max Image Height: 4100
Max Image Width: 15000
Max Download Image Count: 100
Max Mosaic Image Count: 50
Allow Raster Function: true
Allow Copy: true
Allow Analysis: true
Allow Compute TiePoints: false
Supports Statistics: true
Supports Advanced Queries: true
Use StandardizedQueries: true
Raster Type Infos:
Name: Raster Dataset
Description: Supports all ArcGIS Raster Datasets
Help:
Has Raster Attribute Table: false
Edit Fields Info: null
Ownership Based AccessControl For Rasters: null
Child Resources:
Info
Histograms
Statistics
Key Properties
Legend
Raster Function Infos
Supported Operations:
Export Image
Query
Identify
Measure
Compute Histograms
Compute Statistics Histograms
Get Samples
Compute Class Statistics
Query GPS Info
Find Images
Image to Map
Map to Image
Measure from Image
Image to Map Multiray
Query Boundary
Compute Pixel Location
Compute Angles
Validate
Project