View In:
ArcGIS JavaScript
ArcGIS Online Map Viewer
ArcGIS Earth
ArcMap
View Footprint In:
ArcGIS Online Map Viewer
Service Description: UAV otrhophoto 2017
Name: Michigan_Landslide/UAV_MiamiPark_Orthomosaic_export_FriJul14_clip_WebWGS84
Description: UAV otrhophoto 2017
Single Fused Map Cache: true
Tile Info:
- Height: 256
- Width: 256
- DPI: 96
-
Levels of Detail: 6
- Format: PNG
- Compression Quality: 0.0
- LERC Error: NaN
- Origin: X: -2.0037508342787E7
Y: 2.0037508342787E7
- Spatial Reference: 102100
(3857)
Extent:
XMin: -9601893.949584216
YMin: 5230770.714693537
XMax: -9601517.689584218
YMax: 5231614.294693532
Spatial Reference: 102100
(3857)
Initial Extent:
XMin: -9601893.949584216
YMin: 5230770.714693537
XMax: -9601517.689584218
YMax: 5231614.294693532
Spatial Reference: 102100
(3857)
Full Extent:
XMin: -9601893.949584216
YMin: 5230770.714693537
XMax: -9601517.689584218
YMax: 5231614.294693532
Spatial Reference: 102100
(3857)
Pixel Size X: 0.01999999999988911
Pixel Size Y: 0.019999999999891365
Band Count: 4
Pixel Type: U8
RasterFunction Infos: {"rasterFunctionInfos": [{
"name": "None",
"description": "",
"help": ""
}]}
Mensuration Capabilities: Basic
Has Histograms: true
Has Colormap: false
Has Multi Dimensions : false
Rendering Rule:
Min Scale: 4000
Max Scale: 125
Copyright Text:
Service Data Type: esriImageServiceDataTypeGeneric
Min Values: 1, 1, 1, 16
Max Values: 255, 255, 255, 255
Mean Values: 162.94413108503, 156.37544620005, 93.4672146482, 254.99210191646
Standard Deviation Values: 42.856216932736, 34.836502675546, 44.703235246013, 1.0909044377871
Object ID Field:
Fields:
None
Default Mosaic Method: Center
Allowed Mosaic Methods:
SortField:
SortValue: null
Mosaic Operator: First
Default Compression Quality: 75
Default Resampling Method: Bilinear
Max Record Count: null
Max Image Height: 4100
Max Image Width: 15000
Max Download Image Count: null
Max Mosaic Image Count: null
Allow Raster Function: true
Allow Compute TiePoints: false
Supports Statistics: false
Supports Advanced Queries: false
Use StandardizedQueries: true
Raster Type Infos:
Name: Raster Dataset
Description: Supports all ArcGIS Raster Datasets
Help:
Has Raster Attribute Table: false
Edit Fields Info: null
Ownership Based AccessControl For Rasters: null
Child Resources:
Info
Histograms
Key Properties
Legend
rasterFunctionInfos
Supported Operations:
Export Image
Identify
Measure
Compute Histograms
Compute Statistics Histograms
Get Samples
Compute Class Statistics
Query Boundary
Compute Pixel Location
Validate
Project