View In:
ArcGIS JavaScript
ArcGIS Online Map Viewer
ArcGIS Earth
Service Description: NASA_EMIT/EMIT_L2A_Reflectance_CRF_MD_bandinfo
Name: NASA_EMIT/EMIT_L2A_Reflectance_CRF_MD_bandinfo
Description:
Single Fused Map Cache: false
Extent:
XMin: 4226389.476399999
YMin: 1738883.5452584813
XMax: 5370895.308409532
YMax: 2213442.1050000004
Spatial Reference: 102100
(3857)
Initial Extent:
XMin: 4226389.476399999
YMin: 1738883.5452584813
XMax: 5370895.308409532
YMax: 2213442.1050000004
Spatial Reference: 102100
(3857)
Full Extent:
XMin: 4226389.476399999
YMin: 1738883.5452584813
XMax: 5370895.308409532
YMax: 2213442.1050000004
Spatial Reference: 102100
(3857)
Pixel Size X: 60.36104804649188
Pixel Size Y: 60.36104804649188
Band Count: 285
Pixel Type: F32
RasterFunction Infos: {"rasterFunctionInfos": [{
"name": "None",
"description": "",
"help": ""
}]}
Mensuration Capabilities: Basic
Inspection Capabilities:
Has Histograms: true
Has Colormap: false
Has Multi Dimensions : false
Rendering Rule:
Min Scale: 0
Max Scale: 0
Copyright Text:
Service Data Type: esriImageServiceDataTypeGeneric
Min Values: 0.07447884049906861, 0.08061108109541237, 0.08206559199607, 0.09945156704634428, 0.10537490090064239, 0.11390842945547774, 0.12323420973552857, 0.12567188177490607, 0.13532381231198087, 0.14356182323535904, 0.15208292414899915, 0.1580866897420492, 0.16251865128288046, 0.16628728082287125, 0.17250755048007704, 0.17729383063851856, 0.18477502471068874, 0.1922794533020351, 0.19992401826311834, 0.20702309114858508, 0.224225859856233, 0.23756430798675865, 0.2492138528614305, 0.26127074245596305, 0.27606605051551014, 0.2890379655873403, 0.30117458885069937, 0.3136498192907311, 0.3268402746762149, 0.3329655632842332, 0.3399260371224955, 0.34768568264553323, 0.3519069185713306, 0.35494040220510215, 0.3569585403893143, 0.36461973551195115, 0.3671362031600438, 0.3689012559480034, 0.36853640706976876, 0.3703603053581901, 0.3781320572597906, 0.38008084596367553, 0.37682738644070923, 0.3816411915468052, 0.3860914005781524, 0.3952594037982635, 0.39216040761675686, 0.38558253506198525, 0.3941000442719087, 0.40277447405969724, 0.40469119825866073, 0.4069350138306618, 0.406460291298572, 0.4096016935072839, 0.4108884704182856, 0.411595759622287, 0.4122040782822296, 0.41274454700760543, 0.4133431288646534, 0.4132421981776133, 0.4134061836521141, 0.4132000323734246, 0.4134089988656342, 0.4140464948141016, 0.41393607459031045, 0.4142298180377111, 0.4143654304789379, 0.41438067611306906, 0.4146351280505769, 0.41505027905805036, 0.4148802637355402, 0.4152912157587707, 0.41530583548592404, 0.4159505363786593, 0.4164078398607671, 0.41676372778601944, 0.4174474846222438, 0.4181197819998488, 0.41886999492999166, 0.4198499752092175, 0.4213626842247322, 0.4226080777007155, 0.42438852234045044, 0.4261539249564521, 0.42787809896981344, 0.42879166739294305, 0.4302104029338807, 0.4314139012712985, 0.4325546321924776, 0.433354904234875, 0.4344000819255598, 0.43524471833370626, 0.43611943221185356, 0.4371437814552337, 0.4378192445146851, 0.43889393092831597, 0.439820192696061, 0.4401630565407686, 0.44072006829082966, 0.4414211602997966, 0.44203939859289676, 0.4427224998944439, 0.44321272301021963, 0.44357577193295583, 0.44382805976783857, 0.44380621472373605, 0.44416459009516984, 0.4450680023874156, 0.44569570175372064, 0.446378055261448, 0.4473411785438657, 0.44786972500151023, 0.44869134470354766, 0.44988977327011526, 0.45025034685386345, 0.45162856724346057, 0.4520503936801106, 0.4524563215090893, 0.45302357187028974, 0.4535499634803273, 0.4540636911406182, 0.45458505005808547, 0.4550499395118095, 0.4554478662321344, 0.45576977834571153, 0.45600284927058965, 0.45617995905922726, -0.5060937497764826, -0.5060937497764826, -0.5060937497764826, -0.5060937497764826, -0.5060937497764826, -0.5060937497764826, -0.5060937497764826, -0.5060937497764826, -0.5060937497764826, -0.5060937497764826, -0.5060937497764826, -0.5060937497764826, -0.5060937497764826, -0.5060937497764826, -0.5060937497764826, 0.19994679038063623, 0.4299514786689542, 0.4835112957516685, 0.526387379039079, 0.5571608194150031, 0.4709722839179449, 0.4273503730073571, 0.4109222568804398, 0.4357172184973024, 0.4451497719855979, 0.4543268475099467, 0.4587916938471608, 0.46330208523431793, 0.46565913554513827, 0.4695784219657071, 0.4735322332708165, 0.474812256754376, 0.4733932616072707, 0.4737743800505996, 0.4712370274355635, 0.47563560429262, 0.47529261535964906, 0.47365636943141, 0.4735679526347667, 0.4753899938077666, 0.4776212932774797, 0.47812414151849225, 0.4777936143800616, 0.47807306284084916, 0.4782325723208487, 0.476015267544426, 0.4766646144562401, 0.47568519873311743, 0.47740508225979283, 0.47565673699136823, 0.474532549676951, 0.47320573189063, 0.4735992489149794, 0.47648799954913557, 0.47275438002543524, 0.4724742286489345, 0.4730193185969256, 0.47371377114905044, 0.4761478372383863, 0.47484501759754494, -0.5060937497764826, -0.5060937497764826, -0.5060937497764826, -0.5060937497764826, -0.5060937497764826, -0.5060937497764826, -0.5060937497764826, -0.5060937497764826, -0.5060937497764826, -0.5060937497764826, -0.5060937497764826, -0.5060937497764826, -0.5060937497764826, -0.5060937497764826, -0.5060937497764826, -0.5060937497764826, -0.5060937497764826, -0.5060937497764826, -0.5060937497764826, -0.5060937497764826, -0.5060937497764826, -0.5060937497764826, -0.5060937497764826, -0.5060937497764826, -0.5060937497764826, -0.5060937497764826, 0.4200008825864643, 0.42336314416024834, 0.4267035876400769, 0.4297708545345813, 0.43267981515964493, 0.4358542066765949, 0.4403462011250667, 0.4448016680544242, 0.44776769512100145, 0.4502952029579319, 0.4533282586489804, 0.455666784546338, 0.45707547751953825, 0.4586873753578402, 0.44442179187899455, 0.4489567698328756, 0.457378456951119, 0.4583675083122216, 0.46002645342377946, 0.4582688147202134, 0.4596732400241308, 0.46032120171003044, 0.464619857724756, 0.4615696229157038, 0.46022997464751825, 0.45835852273739874, 0.449891384341754, 0.44477642769925296, 0.4407828252296895, 0.43598686170298606, 0.4290042679058388, 0.42384985595708713, 0.4093247104319744, 0.41264154569944367, 0.41516949894139543, 0.414607408340089, 0.4163394446368329, 0.40891101671149954, 0.4043129537603818, 0.40670452517224476, 0.40545878204284236, 0.40255743346642703, 0.40389364247675985, 0.3963309556711465, 0.39081968285609037, 0.3807453990448266, 0.38010761921759695, 0.3873110209242441, 0.3669607812189497, 0.37026116909692064, 0.37394771655090153, 0.3557389732450247, 0.3528756858431734, 0.35708089370746166, 0.3731967738131061, 0.3605445744469762, 0.3643267469597049, 0.35206756339175627, 0.36287692899350077, 0.3738529561669566, 0.37881346698850393, 0.3667693836032413, 0.36543493339559063, 0.3954608559724875, 0.3869834639481269, 0.42134307738160715, 0.3995544769568369, 0.41826544370269403, 0.4152793420944363, 0.4089099454577081, 0.4038003633613698, 0.4062612235429697
Max Values: 0.1497974711965071, 0.15236702444963157, 0.15352951508248225, 0.16966182459145784, 0.177748808360775, 0.1868364021065645, 0.1971122872637352, 0.19849286641692743, 0.20882947271456942, 0.21791525377193466, 0.22650780866388232, 0.23340748008922674, 0.23700275918236002, 0.24257589111221023, 0.25159456217079423, 0.25733705508173443, 0.26601469510933384, 0.27656411108910106, 0.286276299477322, 0.2949083377607167, 0.31630810000933707, 0.3319271976361051, 0.347176841518376, 0.36677377339219674, 0.38607044459786266, 0.40550569409970194, 0.4215105097973719, 0.4399023493169807, 0.45853773440467194, 0.46974836732260883, 0.4817663104040548, 0.4927101553766988, 0.4991075167199597, 0.5036125901388004, 0.5102129855658859, 0.5200180375250056, 0.525356120953802, 0.5296342638903297, 0.5278969761566259, 0.5325459634768777, 0.5456939815776423, 0.553775611508172, 0.5518142904620618, 0.5600402530981228, 0.5650260255788453, 0.5870698753860779, 0.5804134091595188, 0.5716350390575826, 0.5831951756263152, 0.5960731595405377, 0.6011451097438112, 0.6076136454939842, 0.6034296391881071, 0.6128174015320837, 0.6170234608580358, 0.619808288582135, 0.6224652613746002, 0.6249682654161006, 0.6280454423977062, 0.628511868766509, 0.6297008789260872, 0.6296271267929114, 0.6318234163336456, 0.6348899616277777, 0.635690156603232, 0.6371754329884425, 0.6382290524197742, 0.6397271091118455, 0.641030156344641, 0.6432411859859712, 0.6428011179668829, 0.6445991736836731, 0.6443942661280744, 0.6470083597814664, 0.6480821208097041, 0.6491617511492223, 0.6509105492732488, 0.6524880590150133, 0.6541345488512889, 0.6570855843019672, 0.6602867980254814, 0.6620409188908525, 0.6675574536784552, 0.6718927652691491, 0.6751319892355241, 0.6780863450258039, 0.6816309180576354, 0.6844258185010403, 0.6877032222691923, 0.6899880568380468, 0.6927103695343249, 0.6949274151120335, 0.6985763957491145, 0.6999876711051911, 0.7029396573198028, 0.706240905507002, 0.7101490572676994, 0.7108354464289732, 0.7129916083067656, 0.7143879739451222, 0.7160342055140063, 0.7178736025816761, 0.719369376427494, 0.7202324844547547, 0.7203536793240346, 0.7198758884333074, 0.72155783965718, 0.7254172855173238, 0.726487215841189, 0.7289020388852805, 0.7322218669578433, 0.7334507336490788, 0.7353968258248642, 0.7389752923045307, 0.7412789569352753, 0.7448063776246272, 0.7475863040890545, 0.74850410601357, 0.7505116868996993, 0.7523417351185344, 0.7541905567632057, 0.756017561245244, 0.7577151283039711, 0.7592257125070319, 0.7605443586362526, 0.7615763366920874, 0.7623586530680768, 1.4860937502235174, 1.4860937502235174, 1.4860937502235174, 1.4860937502235174, 1.4860937502235174, 1.4860937502235174, 1.4860937502235174, 1.4860937502235174, 1.4860937502235174, 1.4860937502235174, 1.4860937502235174, 1.4860937502235174, 1.4860937502235174, 1.4860937502235174, 1.4860937502235174, 1.1903177654312458, 0.8714065356762148, 0.8002454967936501, 0.9044141317717731, 0.9130775085650384, 0.775297568005044, 0.6960268309339881, 0.7093267164891586, 0.7382536298246123, 0.7543582393554971, 0.771964123530779, 0.7790946455788799, 0.785544773505535, 0.7919977665296756, 0.7943276694859378, 0.8032499813707545, 0.806664896546863, 0.8098272977513261, 0.8054847056046128, 0.8006154062459245, 0.8104666608269326, 0.8142609077040106, 0.8109177518053912, 0.8092824320774525, 0.8104137712507509, 0.8177669880678877, 0.817993015225511, 0.8205556469038129, 0.8168640709482133, 0.8148690960370004, 0.8193941138451919, 0.8141076745814644, 0.8197894795448519, 0.8220825979369693, 0.8207031000638381, 0.8186902651214041, 0.8217314317007549, 0.819559937925078, 0.8256463950965554, 0.8204767198185436, 0.821742016763892, 0.8230498564080335, 0.8240476989303716, 0.8330889276694506, 0.8268255039001815, 1.4860937502235174, 1.4860937502235174, 1.4860937502235174, 1.4860937502235174, 1.4860937502235174, 1.4860937502235174, 1.4860937502235174, 1.4860937502235174, 1.4860937502235174, 1.4860937502235174, 1.4860937502235174, 1.4860937502235174, 1.4860937502235174, 1.4860937502235174, 1.4860937502235174, 1.4860937502235174, 1.4860937502235174, 1.4860937502235174, 1.4860937502235174, 1.4860937502235174, 1.4860937502235174, 1.4860937502235174, 1.4860937502235174, 1.4860937502235174, 1.4860937502235174, 1.4860937502235174, 0.7372846885118634, 0.7427258541574702, 0.7485693539492786, 0.7536793674807996, 0.7576145995990373, 0.7618210810469463, 0.7692818146315403, 0.7768327795201913, 0.7822056508739479, 0.7893398771411739, 0.7990371814812534, 0.8078035671496764, 0.809985785803292, 0.8147335247485898, 0.7906256975256838, 0.7962642787606455, 0.8037121196975932, 0.8069515112438239, 0.8074091270682402, 0.8086370890960097, 0.8079393662628718, 0.8149555784184486, 0.8215487175621092, 0.8177096985164098, 0.818450260499958, 0.8066612516995519, 0.7968258898472413, 0.7839674830902368, 0.7818728287238628, 0.7768970279721543, 0.7553084929240867, 0.7518812367343344, 0.7264277588692494, 0.731150874926243, 0.7317946636467241, 0.728927907650359, 0.7286611621384509, 0.7238366632373072, 0.7148704971768893, 0.7171681423787959, 0.7178344091516919, 0.7141715280013159, 0.7152301144087687, 0.7062742679845542, 0.69362501881551, 0.6836590885650367, 0.686633549281396, 0.6953728701337241, 0.6547965532517992, 0.66604065237334, 0.6682225696276873, 0.639313006773591, 0.629625552741345, 0.6519840786932036, 0.6655951807042584, 0.6401549456641078, 0.6351770741748624, 0.6241043175687082, 0.645175002864562, 0.6692733587115072, 0.6731110000982881, 0.6287933188141324, 0.6614029221818782, 0.70211048721103, 0.6946959100314416, 0.7405964541831054, 0.7165110848145559, 0.7607697728672065, 0.7616147266235203, 0.7535964262788184, 0.7313250650768168, 0.7382357239839621
Mean Values: 0.10504192401684379, 0.11326527062829983, 0.12003336752093784, 0.1319486727341008, 0.1421341946891451, 0.15043168123039272, 0.16098948033628088, 0.16565563295700425, 0.1743308926037913, 0.18315729235781403, 0.1917813431036554, 0.19803349545436733, 0.2027114246749708, 0.20695568962558095, 0.21406507046759413, 0.21892551812891436, 0.22653141193236034, 0.2347363254825772, 0.2423132910994076, 0.24900080716041395, 0.2681840417988089, 0.28174712242622224, 0.2949070499328319, 0.31088414947537824, 0.32848478129367453, 0.3446904792153284, 0.35926855639549987, 0.37510036805909386, 0.3910820344867271, 0.39883704694863786, 0.41027675664847335, 0.41897156971245836, 0.4241911755100734, 0.42891351136482525, 0.43253857053967637, 0.4408031972958978, 0.44550594709671626, 0.447270150969219, 0.44635999538207005, 0.4489096614639572, 0.4616896043829861, 0.46836157520600624, 0.4640424043278045, 0.4709333180746451, 0.4758310536113331, 0.49200802432836, 0.4854837094629149, 0.4790862219240403, 0.4873682819820604, 0.498213489296607, 0.501697441773721, 0.5059051144551887, 0.5037271064972103, 0.5100554286942025, 0.512618717984679, 0.5143536289129358, 0.5159153366095829, 0.5172143687856245, 0.5188186836355821, 0.5188367387180324, 0.5195124415634751, 0.5193188900686955, 0.5203971932161593, 0.5219162962255111, 0.5219573160981986, 0.5230071930966401, 0.5232126203961012, 0.5237987638547852, 0.5243679767022646, 0.5254207304320031, 0.5250971533158051, 0.5259724020260262, 0.5258482371995161, 0.5273094601352236, 0.527825352771117, 0.5283592015588612, 0.5293669528479339, 0.5302690500426716, 0.5312422764399815, 0.5330619011448906, 0.5349886988027223, 0.5367408446297168, 0.5399058677508068, 0.5430924677219287, 0.5452202815394893, 0.5471503215180186, 0.5492455139606749, 0.5511087474035468, 0.5531048306653382, 0.5547357096611282, 0.5564240482088805, 0.5579030608015716, 0.559540352511362, 0.5612820498660825, 0.5630355729854906, 0.5650955413073694, 0.5671689182394206, 0.5678399042505395, 0.5690914209954602, 0.5701821626091241, 0.5713713764983884, 0.5726917200781932, 0.5737533032862248, 0.5744418374148003, 0.5748340397396952, 0.5749182686999511, 0.5759542881844972, 0.5781406489115665, 0.5791188649165069, 0.5806857442059037, 0.5825681047615844, 0.5837021731010217, 0.5850288095698112, 0.5874040301207688, 0.5885374305125797, 0.5909616595041902, 0.5926318711046763, 0.5934875822166497, 0.5948447894451879, 0.5960821651534555, 0.5973688667585975, 0.5985939223823133, 0.5997049085197743, 0.6007390078087089, 0.6016443145178973, 0.6023866544269662, 0.6029540803648632, -0.5060937497764826, -0.5060937497764826, -0.5060937497764826, -0.5060937497764826, -0.5060937497764826, -0.5060937497764826, -0.5060937497764826, -0.5060937497764826, -0.5060937497764826, -0.5060937497764826, -0.5060937497764826, -0.5060937497764826, -0.5060937497764826, -0.5060937497764826, -0.5060937497764826, 0.7384067757521615, 0.6622087055118142, 0.6466059517849322, 0.7043831236084653, 0.7126269615363149, 0.6200241985485694, 0.5603371827244461, 0.5629657209401142, 0.5850073227957663, 0.5956990778769333, 0.6082856619332713, 0.6128192395887576, 0.6187229534860966, 0.6241469622862479, 0.6277200966667489, 0.633912182568206, 0.6357383252868264, 0.6378203417690552, 0.6342322177286476, 0.6311882105203233, 0.6383877523733004, 0.6412297918156785, 0.6370358429374706, 0.6361211804543276, 0.6384950284411656, 0.6423936990283112, 0.6445194450938416, 0.6439128174241658, 0.6427789969104873, 0.6414599483307005, 0.6434824016571727, 0.6395019011588173, 0.6435254196740713, 0.6448750763920044, 0.6432331820547834, 0.6417039642428681, 0.6418487479700271, 0.6402778672406757, 0.6445305001016518, 0.6406132378043512, 0.6411824588107838, 0.642694331570134, 0.6427152678267153, 0.6489311295557871, 0.6458383075540972, -0.5060937497764826, -0.5060937497764826, -0.5060937497764826, -0.5060937497764826, -0.5060937497764826, -0.5060937497764826, -0.5060937497764826, -0.5060937497764826, -0.5060937497764826, -0.5060937497764826, -0.5060937497764826, -0.5060937497764826, -0.5060937497764826, -0.5060937497764826, -0.5060937497764826, -0.5060937497764826, -0.5060937497764826, -0.5060937497764826, -0.5060937497764826, -0.5060937497764826, -0.5060937497764826, -0.5060937497764826, -0.5060937497764826, -0.5060937497764826, -0.5060937497764826, -0.5060937497764826, 0.5780076559942535, 0.582063193755004, 0.5862994019395527, 0.5901002390804765, 0.5931052881652865, 0.5969517729994548, 0.602664323177906, 0.6083487241629547, 0.6122780555317421, 0.6164230434281265, 0.6226843133082641, 0.627392346190279, 0.629476525377591, 0.6325573343592505, 0.6181770065244807, 0.6221494988075262, 0.6273711746029361, 0.6277297652772567, 0.6296901939184132, 0.6284702709119068, 0.6277694736461531, 0.6321833236588418, 0.636558803166981, 0.6349586576689333, 0.6345372885826827, 0.6271865086517692, 0.6192151691193076, 0.6107182296044193, 0.6082685669496721, 0.6030990574865713, 0.5901992965216343, 0.5856642265718651, 0.5665933702138148, 0.5697326827610115, 0.5709653986500142, 0.5703263840642196, 0.5703579589867276, 0.564722117176398, 0.5587034377784547, 0.5593032992723374, 0.5576547030179414, 0.5557105550790237, 0.556054184616559, 0.5486975758662443, 0.5369505887082096, 0.5281017794677633, 0.5316954671666904, 0.537165524631902, 0.508997935591394, 0.5154640321283047, 0.5169995668119393, 0.49523809665078433, 0.4904608509110231, 0.5029952885052085, 0.5152780650087134, 0.5002542761547586, 0.49778056840065676, 0.4906405661612921, 0.507472842494933, 0.5194618956995299, 0.5229645487149457, 0.503918814097171, 0.5148903955531198, 0.5487623382647095, 0.5410966089728086, 0.5734360366303177, 0.5594297318485946, 0.5890629488637863, 0.5809922314134381, 0.5707518822859043, 0.5617597703242811, 0.5662680320690553
Standard Deviation Values: 0.01109728036461549, 0.008858076113118795, 0.008467252243603719, 0.007623655114869632, 0.007692597138171161, 0.007574959725902456, 0.007649729391918059, 0.007769965184842256, 0.007617108552314224, 0.007654776708938949, 0.007896393328061154, 0.008104743840957477, 0.008332588350937364, 0.00852198058930229, 0.008779404190477787, 0.009108346375612383, 0.009381516551732727, 0.009754415380145794, 0.01000462488853185, 0.010453613187514862, 0.011119602886649343, 0.011555732056802085, 0.01200981681619038, 0.01250855379141451, 0.01297131908444053, 0.013393084086880162, 0.013787331199874173, 0.014164057138200712, 0.014544338087313792, 0.014799247948392616, 0.015003911848770236, 0.015175823941413686, 0.015447378599529818, 0.01583484844285021, 0.01610246057422177, 0.016369848356910133, 0.016671243646655138, 0.01691109174087734, 0.016714648381648056, 0.017305044441406688, 0.017491727158681906, 0.01797200319872224, 0.017931062743801414, 0.01809421653063348, 0.01833656755168319, 0.019175241153849, 0.01906161290436673, 0.018994839761540528, 0.01898187914966261, 0.01927132274229362, 0.01943981689000571, 0.019847972541390684, 0.019489088121747936, 0.02001565041017608, 0.020237970702786278, 0.02041178290166404, 0.02056850686272964, 0.02071823639884698, 0.0209526955103449, 0.020981960535247812, 0.02110175876643544, 0.021123221217253563, 0.021246832078604394, 0.021437773309422602, 0.021500345525512003, 0.02164813359463669, 0.021696766786431055, 0.021803413851075874, 0.0219022225035096, 0.022027585999130666, 0.02195609454143398, 0.022054514896430875, 0.021972131182399823, 0.022151044671921593, 0.022143513812452033, 0.022146950166629112, 0.022213625789502763, 0.022267606804304937, 0.02234205529748417, 0.02240650416802842, 0.0226141931486782, 0.022661854939071614, 0.022851223018522635, 0.023133633460892762, 0.023220779886204877, 0.023355102978388845, 0.02347714335224176, 0.023571112139177005, 0.023676731675116677, 0.023727618173732135, 0.023794105677314468, 0.02385870754867864, 0.023930887835311634, 0.02402674562428515, 0.02413740374223655, 0.024259482438214908, 0.024415053948042192, 0.02438580366055042, 0.02443755134001851, 0.024463116062018238, 0.02449378685589374, 0.0245382844357591, 0.024556660811277668, 0.024523174496219248, 0.024490872768673354, 0.024425932228543255, 0.02447243268971938, 0.02463669919515203, 0.024657729397570247, 0.024734832543551247, 0.02490020454544672, 0.024902201949057415, 0.024955179398910596, 0.02509327255284776, 0.025143497556410623, 0.025327360125462935, 0.025439242169080587, 0.025447726646876855, 0.025523804469781034, 0.025591115541086173, 0.02566299584084689, 0.025735381109221748, 0.025799034122584098, 0.02585845240789338, 0.02589864415533584, 0.025923972842036277, 0.025936787493901506, 0, 0, 0, 0, 0, 0, 0, 0, 0, 0, 0, 0, 0, 0, 0, 0.04864691557836701, 0.03007195154481345, 0.0280692337451895, 0.029716085920490826, 0.03235416109581125, 0.025265259514160067, 0.025302977460163485, 0.025461991801815922, 0.025057813696945742, 0.025619202854194785, 0.026284102406332645, 0.026480958410310167, 0.026697875848085792, 0.026802910356570696, 0.026964829514995847, 0.027128946407131222, 0.027224629208580223, 0.02736966340895973, 0.027712030033035028, 0.027329819311453795, 0.027418167594988645, 0.027477063956404153, 0.027732723209603138, 0.0274737975348263, 0.027475452001796068, 0.027645987367826922, 0.027782926930272928, 0.02791601785375348, 0.027827371227762687, 0.027686321519990134, 0.02787474110147445, 0.027631016167231768, 0.027974555810129986, 0.02799131168525511, 0.028159704396988845, 0.028101873241316334, 0.028360115299567622, 0.02819460645003918, 0.02861525459164118, 0.027991367547777406, 0.028409570476014598, 0.028135297143542605, 0.02825652796009778, 0.028463950256409375, 0.029368595816936155, 0, 0, 0, 0, 0, 0, 0, 0, 0, 0, 0, 0, 0, 0, 0, 0, 0, 0, 0, 0, 0, 0, 0, 0, 0, 0, 0.025414838178642, 0.025512795899623106, 0.02565102308751651, 0.025753961635278058, 0.025812953671625387, 0.02587646913590815, 0.02615621336427998, 0.026467647792863213, 0.0266731547996418, 0.027124644463698225, 0.027449010536920636, 0.02816712638121145, 0.028348253449612365, 0.028351560102507084, 0.02782105481434485, 0.02744555661530073, 0.027933228116541163, 0.027994284177325194, 0.028290215074844475, 0.027547062590891208, 0.028121979986175147, 0.028109735504992385, 0.02826072032032142, 0.02822194051099671, 0.02810475290263599, 0.028239363385536724, 0.02729221166381702, 0.02706607203779942, 0.026851397789801237, 0.026776120099350785, 0.025978847764828093, 0.026029772252713773, 0.024917581210341495, 0.024859322765387035, 0.0250420008423646, 0.02513334718458876, 0.02502679955071185, 0.0249102042592881, 0.02443621948456648, 0.024771213863207686, 0.024905754862202707, 0.02487071663715027, 0.024917842977829785, 0.024498277090503253, 0.02438064514409327, 0.023872949037564664, 0.024001541042899584, 0.024551344760840546, 0.02387128431921258, 0.02355076349640435, 0.023915331344620552, 0.022618366221477927, 0.022988511317011736, 0.022494444879174666, 0.023279290371060957, 0.022008752802210988, 0.02238294990184511, 0.021883373007371955, 0.02264204182837161, 0.023320086910104183, 0.023166547061110532, 0.02359316580963904, 0.022763763145072398, 0.026180029834169276, 0.024044619002924403, 0.030414006075678315, 0.025451898427651762, 0.028786856290257037, 0.0282983913747023, 0.027268302146934167, 0.026609911071033485, 0.02696638674083323
Object ID Field: OBJECTID
Fields:
-
OBJECTID
(
type: esriFieldTypeOID, alias: OBJECTID
)
-
Shape
(
type: esriFieldTypeGeometry, alias: Shape
)
-
Name
(
