View In:
ArcGIS JavaScript
ArcGIS Online Map Viewer
ArcGIS Earth
Service Description: NASA_EMIT/EMIT_L2A_Reflectance_GRID_MD
Name: NASA_EMIT/EMIT_L2A_Reflectance_GRID_MD
Description:
Single Fused Map Cache: false
Extent:
XMin: 3132888.7300000004
YMin: 1187054.5600464917
XMax: 6719964.732258873
YMax: 4388061.299000002
Spatial Reference: 102100
(3857)
Initial Extent:
XMin: 3132888.7300000004
YMin: 1187054.5600464917
XMax: 6719964.732258873
YMax: 4388061.299000002
Spatial Reference: 102100
(3857)
Full Extent:
XMin: 3132888.7300000004
YMin: 1187054.5600464917
XMax: 6719964.732258873
YMax: 4388061.299000002
Spatial Reference: 102100
(3857)
Pixel Size X: 60.361048046491874
Pixel Size Y: 60.36104804649188
Band Count: 285
Pixel Type: F32
RasterFunction Infos: {"rasterFunctionInfos": [{
"name": "None",
"description": "",
"help": ""
}]}
Mensuration Capabilities: Basic
Inspection Capabilities:
Has Histograms: true
Has Colormap: false
Has Multi Dimensions : false
Rendering Rule:
Min Scale: 0
Max Scale: 0
Resampling: false
Copyright Text:
Service Data Type: esriImageServiceDataTypeGeneric
Min Values: -0.02536425321159186, -0.10631896002450958, -0.012999547470826656, -0.004853839696806972, -0.0017299675637332257, 0.0035577544026637042, 0.007365793373537599, 0.007043554459414736, 0.008208062174162478, 0.00829569005236408, 0.008381001703128277, 0.008435861732323247, 0.008456396784140452, 0.008487667940016763, 0.010523063248911058, 0.010598913805097254, 0.011063739144901774, 0.012628709575437824, 0.013646530691403314, 0.01528605963994778, 0.01731738421949558, 0.017363231752824504, 0.016777244407421676, 0.016668159667460714, 0.016587808016993222, 0.015403214711113833, 0.014006883659021696, 0.012774677112247446, 0.010723743689595722, 0.00953657555328391, 0.008926127776248904, 0.008219634564738953, 0.007370109628027421, 0.007228819516058138, 0.007036605545181374, 0.007080731325913803, 0.00689048322783492, 0.006357349101563159, 0.005625811425488791, 0.006159522463349276, 0.006479070475506887, 0.006225251204341475, 0.005880444115064165, 0.005699261397239752, 0.005519294547411846, 0.004973932643679291, 0.004016836272512592, 0.004081220231910265, 0.004030550756851881, 0.004582869197747641, 0.0043916780409745115, 0.00443455808726867, 0.003941536240745336, 0.0043157179557056224, 0.0043423704391898355, 0.004407614657338854, 0.004383573290851928, 0.004288759083465266, 0.004309746193484898, 0.004380660380320478, 0.0044021477824571775, 0.004187399887541687, 0.0040129140320459555, 0.003973393394971936, 0.0044439923940444714, 0.00425916612311994, 0.004240100875904318, 0.0042521009454503655, 0.0041907967183760775, 0.0042717552619251364, 0.004492940378440835, 0.004520990744822484, 0.004576914977405977, 0.004537555221304501, -0.029325589748623315, 2.954580616005842E-4, -5.857180758539471E-5, -1.1114602193629253E-4, 0.0010118226825852616, 3.357420957854629E-4, 7.903315777184616E-4, -8.089595730780275E-4, -0.0016060951861618378, -0.0026649376941350056, -0.0030131779531075153, -0.0018324310008210887, -6.887906979500258E-4, 0.0013425973693301785, 0.003048630420835252, 0.0034320915633543336, 0.003720742362929741, 0.0034057283228321467, 0.0038376796505872335, 0.003879982409216609, 0.0037149639229028253, 0.0038546520531781425, 0.00416241474022172, 0.002816560308019689, 6.527288762754324E-4, -0.0022978855413384736, -0.0030925585524528287, 2.770274541035178E-4, 0.001814913947896457, 9.159085752799001E-4, 7.847020535791671E-4, 0.0012101067222829442, 0.0020560361551531514, 0.0030654567899546237, 0.004029195652947237, 0.0044527853569888975, 0.0045497481269194395, 0.004422267201334762, 0.0044787831111534615, 0.004403929938689544, 0.004227869817896135, 0.004246441033956216, 0.00424924623393963, 0.004211265730646119, 0.004495919747569133, 0.004608699871823774, 0.0044697156254187576, 0.004373280724394135, 0.004075626842677593, 0.0044754942809959175, 0.004514136498528387, 0.004477348882574006, 0.004292957629786542, -0.5060937497764826, -0.5060937497764826, -0.5060937497764826, -0.5060937497764826, -0.5060937497764826, -0.5060937497764826, -0.5060937497764826, -0.5060937497764826, -0.5060937497764826, -0.5060937497764826, -0.5060937497764826, -0.5060937497764826, -0.5060937497764826, -0.5060937497764826, -0.5060937497764826, -2.8384501370601356, -0.8396791203413159, -0.07037009771738667, -0.03589493370236596, -0.1369485801551491, -0.008519468807207886, -0.024055040004896, -0.0037015007374066045, -7.117111408661003E-5, 0.0015060316401900309, -0.020067339864908718, -0.015395542621263303, 0.002949605236608477, 0.002873570252859281, 0.003014297189338322, 0.0029460877149176667, 0.0027858318594553566, 0.002791067082398513, 0.0022745243850295083, 0.0027203918841678387, 0.0028475613382852316, 0.0026656761357344294, 0.002085816039539168, 0.0024167045902458995, 0.0027181442260371114, 0.0028605308618807612, 0.0029452333724293567, -0.0024974261705210665, 0.002681646766177437, 0.002744013806250223, 0.002714854954206203, 0.0027846297180076363, 0.0024673741014566986, 0.0027365592306978215, 0.0024239610485210505, 0.002229628416671403, 0.002383932617476603, 0.002289691428018159, 0.0022937093963264488, 0.0016923943233564387, 0.0019721984945988424, 0.0018228298467306558, 0.0018750130429801004, 0.0019159511195496748, -1.3959568923382903E-4, -0.5060937497764826, -0.5060937497764826, -0.5060937497764826, -0.5060937497764826, -0.5060937497764826, -0.5060937497764826, -0.5060937497764826, -0.5060937497764826, -0.5060937497764826, -0.5060937497764826, -0.5060937497764826, -0.5060937497764826, -0.5060937497764826, -0.5060937497764826, -0.5060937497764826, -0.5060937497764826, -0.5060937497764826, -0.5060937497764826, -0.5060937497764826, -0.5060937497764826, -0.5060937497764826, -0.5060937497764826, -0.5060937497764826, -0.5060937497764826, -0.5060937497764826, -0.5060937497764826, -0.008525499437382678, -0.0030848356409478583, -0.0032927449356066063, -0.003037268913431035, -0.003746091424545739, -0.018427389262797078, -0.020282038964069216, -0.005667060826453962, -0.002211155730947212, -0.0020390256113387295, -0.002389330295045511, -0.004783631924510701, -0.01453519470669562, -0.011545773202669807, -0.015844738743908238, -0.006121237731349538, -0.00483278141291521, -0.009927604243785026, -0.010002210499806097, -0.008400151673413347, -0.009506517768386402, -0.00887499847340223, -0.007326035951336962, -0.006915069152455544, -0.00716948450099153, -0.008522592683220864, -0.010476998546437244, 0.0011241326928939088, 9.681687960210184E-4, 3.665457984425302E-4, 9.721965701601221E-4, 5.487534542680805E-4, -0.004895804934676562, -0.011172805561727728, -0.013013698109716643, -0.02996468003402697, -0.08705484599340707, -0.013199389046349097, -0.007707154532909044, -0.0032729777121858206, 7.96777646087321E-4, -2.0123312856412667E-4, -5.01902490213979E-4, 1.7713013585307635E-4, -6.112568162279786E-4, 7.351771046160138E-5, 1.1411119589865848E-4, -3.653949531781109E-4, 2.0200634344291757E-4, 1.4643160170635383E-4, -6.313954568213376E-4, -2.584464984920487E-4, -0.001165237860277557, -3.2062856485026714E-4, -5.351078698367928E-4, -0.0032912564274738543, -0.0279213186877314, -0.14914930236409418, -0.009729045126732672, -0.002696231958907447, -0.002429991359349515, -0.0018768496420307201, -0.0021194296205067076, -0.0067615037369250786, -0.14217259545694105, -0.015416575664858101, -0.05833690951112658, -0.0406793450092664, -0.017692401004751446, -0.03268595740519231, -0.34074940549908206, -1.7601007330231369
Max Values: 4.048679283638194, 3.8245589335565455, 3.697829169977922, 3.7177401454591745, 3.675603106291419, 3.6506523430575726, 3.649392763774472, 3.617818422304026, 3.631378553202012, 3.6447166485077105, 3.6601468133221715, 3.666052175626646, 3.6578126516822067, 3.6575954626962357, 3.6674687432805513, 3.688150966268495, 3.7590713298882292, 3.824457179145611, 3.9041769003906666, 3.969080328885866, 4.076814219617518, 4.184787244070321, 4.31797201588779, 4.479311014592895, 4.623263051609683, 4.747585697412433, 4.902887375903447, 5.0810434208469815, 5.219297138932234, 5.344237303698719, 5.424481769511431, 5.44953942206746, 5.503833292775198, 5.613150675273346, 5.697055661307104, 5.731240551715018, 5.81137047646871, 5.816479072055017, 5.89581025142229, 5.983569156216163, 6.051339808662078, 6.131649352821114, 6.191203949518695, 6.278728000932915, 6.3067748042483345, 6.497446955836153, 6.572789224860571, 6.5705511790480955, 6.560451579132973, 6.574092675902307, 6.608679065307342, 6.783885684470192, 6.662926639196257, 6.765849492090979, 6.790059728585788, 6.810174576441682, 6.838772173177176, 6.863501170316454, 6.90708637529724, 6.9213022993054665, 6.907667466482508, 6.891203789974497, 6.877206868900203, 6.86595386390195, 6.87727946787345, 6.886076977456128, 6.872543054489597, 6.894267174716219, 6.907629980348247, 6.978319904984232, 7.030018578872728, 7.037732962585096, 7.052784957926633, 7.0879746812275926, 7.174979422452452, 7.213622417717261, 7.238504898501105, 7.260320302687887, 7.279559581114199, 7.2670477913177365, 7.300306483572513, 7.187258071943688, 7.190441867988284, 7.228164411439138, 7.241431508624373, 7.289474603538565, 7.330048748995523, 7.37355765844859, 7.408146100031331, 7.429877944377836, 7.469798561341008, 7.513146969111176, 7.543281356689931, 7.622706668587057, 7.668539475620719, 7.724791581585123, 7.81815821520604, 7.891021289369519, 7.952769470243538, 8.05129825352924, 8.100317750788236, 8.055075303219382, 8.169294812646399, 8.190283392468245, 8.169183579004084, 8.134848002391664, 8.140310294813645, 8.182759538364508, 8.214040971011514, 8.224603324163922, 8.239937822223737, 8.248498320777685, 8.255750256794045, 8.278929846090819, 8.276818333685355, 8.305048381036272, 8.331781759521618, 8.332412954105394, 8.3477568680471, 8.361427444801393, 8.371956510948735, 8.383456669889938, 8.398459783867679, 8.4104281233773, 8.42242406756884, 8.431366293358451, 8.436437260865773, 1.4860937502235174, 1.4860937502235174, 1.4860937502235174, 1.4860937502235174, 1.4860937502235174, 1.4860937502235174, 1.4860937502235174, 1.4860937502235174, 1.4860937502235174, 1.4860937502235174, 1.4860937502235174, 1.4860937502235174, 1.4860937502235174, 1.4860937502235174, 1.4860937502235174, 19.998535576742142, 15.69727754429914, 9.208548918439192, 9.252393715440121, 9.423158759484068, 9.020866679005849, 8.948702378460439, 8.781416309686392, 8.74580627103478, 8.749634169865203, 8.732140718129813, 8.73232880049909, 8.741782504343291, 8.742605546278924, 8.794659326038754, 8.831871598331418, 8.86500414467207, 8.826206793305175, 8.78472795372187, 8.832742275395162, 8.881041188368215, 8.903374078520358, 8.870359913372226, 8.89376017683594, 8.933385572613304, 8.981975225905842, 8.962858795884188, 8.982470687880777, 8.972757505312131, 8.968647814983342, 8.986188672055505, 9.006849885431691, 9.028408725853524, 9.024054532679259, 8.980257286589449, 8.96338853688195, 9.006929040389991, 8.973278828830132, 9.001731953136073, 8.907429069652721, 8.953608341181166, 8.99548216975279, 8.957089319368606, 9.035772451845219, 9.005760643845406, 1.4860937502235174, 1.4860937502235174, 1.4860937502235174, 1.4860937502235174, 1.4860937502235174, 1.4860937502235174, 1.4860937502235174, 1.4860937502235174, 1.4860937502235174, 1.4860937502235174, 1.4860937502235174, 1.4860937502235174, 1.4860937502235174, 1.4860937502235174, 1.4860937502235174, 1.4860937502235174, 1.4860937502235174, 1.4860937502235174, 1.4860937502235174, 1.4860937502235174, 1.4860937502235174, 1.4860937502235174, 1.4860937502235174, 1.4860937502235174, 1.4860937502235174, 1.4860937502235174, 7.686606692634086, 7.741831564621862, 7.801738672613283, 7.798391191207884, 7.73302605542267, 7.961531138233113, 8.01927995564256, 8.089979603386382, 8.111380458588428, 8.237193221532834, 8.366653213039172, 8.469388805020571, 8.591124052625673, 8.632091912979377, 8.442546373633377, 8.399489179582815, 8.439723207875431, 8.373304450431533, 8.426094674501655, 8.319697700026154, 8.275932205122444, 8.314575102225717, 8.310192215447387, 8.247799897068035, 8.075203613718259, 7.933599866426448, 7.846562887219989, 7.85143003456119, 7.821504430923596, 7.809011238925905, 7.706198997964634, 7.606309515042312, 7.405009366329978, 7.204754438715099, 7.07887899090565, 7.044251783001528, 6.9922268487280235, 6.881414905023121, 6.58489626762821, 6.413666319127515, 6.283011781131336, 6.037576561259584, 5.775480879419774, 5.5063060981387935, 5.26366724633499, 5.057079580049503, 4.9762089909879705, 4.8526850572959574, 4.579470963883523, 4.363160241618516, 4.591419377093644, 5.146696207205878, 5.460019250657297, 5.054071493274932, 5.584981477692054, 6.088887643119961, 8.071929409779841, 6.81092773747514, 6.548549626637396, 8.40736474692494, 9.819983550211873, 12.844222223681754, 8.637332901881564, 10.835306791221228, 11.529460674122674, 21.762486573144997, 18.84385728428606, 21.048279227790772, 31.28579142380113, 33.35106600823201, 47.54677747952519, 32.182408462744206
Mean Values: 0.0752597255983516, 0.08298044320813912, 0.08927507465796708, 0.09815145390876545, 0.10663239488678458, 0.11411476130660964, 0.12222460455145621, 0.1271311132367804, 0.13407095189477813, 0.14053190552514763, 0.14683348478892347, 0.15152985531151392, 0.15558249711970204, 0.15952323717666314, 0.16528876097193734, 0.16994978433585112, 0.17681157500836825, 0.18399453107413066, 0.1914002531370059, 0.19793998667947946, 0.2060871656417543, 0.2151960780050033, 0.22474533297871863, 0.2362794380253323, 0.24816963120626637, 0.25932058445963935, 0.27031327797262417, 0.28225381151603623, 0.29138007059215787, 0.3014770670401197, 0.31034567429915866, 0.3162584417513948, 0.32111275125694916, 0.32543064104932273, 0.3305068847509202, 0.3361941769474491, 0.33958976080460046, 0.34309858018158496, 0.34708153943615483, 0.35413728607987366, 0.3586322963422741, 0.36143362976703786, 0.3635232367181635, 0.3704208828447381, 0.37467446876090554, 0.38032598030093917, 0.38358226089642816, 0.38554706776272074, 0.3904597721808039, 0.39389748754721543, 0.3961619163483999, 0.39970721938380227, 0.400092530395514, 0.4039237219005712, 0.40539975573193865, 0.4066132154097695, 0.4077624234362203, 0.4083478670101682, 0.40864193603947924, 0.4092011624723923, 0.4092260207367753, 0.40926847112587234, 0.40957085474352223, 0.40997150605598487, 0.41023270333304596, 0.4106611685426292, 0.4106629162494054, 0.41102293423087527, 0.41128882055581556, 0.41143068876415684, 0.4126220094822295, 0.4131703932855232, 0.4140484606170518, 0.4146380514313495, 0.40996146229101993, 0.41708105817800833, 0.41822794921317513, 0.4199707500649479, 0.42103614647489296, 0.4238212429787846, 0.42567561309845847, 0.4275333889678917, 0.42961278473035036, 0.4317070234200428, 0.43412582399504335, 0.4361825078805897, 0.43838676408689664, 0.4403621413936708, 0.4423503225255024, 0.44428549517006916, 0.44615858161253796, 0.447945670194978, 0.4497552303996459, 0.4522384785872892, 0.45421161232661245, 0.4561284473259536, 0.4583070804567014, 0.4592903379607058, 0.46096706087708916, 0.46277229008279447, 0.46459835485032525, 0.4664055130147512, 0.46805488135211654, 0.46934255730455227, 0.47054913939616605, 0.4713675199354526, 0.4731077860747634, 0.4748714260579605, 0.4764667771004371, 0.4778285744752023, 0.47982482754843253, 0.4809990804900919, 0.4823234315728183, 0.4839471243430239, 0.4856244691979499, 0.4871603414852427, 0.4883826822936502, 0.4889085912487467, 0.4899418656113411, 0.4907841595470961, 0.49168098121886294, 0.49270537904553063, 0.4935521822052948, 0.49459497727976554, 0.49545558020989927, 0.4961379886878803, 0.4966168576024049, -0.5060937497764826, -0.5060937497764826, -0.5060937497764826, -0.5060937497764826, -0.5060937497764826, -0.5060937497764826, -0.5060937497764826, -0.5060937497764826, -0.5060937497764826, -0.5060937497764826, -0.5060937497764826, -0.5060937497764826, -0.5060937497764826, -0.5060937497764826, -0.5060937497764826, 0.4506216442783826, 0.4749472131565332, 0.49402525446189527, 0.5045893880822464, 0.5068849368146575, 0.48140584777494316, 0.48336456581624826, 0.486085219900931, 0.4914590192949314, 0.49495807394235597, 0.48489727531139515, 0.4892715817975113, 0.5029800846588816, 0.5049617119543139, 0.5073459246507036, 0.5084159340158986, 0.5109029597096942, 0.5106234967474411, 0.5082839543123631, 0.509653978463727, 0.513947375904552, 0.514824073442875, 0.5120470478074369, 0.5133378473924145, 0.5159307585280996, 0.5187157842742454, 0.5193121802192522, 0.5187738445761846, 0.5190888471970322, 0.5179288734988146, 0.5194778579100561, 0.5192759779976839, 0.5200345241972594, 0.519816707213445, 0.5190414861655029, 0.5183636458265681, 0.5174355345436301, 0.5174916547980697, 0.5171965358659201, 0.5151537392901678, 0.5158485550528356, 0.5158668875877578, 0.5162708717949579, 0.5168007786816575, 0.5121130489702058, -0.5060937497764826, -0.5060937497764826, -0.5060937497764826, -0.5060937497764826, -0.5060937497764826, -0.5060937497764826, -0.5060937497764826, -0.5060937497764826, -0.5060937497764826, -0.5060937497764826, -0.5060937497764826, -0.5060937497764826, -0.5060937497764826, -0.5060937497764826, -0.5060937497764826, -0.5060937497764826, -0.5060937497764826, -0.5060937497764826, -0.5060937497764826, -0.5060937497764826, -0.5060937497764826, -0.5060937497764826, -0.5060937497764826, -0.5060937497764826, -0.5060937497764826, -0.5060937497764826, 0.4679304154384115, 0.47238002889262615, 0.4755778434147972, 0.47746228001082436, 0.47719681912552636, 0.4764501149774724, 0.4811194501240567, 0.4834731354109617, 0.4884222639289217, 0.49129895543014157, 0.4951787899626114, 0.4919649105078733, 0.4912625567869985, 0.49266696409509164, 0.49528557089633934, 0.49535815420853374, 0.49531803273480385, 0.4943781042203871, 0.4954670344770264, 0.49141318298653563, 0.4909618509978365, 0.4949022178620933, 0.4970165345909318, 0.49383139659234254, 0.49021610268835514, 0.48398724182355285, 0.47708356367029986, 0.4733697375600713, 0.469784534461475, 0.4656363840893963, 0.4592268554694944, 0.45188735693762405, 0.44087971812708115, 0.4409217753759878, 0.44405590427728464, 0.44560769314198634, 0.4443890622221948, 0.4398369412546208, 0.43393571503517675, 0.42874761922010673, 0.4292260654693574, 0.4258064108206758, 0.4214093268054754, 0.41433630165547924, 0.4067412922517094, 0.40098226489331945, 0.40014925102682636, 0.39381102863463, 0.3838569545523494, 0.38068114991240093, 0.3751384726045422, 0.36856778712292404, 0.37156062871780365, 0.38354440905957093, 0.385032533678307, 0.38264434477297815, 0.3806141166646094, 0.379746030030982, 0.38290629529337517, 0.3793479994132171, 0.38083596506117157, 0.3712816551787325, 0.3664243373283908, 0.36679833129128947, 0.34693720804226, 0.35873743130421604, 0.3357287039629715, 0.32764892573359194, 0.31568530799535094, 0.29616037376105386, 0.2772480479915304, 0.21650209583801125
Standard Deviation Values: 0.026409068537756486, 0.026507329902182054, 0.027308739271873224, 0.02806952392470696, 0.028882463893846667, 0.030028361431422592, 0.031196950373298334, 0.032522514012537244, 0.034366839420213485, 0.036003249569818534, 0.037683103716896496, 0.039001164339777857, 0.040185916348540636, 0.04134250913403559, 0.04268248358234108, 0.04441768470696242, 0.046443454077193004, 0.048633393507522424, 0.050984470006329594, 0.05319175790203339, 0.055582182860566716, 0.05840549447755486, 0.06157246607220036, 0.06525670229134271, 0.06914055530280104, 0.0732185392581486, 0.07731677904880371, 0.08167068180826473, 0.08537986559605493, 0.08943693963235587, 0.09257494929206879, 0.09507500152892844, 0.09718448349309981, 0.09908249275440688, 0.10119936740532703, 0.10327699395385845, 0.10493707050174435, 0.10643272017343741, 0.10841018210516443, 0.11084466703276809, 0.1122472207737627, 0.11341836259790257, 0.114154107605018, 0.11602953971636489, 0.11670635009563675, 0.11780884020051392, 0.11848851532096756, 0.11862045545092958, 0.11974902619441938, 0.12026829023189609, 0.12083849356384416, 0.12222785557995892, 0.12208315760303941, 0.12354397876218819, 0.12401361741647379, 0.12449944725191783, 0.12495548942528771, 0.12519527223750915, 0.12528193265730694, 0.12557012220483402, 0.12559385828601102, 0.12563542460095337, 0.12579718217076613, 0.1259462896430737, 0.1261497155638757, 0.1263825571591712, 0.12630580873612887, 0.12659338243626506, 0.12679836754046467, 0.12678402300844516, 0.1275268027500051, 0.12778182215669423, 0.12822521196072437, 0.12846446493323094, 0.12823156749957434, 0.12936603988348372, 0.1298815879579056, 0.1308032929139403, 0.1313589142426195, 0.13269699445304445, 0.13351551225344305, 0.13425916109947827, 0.13506462180603998, 0.13575469523322123, 0.13677932999536865, 0.13750566300810266, 0.13828863246957887, 0.13903303451595325, 0.13976024975583778, 0.1405576334927686, 0.1412837796925712, 0.14194079030314824, 0.1427377302395011, 0.1438415409485521, 0.1445850140382693, 0.14515841490367282, 0.14602821924330814, 0.14629829388710336, 0.14701438287592375, 0.1477415833982694, 0.14848293354750636, 0.14910097532963673, 0.14990879833589352, 0.1504058151994687, 0.15111394250153531, 0.15133143435298269, 0.15191458506822036, 0.15277677639439077, 0.15330712257801307, 0.15374881583645744, 0.15444160437359844, 0.15485776157895717, 0.15521764033891466, 0.15553928771406453, 0.15606053164071348, 0.15637033698528857, 0.15671856858246622, 0.1565833602011058, 0.1567751144431508, 0.15687197283015397, 0.15707033553856717, 0.1573811930011041, 0.15745489746415853, 0.15771920870744122, 0.15790071926337784, 0.1580216784972584, 0.15829607918402164, 0, 0, 0, 0, 0, 0, 0, 0, 0, 0, 0, 0, 0, 0, 0, 0.2013371615129712, 0.16073497387542873, 0.16013110102230954, 0.1637536362583798, 0.16309019826202067, 0.15989639730285019, 0.15950368500299006, 0.1607657654265023, 0.16224400877557704, 0.1629329263796734, 0.1643335217374499, 0.16480664901067943, 0.16391596778307974, 0.16429590636547492, 0.1647943419022059, 0.1655355684270377, 0.16543222241492211, 0.16512259084624561, 0.16435317978156377, 0.16465651670457293, 0.1657667564025188, 0.16585958766704526, 0.16472006038955012, 0.16490229036548443, 0.16532595916066764, 0.16616873977467, 0.16612050684724716, 0.1658733743040752, 0.1658369488146816, 0.1659286154370424, 0.16596772838979976, 0.16593431213468512, 0.16614399773339603, 0.1660894000967242, 0.16590520021235952, 0.16579204308001758, 0.1656558021453134, 0.16573522985912884, 0.16572034912467085, 0.16514043679803864, 0.165294946635637, 0.16525598410660053, 0.16550479532367976, 0.1655512813705638, 0.1639255005936561, 0, 0, 0, 0, 0, 0, 0, 0, 0, 0, 0, 0, 0, 0, 0, 0, 0, 0, 0, 0, 0, 0, 0, 0, 0, 0, 0.15494893386813757, 0.155669034807743, 0.15647805631514528, 0.15687192168537442, 0.15602640520691097, 0.15645062393769282, 0.15756500650231853, 0.1592604722810325, 0.15983553613608462, 0.1614026043787381, 0.1633619195804715, 0.16537400695060725, 0.16487124993607724, 0.16736322656504837, 0.16481064871294002, 0.16484939075701852, 0.16475078897788134, 0.16495167608510564, 0.1655468573444762, 0.16421551313176003, 0.16408657029524645, 0.16532578152328675, 0.165962626877402, 0.16455861027162827, 0.1632091393373614, 0.1607659274398466, 0.15837680017734349, 0.15710713330584444, 0.15597637377623455, 0.1547939636724305, 0.15300567130602238, 0.15066743587437423, 0.147120800797803, 0.14677409541053427, 0.14780395230636917, 0.14824745724938293, 0.14861003293896174, 0.14786201368633534, 0.14681339710992203, 0.14615105793445055, 0.14674749981144217, 0.14597311334149543, 0.14507367180772202, 0.14330982102492465, 0.14192686842005303, 0.14067558508574465, 0.14118237073147222, 0.13970692518425049, 0.1375021277036884, 0.13732111330803373, 0.1359280853771124, 0.1336259333620783, 0.13322899110706068, 0.13627707781113516, 0.13494582915257206, 0.13285843012215448, 0.13366620330923237, 0.13321473205230727, 0.13261913085496504, 0.13037529222707386, 0.13221039241000976, 0.12850173608593576, 0.1275834862918429, 0.12777013643327567, 0.12033454828629346, 0.12695559265388365, 0.11990941333404481, 0.1175716862177911, 0.12697102365105886, 0.11045608444812739, 0.11337303751240245, 0.13328713598839084
