View In:
ArcGIS JavaScript
ArcGIS Online Map Viewer
ArcGIS Earth
Service Description: NASA_EMIT/EMIT_L2A_Reflectance_MD
Name: NASA_EMIT/EMIT_L2A_Reflectance_MD
Description:
Single Fused Map Cache: false
Extent:
XMin: 3132888.7300000004
YMin: 1187054.5600465015
XMax: 6719964.732258862
YMax: 4388061.299000002
Spatial Reference: 102100
(3857)
Initial Extent:
XMin: 3132888.7300000004
YMin: 1187054.5600465015
XMax: 6719964.732258862
YMax: 4388061.299000002
Spatial Reference: 102100
(3857)
Full Extent:
XMin: 3132888.7300000004
YMin: 1187054.5600465015
XMax: 6719964.732258862
YMax: 4388061.299000002
Spatial Reference: 102100
(3857)
Pixel Size X: 60.36104804649169
Pixel Size Y: 60.361048046491696
Band Count: 285
Pixel Type: F32
RasterFunction Infos: {"rasterFunctionInfos": [{
"name": "None",
"description": "",
"help": ""
}]}
Mensuration Capabilities: Basic
Inspection Capabilities:
Has Histograms: true
Has Colormap: false
Has Multi Dimensions : false
Rendering Rule:
Min Scale: 0
Max Scale: 0
Resampling: false
Copyright Text:
Service Data Type: esriImageServiceDataTypeGeneric
Min Values: -0.022339765304423054, -0.021400015972176334, -0.002998659883360233, 0.008439172077487456, 0.012380575179122388, 0.01284786358155543, 0.013531912456528516, 0.014302331239377963, 0.0149906964670663, 0.015712362046542694, 0.01643180456449045, 0.017045895379851572, 0.017580766831088113, 0.01802346025215229, 0.019375824038434075, 0.01949834596234723, 0.01894961122161476, 0.01852752489503473, 0.01863565790335997, 0.017605389293748885, 0.01675986653935979, 0.01614611998957116, 0.01629569773285766, 0.015579713144688867, 0.015791536763572367, 0.013793519694445422, 0.012016522505291505, 0.011481988160085166, 0.010113510585142649, 0.00943938007185352, 0.008827048017337802, 0.008259731928774272, 0.00787773133470182, 0.007075825262290891, 0.007074003017805808, 0.006638009887865337, 0.00628753666751436, 0.00631802614134358, 0.00599799457086192, 0.006183663774208981, 0.006089057804274489, 0.0052815201506746234, 0.0053270013886503875, 0.0058785829724001815, 0.005303954967530444, 0.005529398867111013, 0.006131927531896508, 0.0057956783721238025, 0.005584765417552262, 0.005214232997786894, 0.005062279679805215, 0.004818425421035499, 0.004704017029325769, 0.004833816405152902, 0.004828658491533133, 0.0049097504647761525, 0.004669610009386815, 0.004781687392096501, 0.004597876172283577, 0.004620614972736803, 0.004653289681755268, 0.004647455820759205, 0.00467940256885413, 0.004544027556676156, 0.0043859873990186315, 0.004763167824876291, 0.004721019314274599, 0.004574532749757054, 0.00445545497814237, 0.004322701986893662, 0.004702278009062866, 0.004498255256294215, 0.004496669608670345, 0.004478161343286047, 0.004508979747697595, 0.004475426015233097, 0.004487319259169453, 0.004419378102738847, 0.004543159562217625, 0.004376499816771684, 0.004252316924976185, 0.004253018298641109, 0.004376590112769918, 0.004170662364685995, 0.004382096574772731, 0.0041559387482266175, 0.004452812155250285, 0.004246731241437374, 0.004354471974693297, 0.004220063093725912, 0.004271823614544701, 0.004379403548682603, 0.0044321868258521135, 0.0044071132042518, 0.004105156344849092, 0.003990985594555241, 0.004243471690642764, 0.004467694879167539, 0.004400368887218065, 0.004542064301404025, 0.004468477236059698, 0.0045184379864622315, 0.004515984446697985, 0.004395274079797673, 0.004319466663218918, 0.004255539685345866, 0.004039024124267598, 0.0040587629737274256, 0.004178267778115696, 0.004156545067871775, 0.003928124627691432, 0.003956780736189103, 0.004197633313197002, 0.003881889614604006, 0.004112084557164053, 0.004166891757904523, 0.004089345811735257, 0.0040660697118255484, 0.004563455771858571, 0.005112045194437087, 0.004309016579099989, 0.003985339635164564, -9.998731593441335E-5, 5.552905905688021E-4, 0.0036076263709219347, 0.004400089804221352, 0.004175396672508214, -3.0318513814127073, -0.8684078298974782, -0.13569670918514024, -0.09308787506597582, -0.15568849307601343, -0.11186164878017732, -0.08055335081007797, -0.02301133652508725, -0.04623628345871112, -0.012435817669029351, -0.04377341131475987, -0.035567835220717825, -0.011641894363492607, -0.011164483430547986, -0.010898116295720682, -0.1059371194569394, -0.045795605263265315, -0.016666663104842883, -0.01465909884791472, -0.03378005799459061, -0.022781155406846665, -0.01695890321934712, -0.00903634391943342, -0.0021853824027857627, -0.0011692237330862554, -0.03128337313683005, -0.02669874772618641, 0.001716466136258532, 0.0022865923056087922, 0.002513098417011861, 0.0026043032746656536, 0.0028424305528460536, 0.002405751219839658, 0.00249997359696863, 0.002401696220431404, 0.00242611489443334, 0.0023837228520733333, 0.0022975622123340145, 0.0022463218854227307, 0.0024283604127504077, 0.002254636945508537, 0.0029468051975527487, 0.0025629737842791656, 0.002511116080540887, 0.0021446845903483336, 0.002148207997834106, 0.00188460845379268, 0.0022539918143138493, 0.002238752623952678, 0.002027340103268216, 0.0021819755995693413, 0.001736143371090293, 0.0021693035403131944, 0.0018553148486262216, 0.0016393858029459807, 0.0019355272531811352, 0.0021516817212159367, 0.0019141291118103254, 0.002320996177786583, 0.001680935098079317, -0.005308247088578355, -0.10579313895141244, -0.00563243961732951, -0.004530821624939563, -0.004663600577259786, -0.014254951483962944, -0.00237934884535207, -0.0027023507327612606, -0.0030691513338751975, -0.001973999915662716, -7.487154216505587E-4, -0.0024539868709325674, -0.00116423810914057, -5.064524325462114E-4, -9.078756388589682E-4, -1.2933804327985637E-5, -7.264355190272887E-5, -7.858334320189893E-4, -1.5659296968806346E-4, -0.007347016962739872, -1.24815472190676E-4, -0.029456252246745862, 1.6332620805314946E-4, -0.06665443365636747, -7.509389433835601E-6, 3.4103635493920635E-4, -0.003852340514640673, 1.6463590168314113E-4, 0.0017542322757435613, 0.0011498159791472062, 7.046889961088709E-4, -0.010173868413403397, -0.016008389426133363, -0.010977852667565458, 7.206984396361804E-4, 0.002169682449675747, 0.001982299473866078, -0.0036063835214008577, -0.008199161431548418, -0.00538438072817371, 0.0015055198117579494, 0.0017454781693686527, 0.0018620930700308236, 0.0013347359820272686, 0.0016600490077962604, 0.0017494376556896896, 0.0013705152117609032, 0.0018491451969566697, 0.0015026928249426419, 0.0026555997997093073, 0.0016827777117214282, 0.002356176167495505, 0.0013233958696901027, 0.002008908717925806, 0.0016155376783899555, 9.962910451122298E-4, 0.0017834262407632195, 0.001648369712938802, 0.0013229914314933922, 0.0017005939503178524, 0.001410383230449952, 0.0014376883985960376, 0.0016026281048198143, 6.515665336337406E-4, 0.0017404331202897083, 0.0012075594479483698, 0.001197674227000789, 0.0021622008780468605, 0.0015005555653715419, 0.0018961452667554113, 6.903104360986845E-4, 0.001280358423286998, 0.0013079347190796398, 0.0011123299916562246, 3.3999914606397397E-4, 9.104359390903483E-4, 5.723987695560595E-4, 0.0010035074479901596, 8.839381831080573E-4, 7.636948340632443E-4, 0.0014513561110334194, 0.0021879929793158226, 3.689975185352523E-4, 0.0011201977671362329, 5.78524111972456E-4, 0.0011832227812647034, 0.001741683849331821, 3.541892524481227E-4, 0.0012808861115445325, -5.83001119821347E-4, 2.87358475191013E-4, -0.003944729030990857, -0.0027871327179127547, -0.003412414935155539, -0.004972156239091419, -0.011487933164971764, -0.5762272513238713, -0.3203195604728535
Max Values: 0.46428832013043575, 0.46247110002150293, 0.46422618519864045, 0.4742205645379727, 0.4753620774135925, 0.4807888516006642, 0.4860655095981201, 0.4831696041946998, 0.4860438751784386, 0.4866863463248592, 0.4870927591982763, 0.48869567351357546, 0.4888224669120973, 0.48977781319990754, 0.49213047172816005, 0.49079684089520015, 0.4931699696899159, 0.4949150743195787, 0.49888176277454477, 0.49713932078157086, 0.49830205492617097, 0.5005685640644515, 0.501310764127993, 0.5077405907795765, 0.5241194775444455, 0.5426167641417123, 0.553864331508521, 0.5700907974969596, 0.582122017047368, 0.5903821820975281, 0.5965599353658035, 0.603318870824296, 0.6086740700993687, 0.6127144278725609, 0.6162273333175108, 0.6259315123897977, 0.6292774476460181, 0.6314612305141054, 0.6383188281906769, 0.655308294983115, 0.6721126108313911, 0.681407355266856, 0.6910467685665935, 0.7121466466051061, 0.7182021206244826, 0.7351741218299139, 0.7435324036923703, 0.7562365978956223, 0.7622949392825831, 0.7653981504263356, 0.7737755786220077, 0.782031698472565, 0.783121951360954, 0.7955575917440001, 0.8007266696949955, 0.8067305809236132, 0.8106903480074834, 0.8145136228413321, 0.8179644165793434, 0.8194533564965241, 0.8219854205381125, 0.8239847822696902, 0.8252650451031514, 0.8293015730159823, 0.8289868452993687, 0.8332147198088933, 0.8337074089795351, 0.8359271169756539, 0.8403825431014411, 0.844291777262697, 0.8469566496496554, 0.8506664653250482, 0.8541983968752902, 0.8588337748951744, 0.8620791175635532, 0.8662967504642438, 0.8709191201487556, 0.8760308923083358, 0.8814001075224951, 0.8883102280960884, 0.893665623414563, 0.8964152176049538, 0.9026575577736367, 0.9067553166823927, 0.9121664195554331, 0.9165994187933393, 0.9208831379655749, 0.9260568954050541, 0.9299400340532884, 0.9328081690473482, 0.9382984245894477, 0.94160191755509, 0.946759857237339, 0.952373261039611, 0.957793522044085, 0.9621768310898915, 0.9675759730744176, 0.9715578702744097, 0.973921989207156, 0.9773564135539345, 0.9817259325645864, 0.9860310494550504, 0.9902841440634802, 0.9941031798371114, 0.9972451092326082, 1.0008663999615237, 1.0048674098215997, 1.0072127813473344, 1.0101975087891333, 1.010949624935165, 1.0133771743858233, 1.0119338293443434, 1.0112490358296782, 1.0125564049230888, 1.011335888702888, 1.0135168216074817, 1.012311002239585, 1.0113982622278854, 1.0115981210838072, 1.0116690956638195, 1.0119535163394175, 1.012120243278332, 1.0122706201509573, 1.012412513664458, 1.0126531349378638, 1.0129776373505592, 1.013438553432934, 15.062612670895758, 13.227218971933327, 7.912226027104225, 4.8030633000598755, 5.249303029027942, 4.49839313004486, 6.989669845769186, 3.199896450336382, 3.196921879833099, 3.1933663238378354, 3.2112206441815947, 3.216838150518015, 3.2221058731229277, 3.2208351487424807, 3.2407103870427814, 3.3035754999145865, 1.3991628648946062, 1.0455872060265392, 1.0445470621925779, 1.0273988102562726, 1.0332753140246496, 1.0626484231906943, 1.0692059849388897, 1.0702222870313562, 1.0668127330136485, 1.0706439246423542, 1.0683854647213593, 1.0636623406317085, 1.06482944363961, 1.0610474843997508, 1.0733204623684287, 1.0703845475800335, 1.0560945424367674, 1.050828167470172, 1.0657831483404152, 1.0678927311091684, 1.0630888534360565, 1.0604950651177205, 1.0640499021392316, 1.0699824507464655, 1.07239222060889, 1.072166878497228, 1.0699996286421083, 1.0676012832554989, 1.076921157015022, 1.0796165314968675, 1.0764703863533214, 1.0772073913249187, 1.0831051788991317, 1.0693281553103589, 1.0751849269727245, 1.0779823629418388, 1.0781199335469864, 1.0791386562632397, 1.0748786760377698, 1.0744267436675727, 1.0849127480760217, 1.0792891847668216, 1.0775864504976198, 1.0820472465711646, 3.3481178100337274, 3.4024964860145697, 3.4124652726895874, 3.480947936084704, 3.439666348218452, 3.4221096772089368, 3.488255045929691, 3.529834539061994, 3.5134913401416275, 3.551659806369571, 3.492712979103089, 3.496560153129394, 3.4716789280937523, 3.4536520728579494, 3.4537401506531746, 3.4559853085957, 3.412163774977671, 3.4041147827520035, 3.4583352326299064, 3.42276928233332, 3.4749231922905888, 3.440316726104356, 3.4199217601271807, 3.435520527425979, 3.525038874182428, 4.63794280156435, 1.0373926803586073, 1.0396633640048094, 1.0455591499921866, 1.0481891749077477, 1.0456710654543713, 1.0455422239028849, 1.046473341411911, 1.0470371811534278, 1.0470657933619805, 1.052546190097928, 1.056044878612738, 1.052739854727406, 1.0527698277146555, 1.0548299759975635, 1.0504535022191703, 1.064801600528881, 1.0643298045615666, 1.0761906125117093, 1.0768644997733645, 1.0496155662694946, 1.0710839151288383, 1.0720430838991888, 1.079661679919809, 1.0797848153742962, 1.0724783386685885, 1.0862277426058426, 1.0538356236065738, 1.056327365571633, 1.0469499809551053, 1.0467978463857435, 1.0266653567668982, 1.024920923053287, 1.0154507575789467, 1.0210597763652913, 1.0076401418773457, 1.0051894885255024, 0.996044312370941, 0.9812935813097283, 0.9744017850607634, 0.9672350643668324, 0.9727661270881072, 0.958725716394838, 0.9510168281849474, 0.9501760650600772, 0.9377033468917944, 0.9300762508064508, 0.9215357980574481, 0.9316206768562552, 0.9174803190398961, 0.9065180353063624, 0.9020770150236785, 0.8946374282822944, 0.8921792063629255, 0.9049088708125055, 0.9250331008224748, 0.9075179101782851, 0.8883331464312505, 0.9025932808290236, 0.8865033321199007, 0.9050720126833767, 0.8936579920118675, 0.8866904589231126, 0.8456050258537289, 0.8768271850713063, 0.8064459930756129, 0.8360549117496703, 0.8003916009329259, 0.8117783791385591, 0.8019544018898159, 0.7763908959459513, 0.8339781525137369, 0.793474578531459
Mean Values: 0.06571278291219333, 0.07373709808116305, 0.08181707492296904, 0.09080433446964725, 0.09887664844780597, 0.10682528924817439, 0.11387249964280684, 0.11891261683583275, 0.12555199067280598, 0.13203964036224164, 0.13793737375750864, 0.14240431218130759, 0.146130417233466, 0.14983630265953093, 0.15453664660982946, 0.15897407850196768, 0.16515022219571518, 0.17177652391090104, 0.1783912117958301, 0.18445546587824488, 0.1927591141195842, 0.2012220425384501, 0.2100556671562134, 0.22058204699340253, 0.23127879059290196, 0.24142242299366068, 0.25105604626835093, 0.2616453260713799, 0.27016399669757946, 0.27896361917536844, 0.2867385719228373, 0.29184894257925637, 0.2959100298062643, 0.2995981457449541, 0.3039415275466875, 0.3090693460853067, 0.31173334245700385, 0.31489848199704945, 0.318017580376493, 0.3238672579007137, 0.32766047343125637, 0.3298174461782271, 0.33209248539555036, 0.3387359938197713, 0.34314128387077447, 0.3487480179536605, 0.3518339977745247, 0.35433750536326536, 0.3588721493764477, 0.36205714353385615, 0.36437331684341684, 0.36724964181145603, 0.36797684897908073, 0.3713066843928846, 0.37270968802309096, 0.37395141280834737, 0.37493017805843404, 0.3756130515112827, 0.3759846404411057, 0.37638884541873074, 0.3766174709115639, 0.3767641629081308, 0.37700396115825624, 0.377386540615818, 0.3776255380973145, 0.37797612544297876, 0.37811213655564413, 0.37845830574024675, 0.3787533073421621, 0.37908837510466575, 0.3799550122773458, 0.380546393128142, 0.3813162596546633, 0.3821085615343466, 0.3828064419306848, 0.3840905624419397, 0.3851854289224727, 0.38643878385587194, 0.3879112072386614, 0.38986383842474803, 0.3915499691847602, 0.39331162501445216, 0.3952557310985629, 0.3971871723204477, 0.39921145392785473, 0.40106344510458686, 0.40299861598410686, 0.404790947989659, 0.40659090203166454, 0.40838288704705433, 0.410106298185906, 0.41164872753382037, 0.41333496682880516, 0.4153857557915323, 0.417195797710183, 0.41905714081792245, 0.4207798809417982, 0.4220270996579373, 0.4232086209779701, 0.424680538271382, 0.4262499421480257, 0.4278716556824034, 0.4292706682245055, 0.4304990788141622, 0.431650503650435, 0.43270137344886284, 0.434232233333491, 0.43572841909122634, 0.43713341366684366, 0.43839010130533046, 0.4398027433399288, 0.4408973543090739, 0.4421508639361248, 0.44368781060147694, 0.44474252835669886, 0.44616433002937833, 0.447225433765277, 0.4478941259876006, 0.44886431613920397, 0.4498311335229465, 0.4507434152775731, 0.45160836033292273, 0.4524347418549856, 0.4532056162539975, 0.4539269711710067, 0.45455140476937644, 0.45505472014436216, 0.4228214569524914, 0.430274742530639, 0.4374813998275803, 0.44804298453092484, 0.44244916161711684, 0.4340915382304156, 0.4309103070478182, 0.43697056456924915, 0.44133024294818485, 0.44401211625553955, 0.4467585586921397, 0.44924825583839817, 0.4502033879910768, 0.451644734639651, 0.4536597094318259, 0.4314028319364356, 0.43951156692883736, 0.44709655388602193, 0.45813419922832643, 0.4524662700749297, 0.44322502190182694, 0.4397156322528808, 0.4459636507162729, 0.450559550348974, 0.4533949747552139, 0.4563376405869508, 0.4588724318578666, 0.4597885032897637, 0.46128053661299473, 0.46333891490238416, 0.46604938292302245, 0.4666797630243874, 0.46650486610358094, 0.46421839405938814, 0.4655407572425003, 0.46974703339544355, 0.4706330243113125, 0.4679173578730055, 0.4695070825506948, 0.47226697841320237, 0.4745351592403626, 0.47507783146169497, 0.47513114353622427, 0.47487045521619164, 0.47538237315890625, 0.4753109211340929, 0.47518883746402674, 0.4764157829030427, 0.4762541626403267, 0.4754187566967917, 0.4746441928842835, 0.4740350692438808, 0.4733383098700806, 0.47314348816717705, 0.4714392432427767, 0.47203159164841413, 0.4719890821287511, 0.47204839133878107, 0.47305608754467476, 0.4702124337961136, 0.4409490323311605, 0.4402820953650497, 0.4388925066531383, 0.4393962954279767, 0.43536966146358524, 0.435117230659169, 0.4385519592764833, 0.4400741709865603, 0.43762033460947547, 0.43425814412671965, 0.4289618483523028, 0.4230220466205915, 0.4197786937844475, 0.4171178534021086, 0.41386898717909565, 0.40863664614715517, 0.40203289912325246, 0.3929873688935137, 0.39296569185394425, 0.39527139430859437, 0.3959929712079761, 0.39465896806129624, 0.3900782249002346, 0.38450519808887873, 0.38059550329112335, 0.378550756844507, 0.42546409924061956, 0.42827642197153115, 0.4312715360853975, 0.43329474204065355, 0.43377854543153305, 0.4364777062407925, 0.4394477588986791, 0.44242997169300163, 0.4444568479418946, 0.446669531121496, 0.4493165425639178, 0.45136185460215805, 0.4525014125419558, 0.45369484197641863, 0.44983057855647524, 0.4511694583149103, 0.4506106531907717, 0.44923769707562183, 0.4498816238947409, 0.4457079407334237, 0.4455091874345905, 0.44900108501223784, 0.4506497681179963, 0.4481429998433053, 0.44466846264625837, 0.43946550887615005, 0.4332443137988422, 0.42996720395396654, 0.4271110560615098, 0.4237535052014918, 0.41831999387144086, 0.41149471653778597, 0.40230453844230024, 0.40219773118155444, 0.4042643416111186, 0.40502441215013785, 0.4037792930491824, 0.39912828234816294, 0.3935163247750081, 0.3896126430073392, 0.38763926051211317, 0.38435008225408335, 0.3798027679674142, 0.37315534141331724, 0.36631071380739794, 0.36032767379082115, 0.3595264828028552, 0.3541783952460854, 0.34501403668991415, 0.34199373774277664, 0.3371069414007636, 0.3313408968582478, 0.33467854490769405, 0.34491788458373657, 0.348520840252014, 0.3462769984824237, 0.3464437773900251, 0.346081803949358, 0.34478878228673804, 0.34369388896664554, 0.3417475111837287, 0.33713053853825753, 0.3318003145625512, 0.33136448636905214, 0.3175680893127846, 0.3212955810886135, 0.3021190970758001, 0.2973655687558585, 0.2929780925111852, 0.2795221974615781, 0.25679636725175964, 0.24258050260489317
