View In:
ArcGIS JavaScript
ArcGIS Online Map Viewer
ArcGIS Earth
Service Description: NASA_EMIT/EMIT_L2A_mosaic_GRID_ANS_AP
Name: NASA_EMIT/EMIT_L2A_mosaic_GRID_ANS_AP
Description:
Single Fused Map Cache: false
Extent:
XMin: 3332140.5496000014
YMin: 1149229.385602038
XMax: 6702399.667275863
YMax: 3930183.5912000015
Spatial Reference: 102100
(3857)
Initial Extent:
XMin: 3332140.5496000014
YMin: 1149229.385602038
XMax: 6702399.667275863
YMax: 3930183.5912000015
Spatial Reference: 102100
(3857)
Full Extent:
XMin: 3332140.5496000014
YMin: 1149229.385602038
XMax: 6702399.667275863
YMax: 3930183.5912000015
Spatial Reference: 102100
(3857)
Pixel Size X: 60.36104804649165
Pixel Size Y: 60.36104804649166
Band Count: 285
Pixel Type: F32
RasterFunction Infos: {"rasterFunctionInfos": [{
"name": "None",
"description": "",
"help": ""
}]}
Mensuration Capabilities: None
Inspection Capabilities:
Has Histograms: true
Has Colormap: false
Has Multi Dimensions : false
Rendering Rule:
Min Scale: 0
Max Scale: 0
Resampling: false
Copyright Text:
Service Data Type: esriImageServiceDataTypeGeneric
Min Values: -0.038628950525890104, -0.028961251526197884, -0.022403953247703612, -0.012467963653762126, -0.005016490282287123, 6.024575956473655E-4, 0.006020238526616595, 0.007883455823503027, 0.010542324707785156, 0.013502616113328259, 0.014463507926848251, 0.01564059321935929, 0.016278031554975314, 0.01578495317880879, 0.015921451073154458, 0.017306736732280115, 0.017602836745936656, 0.01791501907791826, 0.01802135137404548, 0.01665210715145804, 0.01982609190235962, 0.019947660326579353, 0.02037462866792339, 0.022455838898167713, 0.02188554054737324, 0.02143628176418133, 0.022099347079347353, 0.023394970634399215, 0.023335021858656546, 0.024022606485232245, 0.024532820727472426, 0.024077001373370877, 0.023999774941330543, 0.02328405442312942, 0.023691654085268965, 0.023089302718290128, 0.022898676819750108, 0.024740147520788014, 0.024057753009401495, 0.023045106587233022, 0.02335022043189383, 0.02386450129415607, 0.022057532987673767, 0.02268862675919081, 0.023199427680083318, 0.0229951024048205, 0.02285365048373933, 0.023101795002730796, 0.025520491089991992, 0.023507233290729346, 0.023633163571503246, 0.023716582538327202, 0.023809516733308556, 0.023883598048996646, 0.023933814914926188, 0.023972777784365462, 0.024004302711546188, 0.02402899022854399, 0.024047320574027253, 0.02406376399085275, 0.02408389700212865, 0.02410302214047988, 0.024125172072672285, 0.024149981272785226, 0.024179680603992892, 0.024211252999521093, 0.024250888207461685, 0.024294427057611756, 0.024346498688828433, 0.024399265359534184, 0.02445914274721872, 0.0245246601261897, 0.02459666611321154, 0.024669421269209124, 0.02473636938157142, 0.02481842943598167, 0.024908985120418947, 0.025009500139276497, 0.025112253675615648, 0.025224179331416963, 0.025340189549751813, 0.025493433320662007, 0.025610244454583153, 0.025720550158439437, 0.02583010671514785, 0.025935811394447228, 0.026039609390863916, 0.02613966801436618, 0.026233827247779118, 0.026323524387407815, 0.02640869816605118, 0.026492233519093134, 0.02657604454725515, 0.02665788277226966, 0.026737079500890104, 0.02680999710355536, 0.02687837556368322, 0.026938399929349544, 0.02698408057403867, 0.027023039630876156, 0.027059228006692138, 0.027088396316685248, 0.027102626485429937, 0.02710056782962056, 0.027097696671262383, 0.02710330603440525, 0.027114388340123696, 0.027128437333885813, 0.02714198712419602, 0.027167235992237693, 0.027204975973290857, 0.027249085709627252, 0.02730308369064005, 0.027366305439500138, 0.027433361396106193, 0.02749869068429689, 0.02755772698947112, 0.027610568089585286, 0.027657849652314326, 0.027702706429408863, 0.027746474846935598, 0.027792463915830012, 0.0278372833308822, 0.027874016464920714, 0.027897543059225427, 0.02790739642296103, 0.027901004559680587, -0.5060937497764826, -0.5060937497764826, -0.5060937497764826, -0.5060937497764826, -0.5060937497764826, -0.5060937497764826, -0.5060937497764826, -0.5060937497764826, -0.5060937497764826, -0.5060937497764826, -0.5060937497764826, -0.5060937497764826, -0.5060937497764826, -0.5060937497764826, -0.5060937497764826, 0.021858462307136506, 0.023117062242818065, 0.02041009787353687, 0.021534216786676552, 0.0216610824354575, 0.022056982255890034, 0.023978543267730856, 0.024294256312714424, 0.02463452257870813, 0.02511511786360643, 0.02545277899116627, 0.026052137171063805, 0.025955046236049384, 0.026171614590566605, 0.02672496426384896, 0.02736621912481496, 0.026900183609541273, 0.026271524853655137, 0.02770303418947151, 0.026781546122947475, 0.027762103774875868, 0.02716391277499497, 0.026949758492264664, 0.027357455295714317, 0.028086718106351327, 0.02674669869156787, 0.028258263952011475, 0.028262411473406246, 0.027851957147504436, 0.02788013040481019, 0.027251277751929592, 0.02785155177480192, 0.02748885322944261, 0.027153314382303506, 0.026378977629065048, 0.027203730580367846, 0.02584222247605794, 0.026429500241647474, 0.02705591645644745, 0.02531766596439411, 0.025572555630787974, 0.025796214864385547, 0.025364114822878037, 0.025947125017410144, 0.025161787085380638, -0.5060937497764826, -0.5060937497764826, -0.5060937497764826, -0.5060937497764826, -0.5060937497764826, -0.5060937497764826, -0.5060937497764826, -0.5060937497764826, -0.5060937497764826, -0.5060937497764826, -0.5060937497764826, -0.5060937497764826, -0.5060937497764826, -0.5060937497764826, -0.5060937497764826, -0.5060937497764826, -0.5060937497764826, -0.5060937497764826, -0.5060937497764826, -0.5060937497764826, -0.5060937497764826, -0.5060937497764826, -0.5060937497764826, -0.5060937497764826, -0.5060937497764826, -0.5060937497764826, 0.022880501339386683, 0.02304700696549844, 0.023201237207103986, 0.023329887459112797, 0.0234365098294802, 0.02351791334876907, 0.023586918145156233, 0.023602620443853084, 0.02358794591782498, 0.023566289539303398, 0.0234972634461883, 0.023439576270902762, 0.02336155475495616, 0.023322209941397887, 0.02186944098866661, 0.021587747054581996, 0.022374401982233394, 0.021941557210084284, 0.021215501281403704, 0.02168130847712746, 0.021505564203835092, 0.02183913247063174, 0.021212660874880385, 0.019802010760031408, 0.01990685886266874, 0.019732925906282617, 0.01948109244767693, 0.020517449080216466, 0.021575862385361688, 0.02073070432743407, 0.020524583047517808, 0.01876440293926862, 0.017962125599296996, 0.018623062387632672, 0.018550051256170264, 0.01849962149572093, 0.01847287911004969, 0.01698620705428766, 0.015760111546114786, 0.015772992564961896, 0.014165141319608665, 0.013405316163698444, 0.013970539988804376, 0.01390634191375284, 0.012477331682021031, 0.012785498063749401, 0.01300397082559357, 0.012666165253904182, 0.012925839957460994, 0.012617507638424286, 0.012648322990571614, 0.013065626937532215, 0.013147958419722272, 0.013288675629155478, 0.013316711816514726, 0.01338017928719637, 0.013431007206236245, 0.013582018040324328, 0.013381654089243966, 0.013671074535523076, 0.013471286823914852, 0.013518584704797831, 0.01330341386346845, 0.013318610695932875, 0.01328171886052587, 0.013563829863414867, 0.013112694297888083, 0.012947601204359671, 0.012542008829768747, 0.01245707643829519, 0.012450868414816796, 0.012305526834097691
Max Values: 0.10010550152219366, 0.11925025194796035, 0.13541790621820837, 0.15617457035477855, 0.17103878541456652, 0.18472620682254615, 0.1994378856416006, 0.21007285571158718, 0.22166040263982723, 0.23335247984687157, 0.24350637441239087, 0.2530927452335163, 0.26019135742171784, 0.2677391819488548, 0.2745797066800151, 0.28224042703732266, 0.2872781827718427, 0.2956721640548494, 0.30077685909782303, 0.305824145762017, 0.3226936291139282, 0.3297731474194734, 0.3374034679036413, 0.3455085275527381, 0.3556369391953922, 0.3662413132551592, 0.38233390707318904, 0.4001677628220932, 0.414476026842749, 0.43085599569167243, 0.44207991131042945, 0.4520562874422467, 0.4579631461565441, 0.46295516838654294, 0.46969551046277047, 0.4757010731700575, 0.4796545998979127, 0.47671217925380915, 0.48376924395779497, 0.48744040841120295, 0.5011490636716189, 0.502246077034215, 0.5001819360040827, 0.5102734663705633, 0.5186670927396335, 0.5195036295808677, 0.5181486919937015, 0.5205053188801685, 0.5274586671475845, 0.5316870011847641, 0.5344464796035027, 0.5370227707608137, 0.5366242640411656, 0.5403016003474477, 0.5417529679070867, 0.5439559443439066, 0.5449590927200916, 0.5456630030676024, 0.5461069384073198, 0.5464501568676496, 0.5467750602438173, 0.547084613743209, 0.5476868541300064, 0.5482477555597143, 0.5492071766821027, 0.5499837948409549, 0.5508384770364501, 0.5518649682198884, 0.5540304333808308, 0.5563791229469643, 0.5591572108241962, 0.5619646373233991, 0.5652521446936589, 0.5681416193110636, 0.570126983915543, 0.5738641212774382, 0.5771975301977363, 0.5810005568928318, 0.584966168677056, 0.5895729006042529, 0.5935043922181649, 0.5983381517289672, 0.6019436506612692, 0.6061396147670166, 0.6101313550971099, 0.6139672888130008, 0.6178235042061715, 0.6215025570127182, 0.6251042638723447, 0.6284292833042855, 0.6322889125549409, 0.635373053009971, 0.6394197693589376, 0.6433019380347105, 0.6471328823718068, 0.650269708417909, 0.6536423955076316, 0.6562381529474806, 0.6584160980819433, 0.6595911813310522, 0.6618744611405418, 0.6650418973804335, 0.6677300095579994, 0.6695136342823389, 0.6721483522560447, 0.6749862383512664, 0.6778003994440951, 0.6799010077629646, 0.6821379021166649, 0.684374046020821, 0.6869695218993002, 0.6898038545696181, 0.6931427243325743, 0.696561088116141, 0.6992209278942028, 0.7029448856665113, 0.7058147023963102, 0.7079382895099116, 0.7103196867428778, 0.7127767479687463, 0.7152571263613936, 0.7175727273352095, 0.7197694095048064, 0.721797189413337, 0.7235113822207495, 0.724891047237179, 0.725798881121591, 1.4860937502235174, 1.4860937502235174, 1.4860937502235174, 1.4860937502235174, 1.4860937502235174, 1.4860937502235174, 1.4860937502235174, 1.4860937502235174, 1.4860937502235174, 1.4860937502235174, 1.4860937502235174, 1.4860937502235174, 1.4860937502235174, 1.4860937502235174, 1.4860937502235174, 0.6968738053110428, 0.6680358307639835, 0.6541665571567137, 0.6776493850993575, 0.6613634841851308, 0.6621138077607611, 0.6722991775859555, 0.6873943404425518, 0.6964190982216678, 0.7007029368869553, 0.7072726792284811, 0.7105204693179985, 0.7147491623763926, 0.7169846098986454, 0.7197013200493529, 0.7246221731984406, 0.7269414717193285, 0.7303333775926149, 0.7257552459268481, 0.7295995203930943, 0.7355386987837846, 0.7401525478344411, 0.7359807110951806, 0.7379354518379841, 0.7438580766975065, 0.7465634671607404, 0.746055839696055, 0.7468661933708063, 0.7476688350834593, 0.748520996352454, 0.7474497550356318, 0.7479746621065715, 0.7489843560324516, 0.7482184457476251, 0.7478004549120669, 0.7454931016145565, 0.7400315207451058, 0.7375631446047919, 0.7325911735315458, 0.7307606573849625, 0.7287630731916579, 0.7307670667760249, 0.7257591160814627, 0.7285224633815233, 0.7250543821974134, 1.4860937502235174, 1.4860937502235174, 1.4860937502235174, 1.4860937502235174, 1.4860937502235174, 1.4860937502235174, 1.4860937502235174, 1.4860937502235174, 1.4860937502235174, 1.4860937502235174, 1.4860937502235174, 1.4860937502235174, 1.4860937502235174, 1.4860937502235174, 1.4860937502235174, 1.4860937502235174, 1.4860937502235174, 1.4860937502235174, 1.4860937502235174, 1.4860937502235174, 1.4860937502235174, 1.4860937502235174, 1.4860937502235174, 1.4860937502235174, 1.4860937502235174, 1.4860937502235174, 0.6489364474618924, 0.655484736620565, 0.6619083743935334, 0.6645796374286874, 0.6652642555418424, 0.6723564554231416, 0.676997249469423, 0.6812127784578479, 0.6814590300673444, 0.6815222234326939, 0.6840464617016551, 0.6891597589674348, 0.6920698188114329, 0.6939312403628719, 0.6785651450445584, 0.6775080273873755, 0.6737426675899769, 0.6673757120406663, 0.6612042551460036, 0.65869988900522, 0.659821786233806, 0.6614606790863036, 0.6647105913798441, 0.6580106121000426, 0.6541759232568438, 0.6464075801377476, 0.639376854767761, 0.6334783274687652, 0.632691290385992, 0.6306047604630294, 0.6246395546586427, 0.6197203190640721, 0.6039968435616174, 0.6036990313077695, 0.6046970376082754, 0.6054243582038907, 0.6064309618341213, 0.6047638161617215, 0.5954612410459958, 0.5985205557135487, 0.5950797165951371, 0.587779944176873, 0.5818268367183919, 0.5723898914347956, 0.5656644153605157, 0.5572554375867185, 0.5526435818956088, 0.5477094618763658, 0.5303787356497196, 0.5269572747256461, 0.5244302252322086, 0.5206467126499774, 0.5235968242814124, 0.5357287257829739, 0.5449791649025428, 0.5476942620116461, 0.5520084908457648, 0.5473483178539027, 0.5416828238685412, 0.539946875993337, 0.5434782876764075, 0.5422862406830973, 0.5246400126561639, 0.5109077726101532, 0.49192067698095343, 0.48639973120953073, 0.4523645133776881, 0.43783079559580074, 0.4261419480317272, 0.39256966861285036, 0.29402201141965634, 0.2609522279090015
Mean Values: 0.02241992778086525, 0.034967180027912166, 0.04601914586012801, 0.057479164702388494, 0.06721767090913695, 0.07682244652137107, 0.08574631469973244, 0.0928130956039826, 0.10055879433417789, 0.10845723003747781, 0.11506131488555889, 0.12034561700820243, 0.1248010589387523, 0.1291415941897293, 0.13419495095380418, 0.13948868360328465, 0.14415151335800852, 0.1508775661932892, 0.15510856207618953, 0.15974804084376365, 0.17244407344268903, 0.17987640762996784, 0.18713949488321222, 0.19612940404628237, 0.2051197153934159, 0.21374595997254053, 0.22166950996830484, 0.22973176810417661, 0.23572770701001158, 0.24379664271843207, 0.250670973742821, 0.254966193757733, 0.2583961426481225, 0.26108924247496457, 0.26472624727279903, 0.26927616569047175, 0.2711811659806437, 0.27443988697195587, 0.27660741045981657, 0.2814182341699966, 0.28533958715291763, 0.28775628309719137, 0.28952893516272027, 0.2959691777296087, 0.30044580360486983, 0.3052793271147524, 0.3078280142106092, 0.31153854039570084, 0.31648309095000815, 0.31927232771167685, 0.32213675346010684, 0.32496059481166184, 0.32727357685902936, 0.33036947117589455, 0.33266597876644927, 0.33486385162167365, 0.33687147649343835, 0.3386581775088496, 0.34015316527579986, 0.34167625904354565, 0.343037560095493, 0.34439794504095583, 0.3456640287167875, 0.34692380950238216, 0.34817812798187797, 0.3494691884510378, 0.35066700794445865, 0.3519639248352163, 0.35321969658877217, 0.35445650741585927, 0.35600193144058057, 0.35741507510265447, 0.35904438123322124, 0.3605201233044857, 0.36189679430040844, 0.3637064222827613, 0.36556662486382435, 0.36755048598606216, 0.3696117949791887, 0.3718614920030583, 0.3739527852000711, 0.37603236949417124, 0.378066846514591, 0.3801739022090726, 0.3823220629127434, 0.3845110976800391, 0.38670170093886885, 0.38882475278004286, 0.39090234685804176, 0.3929847135836235, 0.3950725266111318, 0.39704977733477326, 0.3990876367926827, 0.40132415361405704, 0.40344114184846147, 0.4055228454548878, 0.407541681722266, 0.4093620672644231, 0.41099823560267384, 0.4125273920798483, 0.41416339924580964, 0.4158281682054296, 0.4172530819303519, 0.4184603798861823, 0.4197576254278055, 0.4210440504645585, 0.4225317479946666, 0.4238503592516157, 0.42510639361544034, 0.426218871992573, 0.42740302143869013, 0.42858277473437884, 0.42998513619255807, 0.43152294782286776, 0.43301570112138, 0.43475379533529784, 0.43622969814226104, 0.43775789374714, 0.4391351367139191, 0.44054204826691606, 0.44190785735425436, 0.44323775289032313, 0.44456580566159265, 0.4457749298649606, 0.4468337886371687, 0.4476883216515413, 0.44831398656817106, -0.5060937497764826, -0.5060937497764826, -0.5060937497764826, -0.5060937497764826, -0.5060937497764826, -0.5060937497764826, -0.5060937497764826, -0.5060937497764826, -0.5060937497764826, -0.5060937497764826, -0.5060937497764826, -0.5060937497764826, -0.5060937497764826, -0.5060937497764826, -0.5060937497764826, 0.4138097274839184, 0.4166030573119049, 0.42292825277838125, 0.4298241267418843, 0.42488639726145955, 0.4311377163931937, 0.43782772217052257, 0.44266669628624644, 0.44314903212367907, 0.4435170295581348, 0.4451326867114349, 0.4472461241889922, 0.44785828253565224, 0.44860729714624303, 0.45027409916755345, 0.4526292882432557, 0.45279439350509676, 0.45349130396761933, 0.4525328031028871, 0.45377328403202405, 0.4569612771058556, 0.45852058014566455, 0.45687094694593505, 0.45863491890867564, 0.4604079901219352, 0.4620637979373311, 0.4629796428782347, 0.4629586068229297, 0.46259042593028765, 0.46311328907195315, 0.46328863299997386, 0.4633376272326715, 0.46384974276907365, 0.463343242236517, 0.46234428613361706, 0.46120869425819366, 0.45965184404930975, 0.45788958170540917, 0.45720903704910154, 0.45504139570101837, 0.45574596014860735, 0.455274012341222, 0.45522284093901555, 0.4566802920140536, 0.4584145492963716, -0.5060937497764826, -0.5060937497764826, -0.5060937497764826, -0.5060937497764826, -0.5060937497764826, -0.5060937497764826, -0.5060937497764826, -0.5060937497764826, -0.5060937497764826, -0.5060937497764826, -0.5060937497764826, -0.5060937497764826, -0.5060937497764826, -0.5060937497764826, -0.5060937497764826, -0.5060937497764826, -0.5060937497764826, -0.5060937497764826, -0.5060937497764826, -0.5060937497764826, -0.5060937497764826, -0.5060937497764826, -0.5060937497764826, -0.5060937497764826, -0.5060937497764826, -0.5060937497764826, 0.3910061412023232, 0.39518005819498486, 0.3993532332006898, 0.4029372664520475, 0.4057717138319822, 0.41105902418614865, 0.415797695887616, 0.419846041247262, 0.4224166369307948, 0.4246201085048022, 0.4262027589208647, 0.4278668244117568, 0.42897606108631386, 0.4303019982739958, 0.43357286447730964, 0.43067414613064775, 0.42796753692579703, 0.42388178333208953, 0.421738494309212, 0.41555686215925464, 0.41507082072287144, 0.4165856718350694, 0.4162987141857225, 0.4113404181428469, 0.40428846287818754, 0.3976689018563042, 0.39315709202741456, 0.39350544881094435, 0.39517617987182563, 0.3963471883736212, 0.39459736069043716, 0.39042171620486515, 0.38174620538635823, 0.3781440566405078, 0.37428258933017455, 0.37194030687266655, 0.36844816581754386, 0.3603843895235291, 0.3505426950697257, 0.34077436651267046, 0.33174592992181096, 0.32106854483782366, 0.30802593258260264, 0.29507456547210814, 0.28628801174028445, 0.2769251860106246, 0.27290266496177207, 0.268016743665665, 0.25717971499392284, 0.2474067854676089, 0.24107111064443135, 0.2424454331528015, 0.255614154370815, 0.2758908044526649, 0.29436310524434406, 0.3052330371315293, 0.3139435640486862, 0.3129128042878581, 0.30568361610971556, 0.30554064013625837, 0.30526821660632786, 0.29857683542069646, 0.2826931220919941, 0.2761059085492318, 0.2581676598002016, 0.25836580434602574, 0.22799147028894895, 0.2173225341271435, 0.2083115199142793, 0.18977593368792575, 0.15661062730401448, 0.13727056235724475
