View In:
ArcGIS JavaScript
ArcGIS Online Map Viewer
ArcGIS Earth
Service Description: NASA_EMIT/EMIT_L2B_Group2_Mineral_ID_c95_c199
Name: NASA_EMIT/EMIT_L2B_Group2_Mineral_ID_c95_c199
Description:
Single Fused Map Cache: false
Extent:
XMin: 3132888.7300000004
YMin: 1187054.5600465038
XMax: 6719964.73225886
YMax: 4388061.299000002
Spatial Reference: 102100
(3857)
Initial Extent:
XMin: 3132888.7300000004
YMin: 1187054.5600465038
XMax: 6719964.73225886
YMax: 4388061.299000002
Spatial Reference: 102100
(3857)
Full Extent:
XMin: 3132888.7300000004
YMin: 1187054.5600465038
XMax: 6719964.73225886
YMax: 4388061.299000002
Spatial Reference: 102100
(3857)
Pixel Size X: 60.36104804649165
Pixel Size Y: 60.361048046491646
Band Count: 1
Pixel Type: U16
RasterFunction Infos: {"rasterFunctionInfos": [{
"name": "None",
"description": "Make a Raster or Raster Dataset into a Function Raster Dataset.",
"help": ""
}]}
Mensuration Capabilities: Basic
Inspection Capabilities:
Has Histograms: true
Has Colormap: false
Has Multi Dimensions : false
Rendering Rule:
Min Scale: 0
Max Scale: 0
Resampling: false
Copyright Text:
Service Data Type: esriImageServiceDataTypeGeneric
Min Values: 96
Max Values: 294
Mean Values: 181.71196353074038
Standard Deviation Values: 43.59714789640952
Object ID Field:
Fields:
None
Default Mosaic Method: Center
Allowed Mosaic Methods:
SortField:
SortValue: null
Mosaic Operator: First
Default Compression Quality: 100
Default Resampling Method: Nearest
Max Record Count: null
Max Image Height: 4100
Max Image Width: 15000
Max Download Image Count: null
Max Mosaic Image Count: null
Allow Raster Function: true
Allow Copy: false
Allow Analysis: true
Allow Compute TiePoints: false
Supports Statistics: false
Supports Advanced Queries: false
Use StandardizedQueries: true
Raster Type Infos:
Name: Raster Dataset
Description: Supports all ArcGIS Raster Datasets
Help:
Has Raster Attribute Table: true
Edit Fields Info: null
Ownership Based AccessControl For Rasters: null
Child Resources:
Info
Raster Attribute Table
Histograms
Statistics
Key Properties
Legend
Raster Function Infos
Supported Operations:
Export Image
Identify
Measure
Compute Histograms
Compute Statistics Histograms
Get Samples
Compute Class Statistics
Query Boundary
Compute Pixel Location
Compute Angles
Validate
Project