View In:
ArcGIS JavaScript
ArcGIS Online Map Viewer
ArcGIS Earth
Service Description: NASA_EMIT/EMIT_Nubian_Arabian_Shield_Rotated
Name: NASA_EMIT/EMIT_Nubian_Arabian_Shield_Rotated
Description:
Single Fused Map Cache: false
Extent:
XMin: 31.66068065524849
YMin: 10.432229935614846
XMax: 43.68468679193335
YMax: 29.589847108792426
Spatial Reference: 4326
(4326)
Initial Extent:
XMin: 31.66068065524849
YMin: 10.432229935614846
XMax: 43.68468679193335
YMax: 29.589847108792426
Spatial Reference: 4326
(4326)
Full Extent:
XMin: 31.66068065524849
YMin: 10.432229935614846
XMax: 43.68468679193335
YMax: 29.589847108792426
Spatial Reference: 4326
(4326)
Pixel Size X: 5.422325202563635E-4
Pixel Size Y: 5.422325202563635E-4
Band Count: 285
Pixel Type: F32
RasterFunction Infos: {"rasterFunctionInfos": [{
"name": "None",
"description": "",
"help": ""
}]}
Mensuration Capabilities: Basic
Inspection Capabilities:
Has Histograms: true
Has Colormap: false
Has Multi Dimensions : false
Rendering Rule:
Min Scale: 0
Max Scale: 0
Copyright Text:
Service Data Type: esriImageServiceDataTypeGeneric
Min Values: -0.012240782380104065, 0.0011742307106032968, 0.005264640785753727, 0.01277114823460579, 0.014852187596261501, 0.016549451276659966, 0.017552804201841354, 0.01842321828007698, 0.019548527896404266, 0.020483138039708138, 0.0213632695376873, 0.022119585424661636, 0.02189161814749241, 0.021585045382380486, 0.022089915350079536, 0.021650994196534157, 0.02245633862912655, 0.022891519591212273, 0.023893309757113457, 0.023344101384282112, 0.02398534119129181, 0.024386830627918243, 0.024181850254535675, 0.024695320054888725, 0.024793611839413643, 0.024144180119037628, 0.02335507422685623, 0.022727547213435173, 0.020992722362279892, 0.019410237669944763, 0.01765352673828602, 0.01667100377380848, 0.01591583341360092, 0.015226069837808609, 0.014698993414640427, 0.014525936916470528, 0.014422373846173286, 0.01391744427382946, 0.01304667815566063, 0.01283322460949421, 0.013195843435823917, 0.012969675473868847, 0.0124713946133852, 0.012506634928286076, 0.01186562143266201, 0.011750215664505959, 0.01148097962141037, 0.010679198428988457, 0.010347452014684677, 0.009031401015818119, 0.008854511193931103, 0.008480561897158623, 0.008296633139252663, 0.008586459793150425, 0.008576259948313236, 0.00860095676034689, 0.008554000407457352, 0.008554214611649513, 0.008554506115615368, 0.008544945158064365, 0.008479452691972256, 0.00845243688672781, 0.008397888392210007, 0.008429259993135929, 0.008476948365569115, 0.008394155651330948, 0.008355791680514812, 0.0083059286698699, 0.008343657478690147, 0.008363638073205948, 0.008353172801434994, 0.008368276990950108, 0.008351853117346764, 0.008340949192643166, 0.008313378319144249, 0.00830176193267107, 0.008258643560111523, 0.008213899098336697, 0.00830869097262621, 0.00830372329801321, 0.008277706801891327, 0.008245330303907394, 0.008142640814185143, 0.00804844032973051, 0.008061109110713005, 0.00809191633015871, 0.008050864562392235, 0.008033530786633492, 0.008057753555476665, 0.008039127103984356, 0.007986554875969887, 0.007923362776637077, 0.007902865298092365, 0.007979297079145908, 0.007941723801195621, 0.007980363443493843, 0.00819460116326809, 0.008261008188128471, 0.008230866864323616, 0.008244702592492104, 0.008229813538491726, 0.00824248231947422, 0.008258563466370106, 0.008227732963860035, 0.00824684277176857, 0.008215483278036118, 0.00824802741408348, 0.008232931606471539, 0.008198540657758713, 0.008175966329872608, 0.008200941607356071, 0.0081618782132864, 0.008165565319359303, 0.008142021484673023, 0.008134492672979832, 0.008039905689656734, 0.008130025118589401, 0.008075876161456108, 0.008322343230247498, 0.008667491376399994, 0.008291590958833694, 0.008216677233576775, 0.008299039676785469, 0.008458903059363365, 0.008524752222001553, 0.008480818942189217, 0.00824316032230854, -0.009999999776482582, -0.009999999776482582, -0.009999999776482582, -0.009999999776482582, -0.009999999776482582, -0.009999999776482582, -0.009999999776482582, -0.009999999776482582, -0.009999999776482582, -0.009999999776482582, -0.009999999776482582, -0.009999999776482582, -0.009999999776482582, -0.009999999776482582, -0.009999999776482582, 0.005893190391361713, 0.007955026812851429, 0.007628226652741432, 0.008002408780157566, 0.007289647124707699, 0.007163143251091242, 0.007800267543643713, 0.007486599497497082, 0.007653187494724989, 0.007576430216431618, 0.007512231357395649, 0.0076529174111783504, 0.007656036876142025, 0.007422492373734713, 0.007540796417742968, 0.007626139558851719, 0.0076379296369850636, 0.007272625342011452, 0.00716284429654479, 0.007195266894996166, 0.007498069200664759, 0.007452463265508413, 0.0070605529472231865, 0.007199946790933609, 0.007246953435242176, 0.007314087823033333, 0.007477035280317068, 0.0074345385655760765, 0.007313029374927282, 0.0073737469501793385, 0.007347419857978821, 0.0074675180949270725, 0.007393266074359417, 0.007297814358025789, 0.007165153045207262, 0.007473862264305353, 0.007272705435752869, 0.00734513346105814, 0.00746211176738143, 0.0070934477262198925, 0.007272376678884029, 0.007515422534197569, 0.007328189443796873, 0.007499689236283302, 0.0073813810013234615, -0.009999999776482582, -0.009999999776482582, -0.009999999776482582, -0.009999999776482582, -0.009999999776482582, -0.009999999776482582, -0.009999999776482582, -0.009999999776482582, -0.009999999776482582, -0.009999999776482582, -0.009999999776482582, -0.009999999776482582, -0.009999999776482582, -0.009999999776482582, -0.009999999776482582, -0.009999999776482582, -0.009999999776482582, -0.009999999776482582, -0.009999999776482582, -0.009999999776482582, -0.009999999776482582, -0.009999999776482582, -0.009999999776482582, -0.009999999776482582, -0.009999999776482582, -0.009999999776482582, 0.0070019010454416275, 0.007851545698940754, 0.008517321199178696, 0.008131520822644234, 0.007465047761797905, 0.0039638327434659, 0.003437889041379094, 0.005940601695328951, 0.006823271978646517, 0.007323125377297401, 0.007546958513557911, 0.007275279611349106, 0.007075470872223377, 0.007019149139523506, 0.0067181698977947235, 0.007174837868660688, 0.007677488029003143, 0.007515756879001856, 0.007464022841304541, 0.007521708030253649, 0.007648674305528402, 0.007784863468259573, 0.007783080916851759, 0.007772001437842846, 0.007727447431534529, 0.007677170448005199, 0.007677676156163216, 0.007759236730635166, 0.007505337707698345, 0.007492052391171455, 0.00730062834918499, 0.007287624292075634, 0.0071972873993217945, 0.00742022879421711, 0.0072478847578167915, 0.00731611717492342, 0.007369504310190678, 0.00704182730987668, 0.006965009495615959, 0.0070176455192267895, 0.007012339774519205, 0.006949922535568476, 0.00727821746841073, 0.00721704913303256, 0.0071183000691235065, 0.006521901581436396, 0.006777539849281311, 0.007135656196624041, 0.00701016653329134, 0.006761332042515278, 0.006729792337864637, 0.007027641870081425, 0.007566206622868776, 0.006826473865658045, 0.007057430222630501, 0.007859998382627964, 0.007957384921610355, 0.00823979265987873, 0.007050789892673492, 0.00771671999245882, 0.008695417083799839, 0.009455276653170586, 0.007352759130299091, 0.00797947496175766, 0.008229095488786697, 0.011119537986814976, 0.007895397022366524, 0.007393616251647472, 0.007369186729192734, 0.0068747494369745255, 0.013160472735762596, 0.009096035733819008
Max Values: 0.6448794007301331, 0.6571819186210632, 0.6661418676376343, 0.6730360388755798, 0.6855098009109497, 0.6991841197013855, 0.7072226405143738, 0.7103663086891174, 0.719089150428772, 0.7282317876815796, 0.731275737285614, 0.7311565279960632, 0.7292104959487915, 0.7252476811408997, 0.7266848683357239, 0.7242920398712158, 0.7254542708396912, 0.7247436046600342, 0.727310299873352, 0.7230753898620605, 0.7200700044631958, 0.7203286290168762, 0.719058096408844, 0.720678448677063, 0.7221912741661072, 0.7177526950836182, 0.7134169340133667, 0.7162144780158997, 0.7130727171897888, 0.7167434096336365, 0.7212684750556946, 0.7227123379707336, 0.7237948179244995, 0.7209079265594482, 0.7233668565750122, 0.7299380302429199, 0.7271330952644348, 0.7325289249420166, 0.738117516040802, 0.7360433340072632, 0.7353282570838928, 0.7336646318435669, 0.744394063949585, 0.756266176700592, 0.7561438679695129, 0.774467408657074, 0.7905825972557068, 0.7856593132019043, 0.7764852643013, 0.7801291346549988, 0.7821371555328369, 0.801128625869751, 0.7909087538719177, 0.7964909076690674, 0.7994950413703918, 0.804180920124054, 0.8059528470039368, 0.8053109049797058, 0.8077720999717712, 0.8088859915733337, 0.8006183505058289, 0.7921907305717468, 0.786124587059021, 0.7846363186836243, 0.7818803787231445, 0.7785826921463013, 0.7707290649414062, 0.7709278464317322, 0.7638536095619202, 0.7558941841125488, 0.7503904104232788, 0.7464987635612488, 0.7469493746757507, 0.7415010333061218, 0.744198203086853, 0.7439155578613281, 0.7368504405021667, 0.740964949131012, 0.7423253059387207, 0.7354185581207275, 0.7323896884918213, 0.73307865858078, 0.7360086441040039, 0.7383785843849182, 0.7440658211708069, 0.7444189190864563, 0.7467877268791199, 0.7490842938423157, 0.7533250451087952, 0.7560845613479614, 0.7579072713851929, 0.7585938572883606, 0.7606735825538635, 0.764178454875946, 0.7648804187774658, 0.7653965950012207, 0.7680404782295227, 0.7674237489700317, 0.7672314047813416, 0.7753397822380066, 0.7728106379508972, 0.7751192450523376, 0.777387261390686, 0.7800305485725403, 0.781125009059906, 0.7765394449234009, 0.7809667587280273, 0.7857252359390259, 0.7906767725944519, 0.7948387861251831, 0.8010435104370117, 0.803962767124176, 0.8074762225151062, 0.8081377744674683, 0.8077858686447144, 0.8086451888084412, 0.8092614412307739, 0.8091625571250916, 0.8095755577087402, 0.8098963499069214, 0.810943603515625, 0.8109084367752075, 0.8109544515609741, 0.8106886744499207, 0.8108894228935242, 0.8111504316329956, 0.8117953538894653, -0.009999999776482582, -0.009999999776482582, -0.009999999776482582, -0.009999999776482582, -0.009999999776482582, -0.009999999776482582, -0.009999999776482582, -0.009999999776482582, -0.009999999776482582, -0.009999999776482582, -0.009999999776482582, -0.009999999776482582, -0.009999999776482582, -0.009999999776482582, -0.009999999776482582, 2.8369557857513428, 1.2438938617706299, 0.8006072640419006, 0.8159299492835999, 0.7903558015823364, 0.8214299082756042, 0.8351182341575623, 0.7929862141609192, 0.8141254782676697, 0.8194960951805115, 0.8290649056434631, 0.8458548784255981, 0.8613681793212891, 0.876234769821167, 0.891589343547821, 0.9039203524589539, 0.9069616794586182, 0.9072657227516174, 0.9053276181221008, 0.9046674966812134, 0.9131831526756287, 0.9141557216644287, 0.9118167161941528, 0.9138402938842773, 0.9188612699508667, 0.9227738380432129, 0.9237051010131836, 0.9257427453994751, 0.921943187713623, 0.9190715551376343, 0.9147236347198486, 0.9103521108627319, 0.9075160026550293, 0.9023200273513794, 0.8937476873397827, 0.8866629004478455, 0.8796488046646118, 0.8703378438949585, 0.8633704781532288, 0.8534492254257202, 0.8534978628158569, 0.8521153330802917, 0.8572602868080139, 0.8495741486549377, 0.8295650482177734, -0.009999999776482582, -0.009999999776482582, -0.009999999776482582, -0.009999999776482582, -0.009999999776482582, -0.009999999776482582, -0.009999999776482582, -0.009999999776482582, -0.009999999776482582, -0.009999999776482582, -0.009999999776482582, -0.009999999776482582, -0.009999999776482582, -0.009999999776482582, -0.009999999776482582, -0.009999999776482582, -0.009999999776482582, -0.009999999776482582, -0.009999999776482582, -0.009999999776482582, -0.009999999776482582, -0.009999999776482582, -0.009999999776482582, -0.009999999776482582, -0.009999999776482582, -0.009999999776482582, 0.7298064827919006, 0.7336509227752686, 0.7387850880622864, 0.7382897138595581, 0.7289032340049744, 0.7314596772193909, 0.7360106706619263, 0.7436274290084839, 0.7493827939033508, 0.7616074085235596, 0.7747625112533569, 0.778232753276825, 0.7815422415733337, 0.7830226421356201, 0.7804421186447144, 0.7860913276672363, 0.7923011183738708, 0.7949860095977783, 0.8003246188163757, 0.7926082015037537, 0.7929694652557373, 0.7990014553070068, 0.8012901544570923, 0.7952730059623718, 0.7884998917579651, 0.7818512320518494, 0.7662323117256165, 0.7570969462394714, 0.7501363754272461, 0.7433096766471863, 0.730957567691803, 0.7175920009613037, 0.6981291174888611, 0.6967484951019287, 0.7063498497009277, 0.706693172454834, 0.7023887038230896, 0.6931552290916443, 0.6821214556694031, 0.675909161567688, 0.6629826426506042, 0.6564610004425049, 0.6511315703392029, 0.6435620188713074, 0.6358041167259216, 0.6276495456695557, 0.627236008644104, 0.6159595847129822, 0.6039225459098816, 0.5982731580734253, 0.5951151251792908, 0.5898709297180176, 0.5873891115188599, 0.5957803130149841, 0.5949469804763794, 0.5846636891365051, 0.5816745162010193, 0.5824244022369385, 0.5867242217063904, 0.5783434510231018, 0.5755926966667175, 0.5680558681488037, 0.569786012172699, 0.5776776075363159, 0.5454695224761963, 0.5645811557769775, 0.565365731716156, 0.5724878311157227, 0.5539745688438416, 0.5409193634986877, 0.5399723052978516, 0.5507786870002747
Mean Values: 0.06042898333421586, 0.06736268953454488, 0.07415193232295865, 0.08210369650226883, 0.08897385184071696, 0.09551747200704108, 0.10112800999500396, 0.10453560341909038, 0.10947074466835963, 0.11416088878574347, 0.11828747148784832, 0.12122385929249871, 0.12348063692310646, 0.12576849695493778, 0.12914386691905497, 0.13210293167112225, 0.1368746671263489, 0.1417018565795847, 0.14667651176576835, 0.15087785015101504, 0.1564104821851755, 0.16224787945838146, 0.16809824937533624, 0.17510291830569474, 0.18200561178706273, 0.18819091680314087, 0.1939126987143825, 0.20046533991963383, 0.20546357595082032, 0.21076534678563935, 0.21554374570236748, 0.2183293440889997, 0.2202423819414873, 0.22206587970061178, 0.22445375186990188, 0.22756921672865837, 0.22881998248906368, 0.23060433797830937, 0.23190706212513798, 0.2357192564549798, 0.2386720927334973, 0.23995345099307455, 0.2413077404947614, 0.24618585060543705, 0.24962458931047118, 0.25401985546084793, 0.2561595426069209, 0.2581332085287783, 0.26176564828236537, 0.26465094346078866, 0.2663029363193398, 0.26798989385096467, 0.2687673800099094, 0.27060752547197164, 0.2714463642668011, 0.27211216089144075, 0.272611400991221, 0.27294297929469175, 0.2730786738491436, 0.2731518936995223, 0.27319081049820076, 0.2731840478512165, 0.2732247019209011, 0.27332952396694876, 0.2733509266330447, 0.2734623876471535, 0.2734667190884414, 0.27359094421408947, 0.2737107298689199, 0.2738976312599908, 0.2742673628510363, 0.274599262728895, 0.2750017123474084, 0.2754420812567393, 0.2758586845548949, 0.27648519074887845, 0.2771345696734354, 0.2778629313585067, 0.278675193957013, 0.2797010165264877, 0.28064975747797954, 0.2816717604771809, 0.28278240300997, 0.2839329890500333, 0.28513142065800756, 0.28626500394452203, 0.2874492470031323, 0.28858021611622203, 0.2897222499815113, 0.2908484271686064, 0.29195518964121153, 0.29297449296681005, 0.2940770366229358, 0.295361805896697, 0.2965170379277269, 0.2977286497942372, 0.29887530704697063, 0.2998241403124881, 0.30074818220866806, 0.3017114668024108, 0.3027318995291274, 0.3038209292198182, 0.3047862099721375, 0.30572713181003747, 0.3066441598013462, 0.3074963171137156, 0.3084947411702298, 0.3094718024370429, 0.31042446881627345, 0.3113537398618024, 0.3123919920121285, 0.3133327251746034, 0.3143544241605927, 0.31553305448980706, 0.3165198910324223, 0.3176921930139425, 0.3186388589413856, 0.3193883694149589, 0.3202772835080864, 0.321166981444658, 0.3220288936345526, 0.322875563955021, 0.3236970383986255, 0.32447126942157595, 0.32521484266448286, 0.32588277506727487, 0.32648877679642774, -0.009999999776482582, -0.009999999776482582, -0.009999999776482582, -0.009999999776482582, -0.009999999776482582, -0.009999999776482582, -0.009999999776482582, -0.009999999776482582, -0.009999999776482582, -0.009999999776482582, -0.009999999776482582, -0.009999999776482582, -0.009999999776482582, -0.009999999776482582, -0.009999999776482582, 0.3559451141193679, 0.3362020915983302, 0.3301817732137952, 0.33610931766153646, 0.33565070459795304, 0.3254622528829734, 0.32049072437667997, 0.3236274953922371, 0.32619699830336407, 0.32797151680623293, 0.3301004508096139, 0.33215251758944664, 0.33299902192521963, 0.33419096905523593, 0.33577005807431876, 0.3379114023163692, 0.33868740252017115, 0.3388749023771768, 0.33738805188098137, 0.3385878995101116, 0.3419406259200006, 0.3429171238222705, 0.3411557289741669, 0.34258194217995463, 0.3449262537743621, 0.34682101647051894, 0.3475005723996474, 0.34770589570089105, 0.3477341158415443, 0.3482483854989656, 0.348405665744038, 0.3484879462653098, 0.349582947053803, 0.3497490541916039, 0.34938672209300925, 0.3491317378980276, 0.3488448023921327, 0.34864361986545417, 0.3488283518271694, 0.34778976983203397, 0.34840485015439543, 0.34860040641093076, 0.34883232657611507, 0.3499633959588677, 0.34847506322438904, -0.009999999776482582, -0.009999999776482582, -0.009999999776482582, -0.009999999776482582, -0.009999999776482582, -0.009999999776482582, -0.009999999776482582, -0.009999999776482582, -0.009999999776482582, -0.009999999776482582, -0.009999999776482582, -0.009999999776482582, -0.009999999776482582, -0.009999999776482582, -0.009999999776482582, -0.009999999776482582, -0.009999999776482582, -0.009999999776482582, -0.009999999776482582, -0.009999999776482582, -0.009999999776482582, -0.009999999776482582, -0.009999999776482582, -0.009999999776482582, -0.009999999776482582, -0.009999999776482582, 0.3238294479275741, 0.3258223414872778, 0.3277998110106575, 0.32923737436317246, 0.3299530027566471, 0.3314358388467641, 0.33298458406497267, 0.334452838108044, 0.33531250182073263, 0.33601470237116043, 0.33701749861056063, 0.33786197528541095, 0.33809702355143645, 0.3386128939597469, 0.33725362935856384, 0.33772215464505106, 0.3369503461388062, 0.3355447763307885, 0.3354302317049282, 0.33213232727516256, 0.3317633421704387, 0.33437868805596416, 0.3358192118188252, 0.3342009035052349, 0.3318543868390744, 0.32732017707240335, 0.3220650818048655, 0.31858891869768946, 0.315656599617919, 0.31215936454403936, 0.3066591938875334, 0.30092529010289853, 0.2936314595265661, 0.29512967906408705, 0.3002664153578028, 0.301534614861817, 0.30040120178916063, 0.296414794213938, 0.2917358301075011, 0.2892346655544663, 0.2887905393737844, 0.2876972248492027, 0.28522853367723855, 0.280844908578966, 0.2758021109437047, 0.27057585777689225, 0.26921485583532584, 0.2651442503249198, 0.2577801494851632, 0.2554591198291161, 0.2520728534528058, 0.24722992459410917, 0.2476179937593544, 0.25307272031376693, 0.25573224545962514, 0.25438110762902705, 0.2550150402884495, 0.25455012322529247, 0.2540672748150765, 0.2548840967983224, 0.25521335560237307, 0.25270564860076133, 0.2480525123626597, 0.24899130808693218, 0.24027418721010443, 0.24567331863304895, 0.2316048567839249, 0.22946670313869316, 0.2283859619676661, 0.2210063472573172, 0.20432555065650423, 0.19454513174992483
