View In:
ArcGIS JavaScript
ArcGIS Online Map Viewer
ArcGIS Earth
Service Description: NASA_EMIT/mineral_abundance_m1_hpc135_weighted_fixed_crf
Name: NASA_EMIT/mineral_abundance_m1_hpc135_weighted_fixed_crf
Description:
Single Fused Map Cache: false
Extent:
XMin: -179.9999999999998
YMin: -52.69820852449508
XMax: 179.99999999999906
YMax: 52.24327556550312
Spatial Reference: 4326
(4326)
Initial Extent:
XMin: -179.9999999999998
YMin: -52.69820852449508
XMax: 179.99999999999906
YMax: 52.24327556550312
Spatial Reference: 4326
(4326)
Full Extent:
XMin: -179.9999999999998
YMin: -52.69820852449508
XMax: 179.99999999999906
YMax: 52.24327556550312
Spatial Reference: 4326
(4326)
Pixel Size X: 5.422323706700469E-4
Pixel Size Y: 5.422323706700469E-4
Band Count: 10
Pixel Type: F32
RasterFunction Infos: {"rasterFunctionInfos": [
{
"name": "None",
"description": "Make a Raster or Raster Dataset into a Function Raster Dataset.",
"help": ""
},
{
"name": "RGB_Hematite_Goethite_Kaolinite_Abundance_M1",
"description": "RGB_Hematite_Goethite_Kaolinite_Abundance_M1",
"help": ""
},
{
"name": "Calcite_Abundance_m1",
"description": "Calcite_Abundance_m1 extract band and stretch",
"help": ""
},
{
"name": "Chlorite_Abundance_m1",
"description": "Chlorite_Abundance_m1 extract band and stretch",
"help": ""
},
{
"name": "Dolomite_Abundance_m1",
"description": "Dolomite_Abundance_m1 extract band and stretch",
"help": ""
},
{
"name": "Goethite_Abundance_m1",
"description": "Goethite_Abundance_m1 extract band and stretch",
"help": ""
},
{
"name": "Gypsum_Abundance_m1",
"description": "Gypsum_Abundance_m1 extract band and stretch",
"help": ""
},
{
"name": "Hematite_Abundance_m1",
"description": "Hematite_Abundance_m1 extract band and stretch",
"help": ""
},
{
"name": "Illite+Muscovite_Abundance_m1",
"description": "Illite+Muscovite_Abundance_m1 extract band and stretch",
"help": ""
},
{
"name": "Kaolinite_Abundance_m1",
"description": "Kaolinite_Abundance_m1 extract band and stretch",
"help": ""
},
{
"name": "Montmorillonite_Abundance_m1",
"description": "Montmorillonite_Abundance_m1 extract band and stretch",
"help": ""
},
{
"name": "RGB_Montmorillonite_Illite+Muscovite_Calcite_Abundance_M1",
"description": "RGB_Montmorillonite_Illite+Muscovite_Calcite_Abundance_M1",
"help": ""
},
{
"name": "Vermiculite_Abundance_m1",
"description": "Vermiculite_Abundance_m1 extract band and stretch",
"help": ""
}
]}
Mensuration Capabilities: Basic
Inspection Capabilities:
Has Histograms: true
Has Colormap: false
Has Multi Dimensions : false
Rendering Rule:
Min Scale: 0
Max Scale: 0
Resampling: false
Copyright Text:
Service Data Type: esriImageServiceDataTypeGeneric
Min Values: 0, 0, 0, 0, 0, 0, 0, 0, 0, 0
Max Values: 0.4975000023841858, 0.5, 0.49799999594688416, 0.5, 0.4975000023841858, 0.5, 0.5, 0.5, 0.5, 0.23466667532920837
Mean Values: 0.02749319934756924, 0.00421283649307838, 0.002772784872992848, 0.003412461966190184, 1.1752361102611122E-4, 0.00524747040454412, 0.008640686322792602, 0.013228306411015264, 0.002091844968859677, 1.9707287627745544E-5
Standard Deviation Values: 0.052270660234852204, 0.022598434319775988, 0.014677670105619064, 0.011653540584422844, 0.003318057202584745, 0.007926845816908893, 0.015788016834300176, 0.03059220739667656, 0.009175531328402613, 4.4342663876016284E-4
Object ID Field:
Fields:
None
Default Mosaic Method: Center
Allowed Mosaic Methods:
SortField:
SortValue: null
Mosaic Operator: First
Default Compression Quality: 75
Default Resampling Method: Nearest
Max Record Count: null
Max Image Height: 4100
Max Image Width: 15000
Max Download Image Count: null
Max Mosaic Image Count: null
Allow Raster Function: true
Allow Copy: false
Allow Analysis: true
Allow Compute TiePoints: false
Supports Statistics: false
Supports Advanced Queries: false
Use StandardizedQueries: true
Raster Type Infos:
Name: Raster Dataset
Description: Supports all ArcGIS Raster Datasets
Help:
Has Raster Attribute Table: false
Edit Fields Info: null
Ownership Based AccessControl For Rasters: null
Child Resources:
Info
Histograms
Statistics
Key Properties
Legend
Raster Function Infos
Supported Operations:
Export Image
Identify
Measure
Compute Histograms
Compute Statistics Histograms
Get Samples
Compute Class Statistics
Query Boundary
Compute Pixel Location
Compute Angles
Validate
Project