View In:
ArcGIS JavaScript
ArcGIS Online Map Viewer
ArcGIS Earth
Service Description: NASA_EMIT/mineral_abundance_m3_absolute_hpc135_weighted_fixed_crf
Name: NASA_EMIT/mineral_abundance_m3_absolute_hpc135_weighted_fixed_crf
Description:
Single Fused Map Cache: false
Extent:
XMin: -120.58868361042411
YMin: 9.489337602911263
XMax: 47.65083850211266
YMax: 43.35934040444507
Spatial Reference: 4326
(4326)
Initial Extent:
XMin: -120.58868361042411
YMin: 9.489337602911263
XMax: 47.65083850211266
YMax: 43.35934040444507
Spatial Reference: 4326
(4326)
Full Extent:
XMin: -120.58868361042411
YMin: 9.489337602911263
XMax: 47.65083850211266
YMax: 43.35934040444507
Spatial Reference: 4326
(4326)
Pixel Size X: 5.422323706700469E-4
Pixel Size Y: 5.422323706700469E-4
Band Count: 18
Pixel Type: F32
RasterFunction Infos: {"rasterFunctionInfos": [
{
"name": "None",
"description": "Make a Raster or Raster Dataset into a Function Raster Dataset.",
"help": ""
},
{
"name": "Chlorite_Abundance_m3_m4",
"description": "Chlorite_Abundance_m3_m4 extract band and stretch",
"help": ""
},
{
"name": "Dolomite_Abundance_m3_m4",
"description": "Dolomite_Abundance_m3_m4 extract band and stretch",
"help": ""
},
{
"name": "Goethite-Fine_Abundance_m3_m4",
"description": "Goethite-Fine_Abundance_m3_m4 extract band and stretch",
"help": ""
},
{
"name": "Goethite-Large_Abundance_m3_m4",
"description": "Goethite-Large_Abundance_m3_m4 extract band and stretch",
"help": ""
},
{
"name": "Goethite-Med_Abundance_m3_m4",
"description": "Goethite-Med_Abundance_m3_m4 extract band and stretch",
"help": ""
},
{
"name": "Goethite-Nano_Abundance_m3_m4",
"description": "Goethite-Nano_Abundance_m3_m4 extract band and stretch",
"help": ""
},
{
"name": "Gypsum-Coarse_Abundance_m3_m4",
"description": "Gypsum-Coarse_Abundance_m3_m4 extract band and stretch",
"help": ""
},
{
"name": "Gypsum-Fine_Abundance_m3_m4",
"description": "Gypsum-Fine_Abundance_m3_m4 extract band and stretch",
"help": ""
},
{
"name": "Hematite-Fine_Abundance_m3_m4",
"description": "Hematite-Fine_Abundance_m3_m4 extract band and stretch",
"help": ""
},
{
"name": "Hematite-Large_Abundance_m3_m4",
"description": "Hematite-Large_Abundance_m3_m4 extract band and stretch",
"help": ""
},
{
"name": "Hematite-Med_Abundance_m3_m4",
"description": "Hematite-Med_Abundance_m3_m4 extract band and stretch",
"help": ""
},
{
"name": "Hematite-Nano_Abundance_m3_m4",
"description": "Hematite-Nano_Abundance_m3_m4 extract band and stretch",
"help": ""
},
{
"name": "Illite+Muscovite_Abundance_m3_m4",
"description": "Illite+Muscovite_Abundance_m3_m4 extract band and stretch",
"help": ""
},
{
"name": "Kaolinite_Abundance_m3_m4",
"description": "Kaolinite_Abundance_m3_m4 extract band and stretch",
"help": ""
},
{
"name": "Montmorillonite_Abundance_m3_m4",
"description": "Montmorillonite_Abundance_m3_m4 extract band and stretch",
"help": ""
},
{
"name": "Quartz+Feldspar_Abundance_m3_m4",
"description": "Quartz+Feldspar_Abundance_m3_m4 extract band and stretch",
"help": ""
},
{
"name": "Vermiculite_Abundance_m3_m4",
"description": "Vermiculite_Abundance_m3_m4 extract band and stretch",
"help": ""
},
{
"name": "Calcite_Abundance_m3_m4",
"description": "Calcite_Abundance_m3_m4 extract band and stretch",
"help": ""
},
{
"name": "RGB_Montmorillonite_Illite+Muscovite_Calcite_Abundance_m3_m4",
"description": "RGB_Montmorillonite_Illite+Muscovite_Calcite_Abundance_m3_m4",
"help": ""
}
]}
Mensuration Capabilities: Basic
Inspection Capabilities:
Has Histograms: true
Has Colormap: false
Has Multi Dimensions : false
Rendering Rule:
Min Scale: 0
Max Scale: 0
Resampling: false
Copyright Text:
Service Data Type: esriImageServiceDataTypeGeneric
Min Values: 0, 0, 0, 0, 0, 0, 0, 0, 0, 0, 0, 0, 0, 0, 0, 0, 0, 0
Max Values: 366.67120361328125, 103.82829284667969, 384.2605895996094, 2.2335410118103027, 5.208857536315918, 7.366436958312988, 11.647359848022461, 52.30217742919922, 124.87409210205078, 3.2189626693725586, 6.498000621795654, 8.879500389099121, 14.5299711227417, 40.37906265258789, 26.806673049926758, 32.59693145751953, 54.967002868652344, 849.74169921875
Mean Values: 57.59138656417564, 3.1782695805763836, 6.387162534515616, 0.010365069344864381, 0.3950989265467772, 0.14974755607426699, 0.05234424718192641, 0.025776504216451262, 0.060873533739195004, 0.5329228813794636, 0.14418094077747864, 3.8677522168043135E-4, 0.001766140320676345, 6.3613743981241075, 2.113755683022515, 0.5533387376758282, 0.01385512805159797, 79.76776501240265
Standard Deviation Values: 66.2844606325591, 12.057355022869421, 29.49390763705376, 0.09023743641232859, 0.6860182124121945, 0.5946857096664975, 0.4761940200953022, 0.8190282740592539, 2.0092982620331417, 0.5933119370908915, 0.485411971381274, 0.029993836242282804, 0.08904317305650117, 6.183684432316496, 3.85424597622585, 2.108146139198801, 0.5170163408826907, 47.08647192198146
Object ID Field:
Fields:
None
Default Mosaic Method: Center
Allowed Mosaic Methods:
SortField:
SortValue: null
Mosaic Operator: First
Default Compression Quality: 75
Default Resampling Method: Nearest
Max Record Count: null
Max Image Height: 4100
Max Image Width: 15000
Max Download Image Count: null
Max Mosaic Image Count: null
Allow Raster Function: true
Allow Copy: false
Allow Analysis: true
Allow Compute TiePoints: false
Supports Statistics: false
Supports Advanced Queries: false
Use StandardizedQueries: true
Raster Type Infos:
Name: Raster Dataset
Description: Supports all ArcGIS Raster Datasets
Help:
Has Raster Attribute Table: false
Edit Fields Info: null
Ownership Based AccessControl For Rasters: null
Child Resources:
Info
Histograms
Statistics
Key Properties
Legend
Raster Function Infos
Supported Operations:
Export Image
Identify
Measure
Compute Histograms
Compute Statistics Histograms
Get Samples
Compute Class Statistics
Query Boundary
Compute Pixel Location
Compute Angles
Validate
Project