View In:
ArcGIS JavaScript
ArcGIS Online Map Viewer
ArcGIS Earth
Service Description: NASA_EMIT/mineral_abundance_m3_relative_hpc135_weighted_fixed_crf
Name: NASA_EMIT/mineral_abundance_m3_relative_hpc135_weighted_fixed_crf
Description:
Single Fused Map Cache: false
Extent:
XMin: -120.58868361042411
YMin: 9.489337602911263
XMax: 47.65083850211266
YMax: 43.35934040444507
Spatial Reference: 4326
(4326)
Initial Extent:
XMin: -120.58868361042411
YMin: 9.489337602911263
XMax: 47.65083850211266
YMax: 43.35934040444507
Spatial Reference: 4326
(4326)
Full Extent:
XMin: -120.58868361042411
YMin: 9.489337602911263
XMax: 47.65083850211266
YMax: 43.35934040444507
Spatial Reference: 4326
(4326)
Pixel Size X: 5.422323706700469E-4
Pixel Size Y: 5.422323706700469E-4
Band Count: 18
Pixel Type: F32
RasterFunction Infos: {"rasterFunctionInfos": [
{
"name": "None",
"description": "Make a Raster or Raster Dataset into a Function Raster Dataset.",
"help": ""
},
{
"name": "Calcite_Abundance_m3_m4",
"description": "Calcite_Abundance_m3_m4 extract band and stretch",
"help": ""
},
{
"name": "Chlorite_Abundance_m3_m4",
"description": "Chlorite_Abundance_m3_m4 extract band and stretch",
"help": ""
},
{
"name": "Dolomite_Abundance_m3_m4",
"description": "Dolomite_Abundance_m3_m4 extract band and stretch",
"help": ""
},
{
"name": "Goethite-Fine_Abundance_m3_m4",
"description": "Goethite-Fine_Abundance_m3_m4 extract band and stretch",
"help": ""
},
{
"name": "Goethite-Large_Abundance_m3_m4",
"description": "Goethite-Large_Abundance_m3_m4 extract band and stretch",
"help": ""
},
{
"name": "Goethite-Med_Abundance_m3_m4",
"description": "Goethite-Med_Abundance_m3_m4 extract band and stretch",
"help": ""
},
{
"name": "Goethite-Nano_Abundance_m3_m4",
"description": "Goethite-Nano_Abundance_m3_m4 extract band and stretch",
"help": ""
},
{
"name": "Gypsum-Coarse_Abundance_m3_m4",
"description": "Gypsum-Coarse_Abundance_m3_m4 extract band and stretch",
"help": ""
},
{
"name": "Gypsum-Fine_Abundance_m3_m4",
"description": "Gypsum-Fine_Abundance_m3_m4 extract band and stretch",
"help": ""
},
{
"name": "Hematite-Fine_Abundance_m3_m4",
"description": "Hematite-Fine_Abundance_m3_m4 extract band and stretch",
"help": ""
},
{
"name": "Hematite-Large_Abundance_m3_m4",
"description": "Hematite-Large_Abundance_m3_m4 extract band and stretch",
"help": ""
},
{
"name": "Hematite-Med_Abundance_m3_m4",
"description": "Hematite-Med_Abundance_m3_m4 extract band and stretch",
"help": ""
},
{
"name": "Hematite-Nano_Abundance_m3_m4",
"description": "Hematite-Nano_Abundance_m3_m4 extract band and stretch",
"help": ""
},
{
"name": "Illite+Muscovite_Abundance_m3_m4",
"description": "Illite+Muscovite_Abundance_m3_m4 extract band and stretch",
"help": ""
},
{
"name": "Kaolinite_Abundance_m3_m4",
"description": "Kaolinite_Abundance_m3_m4 extract band and stretch",
"help": ""
},
{
"name": "Montmorillonite_Abundance_m3_m4",
"description": "Montmorillonite_Abundance_m3_m4 extract band and stretch",
"help": ""
},
{
"name": "Quartz+Feldspar_Abundance_m3_m4",
"description": "Quartz+Feldspar_Abundance_m3_m4 extract band and stretch",
"help": ""
},
{
"name": "RGB_Montmorillonite_Illite+Muscovite_Calcite_Abundance_m3_m4",
"description": "RGB_Montmorillonite_Illite+Muscovite_Calcite_Abundance_m3_m4",
"help": ""
},
{
"name": "Vermiculite_Abundance_m3_m4",
"description": "Vermiculite_Abundance_m3_m4 extract band and stretch",
"help": ""
}
]}
Mensuration Capabilities: Basic
Inspection Capabilities:
Has Histograms: true
Has Colormap: false
Has Multi Dimensions : false
Rendering Rule:
Min Scale: 0
Max Scale: 0
Resampling: false
Copyright Text:
Service Data Type: esriImageServiceDataTypeGeneric
Min Values: 0, 0, 0, 0, 0, 0, 0, 0, 0, 0, 0, 0, 0, 0, 0, 0, 0, 0
Max Values: 1, 1, 1, 1, 1, 1, 1, 1, 1, 1, 1, 1, 1, 1, 1, 1, 1, 0.9985638856887817
Mean Values: 0.276177514273114, 0.029707389622654658, 0.020266343974945797, 8.150048155629463E-5, 0.0043890315714549925, 0.0014814833931217526, 6.490810140943668E-4, 2.592012016850126E-4, 6.392430400418162E-4, 0.004867946248523001, 0.002972228789353042, 4.5475867704416525E-5, 1.799117041419952E-4, 0.05102409557008567, 0.014427428644775916, 0.005663824133552293, 3.5240935106303637E-4, 0.5868158923478409
Standard Deviation Values: 0.296055584269852, 0.1162267211300628, 0.09197239851417173, 0.00188138670840363, 0.01519414794858324, 0.009240162569415069, 0.009821988551323393, 0.008848450690231026, 0.020439496012171626, 0.015289119409189676, 0.021949494586186228, 0.00425994400229872, 0.010612868852070799, 0.06149061597155747, 0.03099851394541305, 0.027685620323650104, 0.013555399806424702, 0.2722310857189484
Object ID Field:
Fields:
None
Default Mosaic Method: Center
Allowed Mosaic Methods:
SortField:
SortValue: null
Mosaic Operator: First
Default Compression Quality: 75
Default Resampling Method: Nearest
Max Record Count: null
Max Image Height: 4100
Max Image Width: 15000
Max Download Image Count: null
Max Mosaic Image Count: null
Allow Raster Function: true
Allow Copy: false
Allow Analysis: true
Allow Compute TiePoints: false
Supports Statistics: false
Supports Advanced Queries: false
Use StandardizedQueries: true
Raster Type Infos:
Name: Raster Dataset
Description: Supports all ArcGIS Raster Datasets
Help:
Has Raster Attribute Table: false
Edit Fields Info: null
Ownership Based AccessControl For Rasters: null
Child Resources:
Info
Histograms
Statistics
Key Properties
Legend
Raster Function Infos
Supported Operations:
Export Image
Identify
Measure
Compute Histograms
Compute Statistics Histograms
Get Samples
Compute Class Statistics
Query Boundary
Compute Pixel Location
Compute Angles
Validate
Project