View In:
ArcGIS JavaScript
ArcGIS Online Map Viewer
ArcGIS Earth
Service Description: NASA_EMIT/selected_g2_id_weighted_hpc135_weighted_fixed_crf
Name: NASA_EMIT/selected_g2_id_weighted_hpc135_weighted_fixed_crf
Description:
Single Fused Map Cache: false
Extent:
XMin: -179.9999999999998
YMin: -52.69820852449508
XMax: 179.99999999999906
YMax: 52.24327556550312
Spatial Reference: 4326
(4326)
Initial Extent:
XMin: -179.9999999999998
YMin: -52.69820852449508
XMax: 179.99999999999906
YMax: 52.24327556550312
Spatial Reference: 4326
(4326)
Full Extent:
XMin: -179.9999999999998
YMin: -52.69820852449508
XMax: 179.99999999999906
YMax: 52.24327556550312
Spatial Reference: 4326
(4326)
Pixel Size X: 5.422323706700469E-4
Pixel Size Y: 5.422323706700469E-4
Band Count: 1
Pixel Type: S16
RasterFunction Infos: {"rasterFunctionInfos": [{
"name": "None",
"description": "",
"help": ""
}]}
Mensuration Capabilities: Basic
Inspection Capabilities:
Has Histograms: true
Has Colormap: false
Has Multi Dimensions : false
Rendering Rule:
Min Scale: 0
Max Scale: 0
Resampling: false
Copyright Text:
Service Data Type: esriImageServiceDataTypeGeneric
Min Values: 0
Max Values: 294
Mean Values: 107.3916432527299
Standard Deviation Values: 87.40651243603986
Object ID Field:
Fields:
None
Default Mosaic Method: Center
Allowed Mosaic Methods:
SortField:
SortValue: null
Mosaic Operator: First
Default Compression Quality: 75
Default Resampling Method: Nearest
Max Record Count: null
Max Image Height: 4100
Max Image Width: 15000
Max Download Image Count: null
Max Mosaic Image Count: null
Allow Raster Function: true
Allow Copy: false
Allow Analysis: true
Allow Compute TiePoints: false
Supports Statistics: false
Supports Advanced Queries: false
Use StandardizedQueries: true
Raster Type Infos:
Name: Raster Dataset
Description: Supports all ArcGIS Raster Datasets
Help:
Has Raster Attribute Table: true
Edit Fields Info: null
Ownership Based AccessControl For Rasters: null
Child Resources:
Info
Raster Attribute Table
Histograms
Statistics
Key Properties
Legend
Raster Function Infos
Supported Operations:
Export Image
Identify
Measure
Compute Histograms
Compute Statistics Histograms
Get Samples
Compute Class Statistics
Query Boundary
Compute Pixel Location
Compute Angles
Validate
Project