View In:
ArcGIS JavaScript
ArcGIS Online Map Viewer
ArcGIS Earth
Service Description: ESA's Soil Moisture Ocean Salinity (SMOS) dataset is generated with the highest spatial resolution (25km x 25km) acquired from 2010 to 2016. Data values represent monthly average soil moisture in m3/m3. The scaling factor (3.05185094759971E-5) is applied to the original dataset. Data source: MIR_CLF3MA
Data is also provided in a time enabled mosaic dataset structure. Temporal statistics (standard deviation, minimum, maximum, and mean) are also calculated for the given period.
Name: Nubian/SMOSmonthly_Nubian
Description: ESA's Soil Moisture Ocean Salinity (SMOS) dataset is generated with the highest spatial resolution (25km x 25km) acquired from 2010 to 2016. Data values represent monthly average soil moisture in m3/m3. The scaling factor (3.05185094759971E-5) is applied to the original dataset. Data source: MIR_CLF3MA
Data is also provided in a time enabled mosaic dataset structure. Temporal statistics (standard deviation, minimum, maximum, and mean) are also calculated for the given period.
Single Fused Map Cache: false
Extent:
XMin: 41
YMin: -10600583
XMax: 10600655
YMax: 31
Spatial Reference: 4326
(4326)
Initial Extent:
XMin: 41
YMin: -10600583
XMax: 10600655
YMax: 31
Spatial Reference: 4326
(4326)
Full Extent:
XMin: 41
YMin: -10600583
XMax: 10600655
YMax: 31
Spatial Reference: 4326
(4326)
Pixel Size X: 1.0600614E7
Pixel Size Y: 1.0600614E7
Band Count: 1
Pixel Type: U8
RasterFunction Infos: {"rasterFunctionInfos": [{
"name": "None",
"description": "",
"help": ""
}]}
Mensuration Capabilities:
Inspection Capabilities:
Has Histograms: false
Has Colormap: false
Has Multi Dimensions : false
Rendering Rule:
Min Scale: 0
Max Scale: 0
Copyright Text: ESA, ESRS
Service Data Type: esriImageServiceDataTypeGeneric
Min Values: N/A
Max Values: N/A
Mean Values: N/A
Standard Deviation Values: N/A
Object ID Field: OBJECTID
Fields:
-
OBJECTID
(
type: esriFieldTypeOID, alias: OBJECTID
)
-
Shape
(
type: esriFieldTypeGeometry, alias: Shape
)
-
Name
(
type: esriFieldTypeString, alias: Name, length: 200
)
-
MinPS
(
type: esriFieldTypeDouble, alias: MinPS
)
-
MaxPS
(
type: esriFieldTypeDouble, alias: MaxPS
)
-
LowPS
(
type: esriFieldTypeDouble, alias: LowPS
)
-
HighPS
(
type: esriFieldTypeDouble, alias: HighPS
)
-
Category
(
type: esriFieldTypeInteger, alias: Category
, Coded Values:
[0: Unknown]
, [1: Primary]
, [2: Overview]
, ...6 more...
)
-
Tag
(
type: esriFieldTypeString, alias: Tag, length: 100
)
-
GroupName
(
type: esriFieldTypeString, alias: GroupName, length: 100
)
-
ProductName
(
type: esriFieldTypeString, alias: ProductName, length: 100
)
-
CenterX
(
type: esriFieldTypeDouble, alias: CenterX
)
-
CenterY
(
type: esriFieldTypeDouble, alias: CenterY
)
-
ZOrder
(
type: esriFieldTypeInteger, alias: ZOrder
)
-
Shape_Length
(
type: esriFieldTypeDouble, alias: Shape_Length
)
-
Shape_Area
(
type: esriFieldTypeDouble, alias: Shape_Area
)
Default Mosaic Method: Northwest
Allowed Mosaic Methods: NorthWest,Center,LockRaster,ByAttribute,Nadir,Viewpoint,Seamline,None
SortField:
SortValue: null
Mosaic Operator: First
Default Compression Quality: 75
Default Resampling Method: Nearest
Max Record Count: 1000
Max Image Height: 4100
Max Image Width: 15000
Max Download Image Count: 20
Max Mosaic Image Count: 20
Allow Raster Function: true
Allow Copy: true
Allow Analysis: true
Allow Compute TiePoints: false
Supports Statistics: true
Supports Advanced Queries: true
Use StandardizedQueries: true
Raster Type Infos:
Name: Raster Dataset
Description: Supports all ArcGIS Raster Datasets
Help:
Has Raster Attribute Table: false
Edit Fields Info: null
Ownership Based AccessControl For Rasters: null
Child Resources:
Info
Statistics
Key Properties
Legend
Raster Function Infos
Supported Operations:
Export Image
Query
Identify
Measure
Compute Histograms
Compute Statistics Histograms
Get Samples
Compute Class Statistics
Query GPS Info
Find Images
Image to Map
Map to Image
Measure from Image
Image to Map Multiray
Query Boundary
Compute Pixel Location
Compute Angles
Validate
Project