View In:
ArcGIS JavaScript
ArcGIS Online Map Viewer
ArcGIS Earth
Service Description: Saudi_Dune_Sabkha/Landsat_4_5_TM_1984_2002_IS
Name: Saudi_Dune_Sabkha/Landsat_4_5_TM_1984_2002_IS
Description:
Single Fused Map Cache: false
Extent:
XMin: 4218951.093199998
YMin: 2012960.2769999988
XMax: 5586261.093199998
YMax: 3301220.276999999
Spatial Reference: 102100
(3857)
Initial Extent:
XMin: 4218951.093199998
YMin: 2012960.2769999988
XMax: 5586261.093199998
YMax: 3301220.276999999
Spatial Reference: 102100
(3857)
Full Extent:
XMin: 4218951.093199998
YMin: 2012960.2769999988
XMax: 5586261.093199998
YMax: 3301220.276999999
Spatial Reference: 102100
(3857)
Time Info:
Start Time Field: StartTime
End Time Field: EndTime
Time Extent:
[1984/04/25 06:38:27 UTC, 2002/08/04 07:18:24 UTC]
Time Reference:
N/A
Pixel Size X: 30.0
Pixel Size Y: 30.0
Band Count: 6
Pixel Type: U16
RasterFunction Infos: {"rasterFunctionInfos": [{
"name": "None",
"description": "",
"help": ""
}]}
Mensuration Capabilities: Basic,Base-Top Shadow Height
Inspection Capabilities:
Has Histograms: true
Has Colormap: false
Has Multi Dimensions : false
Rendering Rule:
Min Scale: 0
Max Scale: 0
Copyright Text:
Service Data Type: esriImageServiceDataTypeGeneric
Min Values: 5660.171875, 12810.3984375, 14348.595703125, 14883.94921875, 14602.671875, 12921.140625
Max Values: 65417.828125, 28313.6015625, 30972.404296875, 33728.05078125, 65435.328125, 37472.859375
Mean Values: 14018.194496317958, 18424.078246332185, 22738.051060659676, 25610.08558122221, 56534.77725617192, 28283.523238791113
Standard Deviation Values: 1138.0919132003833, 1122.6746431609115, 1491.8301925242915, 1873.5314580556103, 15792.779719194348, 1857.53989417801
Object ID Field: OBJECTID
Fields:
-
OBJECTID
(
type: esriFieldTypeOID, alias: OBJECTID
)
-
Shape
(
type: esriFieldTypeGeometry, alias: Shape
)
-
Name
(
type: esriFieldTypeString, alias: Name, length: 200
)
-
MinPS
(
type: esriFieldTypeDouble, alias: MinPS
)
-
MaxPS
(
type: esriFieldTypeDouble, alias: MaxPS
)
-
LowPS
(
type: esriFieldTypeDouble, alias: LowPS
)
-
HighPS
(
type: esriFieldTypeDouble, alias: HighPS
)
-
Category
(
type: esriFieldTypeInteger, alias: Category
, Coded Values:
[0: Unknown]
, [1: Primary]
, [2: Overview]
, ...6 more...
)
-
Tag
(
type: esriFieldTypeString, alias: Tag, length: 100
)
-
GroupName
(
type: esriFieldTypeString, alias: GroupName, length: 100
)
-
ProductName
(
type: esriFieldTypeString, alias: ProductName, length: 100
)
-
CenterX
(
type: esriFieldTypeDouble, alias: CenterX
)
-
CenterY
(
type: esriFieldTypeDouble, alias: CenterY
)
-
ZOrder
(
type: esriFieldTypeInteger, alias: ZOrder
)
-
StartTime
(
type: esriFieldTypeDate, alias: StartTime, length: 8
)
-
EndTime
(
type: esriFieldTypeDate, alias: EndTime, length: 8
)
-
SensorName
(
type: esriFieldTypeString, alias: Sensor Name, length: 20
)
-
AcquisitionDate
(
type: esriFieldTypeDate, alias: Acquisition Date, length: 8
)
-
SunAzimuth
(
type: esriFieldTypeDouble, alias: Sun Azimuth
)
-
SunElevation
(
type: esriFieldTypeDouble, alias: Sun Elevation
)
-
CloudCover
(
type: esriFieldTypeDouble, alias: Cloud Cover
)
-
OffNadir
(
type: esriFieldTypeDouble, alias: OffNadir
)
-
WRS_PATH
(
type: esriFieldTypeInteger, alias: WRS_PATH
)
-
WRS_ROW
(
type: esriFieldTypeInteger, alias: WRS_ROW
)
-
Shape_Length
(
type: esriFieldTypeDouble, alias: Shape_Length
)
-
Shape_Area
(
type: esriFieldTypeDouble, alias: Shape_Area
)
Default Mosaic Method: Northwest
Allowed Mosaic Methods: NorthWest,Center,LockRaster,ByAttribute,Nadir,Viewpoint,Seamline,None
SortField:
SortValue: null
Mosaic Operator: First
Default Compression Quality: 75
Default Resampling Method: Nearest
Max Record Count: 1000
Max Image Height: 4100
Max Image Width: 15000
Max Download Image Count: 20
Max Mosaic Image Count: 20
Allow Raster Function: true
Allow Copy: true
Allow Analysis: true
Allow Compute TiePoints: false
Supports Statistics: true
Supports Advanced Queries: true
Use StandardizedQueries: true
Raster Type Infos:
Name: Raster Dataset
Description: Supports all ArcGIS Raster Datasets
Help:
Has Raster Attribute Table: false
Edit Fields Info: null
Ownership Based AccessControl For Rasters: null
Child Resources:
Info
Histograms
Statistics
Key Properties
Legend
Raster Function Infos
Supported Operations:
Export Image
Query
Identify
Measure
Compute Histograms
Compute Statistics Histograms
Get Samples
Compute Class Statistics
Query GPS Info
Find Images
Image to Map
Map to Image
Measure from Image
Image to Map Multiray
Query Boundary
Compute Pixel Location
Compute Angles
Validate
Project