View In:
ArcGIS JavaScript
ArcGIS Online Map Viewer
ArcGIS Earth
Service Description: A 30m resolution annual Landsat 7 ETM+ mosaic dataset (2003–2012), generated from surface reflectance products. Includes multispectral bands, vegetation and water indices (NDVI, NDWI), and false-color composites.
Name: Saudi_Dune_Sabkha/Landsat_7_GEE_Mosaic_Combined__
Description: A 30m resolution annual Landsat 7 ETM+ mosaic dataset (2003–2012), generated from surface reflectance products. Includes multispectral bands, vegetation and water indices (NDVI, NDWI), and false-color composites.
Single Fused Map Cache: false
Extent:
XMin: 4212810
YMin: 2134524.8394000037
XMax: 5577089.999999998
YMax: 3367044.839400002
Spatial Reference: 102100
(3857)
Initial Extent:
XMin: 4212810
YMin: 2134524.8394000037
XMax: 5577089.999999998
YMax: 3367044.839400002
Spatial Reference: 102100
(3857)
Full Extent:
XMin: 4212810
YMin: 2134524.8394000037
XMax: 5577089.999999998
YMax: 3367044.839400002
Spatial Reference: 102100
(3857)
Time Info:
Start Time Field: StartTime
End Time Field: EndTime
Time Extent:
[2003/01/01 00:00:00 UTC, 2012/12/31 00:00:00 UTC]
Time Reference:
N/A
Pixel Size X: 29.999999999999957
Pixel Size Y: 29.999999999999954
Band Count: 6
Pixel Type: F64
RasterFunction Infos: {"rasterFunctionInfos": [{
"name": "None",
"description": "",
"help": ""
}]}
Mensuration Capabilities: Basic
Inspection Capabilities:
Has Histograms: true
Has Colormap: false
Has Multi Dimensions : false
Rendering Rule:
Min Scale: 0
Max Scale: 0
Copyright Text:
Service Data Type: esriImageServiceDataTypeGeneric
Min Values: 8509.876953125, 8697.7880859375, 8873.3837890625, 8821.984375, 8713.197265625, 8231.140625
Max Values: 19667.123046875, 26694.7119140625, 65424.1162109375, 65424.015625, 65423.802734375, 65422.859375
Mean Values: 12452.522906195849, 16263.808783632005, 20899.867476697873, 22828.050901045775, 27632.23863071622, 25554.227195098865
Standard Deviation Values: 1145.3824983494821, 2138.4513298819584, 3340.5355538411573, 3853.3410846511956, 4327.415165626213, 4140.828807895426
Object ID Field: OBJECTID
Fields:
-
OBJECTID
(
type: esriFieldTypeOID, alias: OBJECTID
)
-
Shape
(
type: esriFieldTypeGeometry, alias: Shape
)
-
Name
(
type: esriFieldTypeString, alias: Name, length: 200
)
-
MinPS
(
type: esriFieldTypeDouble, alias: MinPS
)
-
MaxPS
(
type: esriFieldTypeDouble, alias: MaxPS
)
-
LowPS
(
type: esriFieldTypeDouble, alias: LowPS
)
-
HighPS
(
type: esriFieldTypeDouble, alias: HighPS
)
-
Category
(
type: esriFieldTypeInteger, alias: Category
, Coded Values:
[0: Unknown]
, [1: Primary]
, [2: Overview]
, ...6 more...
)
-
Tag
(
type: esriFieldTypeString, alias: Tag, length: 100
)
-
GroupName
(
type: esriFieldTypeString, alias: GroupName, length: 100
)
-
ProductName
(
type: esriFieldTypeString, alias: ProductName, length: 100
)
-
CenterX
(
type: esriFieldTypeDouble, alias: CenterX
)
-
CenterY
(
type: esriFieldTypeDouble, alias: CenterY
)
-
ZOrder
(
type: esriFieldTypeInteger, alias: ZOrder
)
-
StartTime
(
type: esriFieldTypeDate, alias: StartTime, length: 8
)
-
EndTime
(
type: esriFieldTypeDate, alias: EndTime, length: 8
)
-
AcquisitionDate
(
type: esriFieldTypeDate, alias: AcquisitionDate, length: 8
)
-
Shape_Length
(
type: esriFieldTypeDouble, alias: Shape_Length
)
-
Shape_Area
(
type: esriFieldTypeDouble, alias: Shape_Area
)
Default Mosaic Method: Northwest
Allowed Mosaic Methods: NorthWest,Center,LockRaster,ByAttribute,Nadir,Viewpoint,Seamline,None
SortField:
SortValue: null
Mosaic Operator: First
Default Compression Quality: 75
Default Resampling Method: Nearest
Max Record Count: 1000
Max Image Height: 4100
Max Image Width: 15000
Max Download Image Count: 20
Max Mosaic Image Count: 30
Allow Raster Function: true
Allow Copy: true
Allow Analysis: true
Allow Compute TiePoints: false
Supports Statistics: true
Supports Advanced Queries: true
Use StandardizedQueries: true
Raster Type Infos:
Name: Raster Dataset
Description: Supports all ArcGIS Raster Datasets
Help:
Has Raster Attribute Table: false
Edit Fields Info: null
Ownership Based AccessControl For Rasters: null
Child Resources:
Info
Histograms
Statistics
Key Properties
Legend
Raster Function Infos
Supported Operations:
Export Image
Query
Identify
Measure
Compute Histograms
Compute Statistics Histograms
Get Samples
Compute Class Statistics
Query GPS Info
Find Images
Image to Map
Map to Image
Measure from Image
Image to Map Multiray
Query Boundary
Compute Pixel Location
Compute Angles
Validate
Project