View In:
ArcGIS JavaScript
ArcGIS Online Map Viewer
ArcGIS Earth
Service Description: Saudi_Dune_Sabkha/Sentinel_2A_Mosaic_Combined
Name: Saudi_Dune_Sabkha/Sentinel_2A_Mosaic_Combined
Description:
Single Fused Map Cache: false
Extent:
XMin: 4285190
YMin: 2073403.7011000386
XMax: 5412799.999999962
YMax: 3247483.7010999992
Spatial Reference: 102100
(3857)
Initial Extent:
XMin: 4285190
YMin: 2073403.7011000386
XMax: 5412799.999999962
YMax: 3247483.7010999992
Spatial Reference: 102100
(3857)
Full Extent:
XMin: 4285190
YMin: 2073403.7011000386
XMax: 5412799.999999962
YMax: 3247483.7010999992
Spatial Reference: 102100
(3857)
Time Info:
Start Time Field: StartTime
End Time Field: EndTime
Time Extent:
[2017/01/01 00:00:00 UTC, 2023/12/31 00:00:00 UTC]
Time Reference:
N/A
Pixel Size X: 9.99999999999966
Pixel Size Y: 9.999999999999664
Band Count: 7
Pixel Type: F64
RasterFunction Infos: {"rasterFunctionInfos": [{
"name": "None",
"description": "",
"help": ""
}]}
Mensuration Capabilities: Basic
Inspection Capabilities:
Has Histograms: true
Has Colormap: false
Has Multi Dimensions : false
Rendering Rule:
Min Scale: 0
Max Scale: 0
Copyright Text:
Service Data Type: esriImageServiceDataTypeGeneric
Min Values: 0.00854492185953859, 0.009761425933902501, 0.03837636707612546, 0.017620019583773683, 0.04630634647037368, 0.028243164775631158, 0.024024706515774596
Max Values: 1.4594550212068498, 1.0865886301853607, 1.097323676214728, 1.1753300065483927, 1.2480435996112647, 1.2232568401268509, 1.1841253487436916
Mean Values: 0.12701811917082673, 0.1756580708606653, 0.2871156370117476, 0.442294097757428, 0.5181543244865731, 0.6515966481381444, 0.6109222029167873
Standard Deviation Values: 0.040171423522670044, 0.041355325026555916, 0.048424827030602864, 0.05859147040374864, 0.06844633885012207, 0.061259358622501925, 0.07272686679409325
Object ID Field: OBJECTID
Fields:
-
OBJECTID
(
type: esriFieldTypeOID, alias: OBJECTID
)
-
Shape
(
type: esriFieldTypeGeometry, alias: Shape
)
-
Name
(
type: esriFieldTypeString, alias: Name, length: 200
)
-
MinPS
(
type: esriFieldTypeDouble, alias: MinPS
)
-
MaxPS
(
type: esriFieldTypeDouble, alias: MaxPS
)
-
LowPS
(
type: esriFieldTypeDouble, alias: LowPS
)
-
HighPS
(
type: esriFieldTypeDouble, alias: HighPS
)
-
Category
(
type: esriFieldTypeInteger, alias: Category
, Coded Values:
[0: Unknown]
, [1: Primary]
, [2: Overview]
, ...6 more...
)
-
Tag
(
type: esriFieldTypeString, alias: Tag, length: 100
)
-
GroupName
(
type: esriFieldTypeString, alias: GroupName, length: 100
)
-
ProductName
(
type: esriFieldTypeString, alias: ProductName, length: 100
)
-
CenterX
(
type: esriFieldTypeDouble, alias: CenterX
)
-
CenterY
(
type: esriFieldTypeDouble, alias: CenterY
)
-
ZOrder
(
type: esriFieldTypeInteger, alias: ZOrder
)
-
StartTime
(
type: esriFieldTypeDate, alias: StartTime, length: 8
)
-
EndTime
(
type: esriFieldTypeDate, alias: EndTime, length: 8
)
-
AcquisitionDate
(
type: esriFieldTypeDate, alias: AcquisitionDate, length: 8
)
-
Shape_Length
(
type: esriFieldTypeDouble, alias: Shape_Length
)
-
Shape_Area
(
type: esriFieldTypeDouble, alias: Shape_Area
)
Default Mosaic Method: Northwest
Allowed Mosaic Methods: NorthWest,Center,LockRaster,ByAttribute,Nadir,Viewpoint,Seamline,None
SortField:
SortValue: null
Mosaic Operator: First
Default Compression Quality: 75
Default Resampling Method: Nearest
Max Record Count: 1000
Max Image Height: 4100
Max Image Width: 15000
Max Download Image Count: 200
Max Mosaic Image Count: 200
Allow Raster Function: true
Allow Copy: true
Allow Analysis: true
Allow Compute TiePoints: false
Supports Statistics: true
Supports Advanced Queries: true
Use StandardizedQueries: true
Raster Type Infos:
Name: Raster Dataset
Description: Supports all ArcGIS Raster Datasets
Help:
Has Raster Attribute Table: false
Edit Fields Info: null
Ownership Based AccessControl For Rasters: null
Child Resources:
Info
Histograms
Statistics
Key Properties
Legend
Raster Function Infos
Supported Operations:
Export Image
Query
Identify
Measure
Compute Histograms
Compute Statistics Histograms
Get Samples
Compute Class Statistics
Query GPS Info
Find Images
Image to Map
Map to Image
Measure from Image
Image to Map Multiray
Query Boundary
Compute Pixel Location
Compute Angles
Validate
Project