View In:
ArcGIS JavaScript
ArcGIS Online Map Viewer
ArcGIS Earth
Service Description: Tanager/surface_reflectance_md
Name: Tanager/surface_reflectance_md
Description:
Single Fused Map Cache: false
Extent:
XMin: -117.37488108599996
YMin: 0.4262140638907326
XMax: 117.73515951419878
YMax: 49.34675763800004
Spatial Reference: 4326
(4326)
Initial Extent:
XMin: -117.37488108599996
YMin: 0.4262140638907326
XMax: 117.73515951419878
YMax: 49.34675763800004
Spatial Reference: 4326
(4326)
Full Extent:
XMin: -117.37488108599996
YMin: 0.4262140638907326
XMax: 117.73515951419878
YMax: 49.34675763800004
Spatial Reference: 4326
(4326)
Pixel Size X: 2.694945852358564E-4
Pixel Size Y: 2.694945852358564E-4
Band Count: 426
Pixel Type: F32
RasterFunction Infos: {"rasterFunctionInfos": [{
"name": "None",
"description": "Make a Raster or Raster Dataset into a Function Raster Dataset.",
"help": ""
}]}
Mensuration Capabilities: Basic
Inspection Capabilities:
Has Histograms: true
Has Colormap: false
Has Multi Dimensions : false
Rendering Rule:
Min Scale: 0
Max Scale: 0
Resampling: false
Copyright Text:
Service Data Type: esriImageServiceDataTypeGeneric
Min Values: -1.8902245550416408, -0.18699035164900127, -0.33919464447535574, -0.13231388659914953, -0.19461032905383038, -0.10540327201306358, -0.07073014402703848, -0.03203413011215161, -0.028863755822385425, -0.08499943828792311, -0.026445796349435113, -0.023946032168169044, -0.05183439463144168, -0.03374111601442564, -0.09575185646826867, -0.02257434749117238, -0.02253526803178829, -0.022426258718041932, -0.022712819652952018, -0.03721409941499587, -0.023487880436732663, -0.04780675730580697, -0.02697081505903043, -0.04363594018650474, -0.024789957285975103, -0.024006186638871437, -0.03238278762000845, -0.030126826488412917, -0.018901200921391137, -0.01732604847347829, -0.01635919833279331, -0.016065863685071232, -0.01456129466168932, -0.015168996513239105, -0.01381435812618292, -0.013394002415225259, -0.018076582513458565, -0.012555607519971094, -0.012741188420477554, -0.013454513935357678, -0.012925921279020256, -0.014118306291493358, -0.013765935083938528, -0.013292884013935696, -0.013754965528278262, -0.013139712780684931, -0.01329723892558832, -0.012703610269454654, -0.013118617483996783, -0.011935633954635705, -0.012952511397088532, -0.012525525780802124, -0.012198895903566154, -0.012184708590211814, -0.01219939094517031, -0.012412251251589625, -0.012144145724960255, -0.013432834668492433, -0.013316697160917105, -0.012615964897122465, -0.011933848265471173, -0.01326640390107059, -0.00960697564369184, -0.009282518147301747, -0.007666244451684179, -0.005485348968250037, -0.004343071688708733, -0.0039800068761906005, -0.0036280396234360524, -0.0031473850231122924, -0.004238839355821256, -0.0037416375898828846, -0.0031953366442394326, -0.0025129061887128054, -0.002654175556926929, -0.0028093388846173193, -9.649881781115259E-4, -4.6379738887480926E-4, -0.0011577621971810004, -0.0012258072683835053, -0.0022366764051184877, -0.0011721688779289252, -4.0019895777731584E-5, -8.016381875677325E-4, -3.383260445843873E-5, -9.930556279869052E-4, -4.984630709259359E-4, -1.4507016567222352E-4, -4.5696814504481197E-4, -0.0012301858669161443, -0.0028554948776218225, -0.003136701755465765, -0.003359169945724716, -0.0028430553575162776, -0.0027940603640672634, -0.0033692398810671875, -0.002183578682888764, -0.002632850506415707, -0.0024653160271554952, -0.0025898367357513052, -0.0026842615261557503, -0.0030243921664805384, -0.0029373619709076593, -0.0035960731584054884, -0.0038099589546618526, -0.004016317638161126, -0.004157696470429073, -0.004619309484041878, -0.004797392260115886, -0.004940524250741873, -0.006995018367888406, -0.009347362532935218, -0.057160091564583126, -0.014880858700053064, -0.021407300926512104, -0.017462328072724628, -0.011927333482162798, -0.008745554650886334, -0.007002992380876094, -0.00604655931419984, -0.005412790475929796, -0.005002345687898923, -0.004136302971346595, -0.003618007009208668, -0.003315878874673217, -0.002935858598902996, -0.0029352046640269682, -0.002508751487766858, -0.0023324092480834233, -0.0021095879919812432, -0.0019103882586932737, -0.0018995538016497444, -0.001520611661362636, -0.0016333753560502369, -0.0017182301498905868, -0.0017503231329101254, -0.0017664210326984175, -0.0019594028108258494, -0.001952385629920173, -0.001888306835553521, -0.002054936793683737, -0.0023606378217664314, -0.002558242236773366, -0.002729041162638169, -0.002654763575264951, -0.002782811363431392, -0.0037922290948699798, -0.0042414077252033175, -0.027262893170700412, -0.08983367065957282, -0.047267485308111645, -0.03545108611433533, -0.02063736331183463, -0.020045467379532052, -0.03483384628634667, -0.035734577671973966, -0.007463156634912593, -0.004744147886412973, -0.004228607468576229, -0.0035684234844666207, -0.002846097006113268, -0.0028554668315337044, -0.002774820011836709, -0.0016429876186521155, -0.0015009600365374354, -8.64534431912034E-4, -9.007938297145293E-4, -3.556770543582384E-4, -7.482130777134457E-4, -8.047470055316894E-5, 7.711736998315764E-6, 2.2277098059930722E-4, 4.9892151309904875E-5, 5.008963169075289E-4, 7.007068279563013E-5, 3.567049263892832E-4, -0.004739506404803251, 8.405302232858947E-4, 0.0015986095029347789, 5.332612572601638E-4, -0.0012326623873377685, -0.002071586298370675, -0.0022031805574442855, -0.0020233626255503623, -0.0017539345299155671, -0.002094850545290682, -0.0019801008420472495, -0.0018150316000173916, -0.0038362685436368347, -0.00955825499659113, -0.006830789234300028, -0.016098275209515123, -0.017836808099673366, -0.03185001755628037, -0.05586385357310064, -0.023534874642791692, -0.1375611621770076, -0.5060937497764826, -0.5060937497764826, -0.5060937497764826, -0.5060937497764826, -0.5060937497764826, -0.5060937497764826, -0.5060937497764826, -0.5060937497764826, -0.5060937497764826, -0.5060937497764826, -121.18962515890597, -63.28550577908754, -78.32194782793522, -12.277960127219558, -3.9222939661704004, -10.557604380883273, -1.5694592462386938, -1.3482009656727312, -0.37784571520751337, -0.10971895822149239, -0.08026361990778241, -0.6144736809656024, -0.07998039343510754, -0.1863234889460728, -0.08564747670607176, -0.01963369418081129, -0.010086603182571709, -0.007066888330882648, -0.005824445534017286, -0.004788798178196885, -0.004682175766902219, -0.003940284172131214, -0.003623330580012407, -0.003226067390642129, -0.003315854404718266, -0.0028417065950634432, -0.0024030633830989237, -0.002644990900080302, -0.002319613057807146, -0.0025699058123791474, -0.0021227116262707573, -0.0018875162922995514, -0.004244423053023638, -0.0017589227177268185, -0.0020731161012008674, -0.0017735416499817798, -0.0019351682235537741, -0.001861673162238731, -0.0018424840404804854, -0.001959851269475621, -0.001695178917998419, -0.0018487349489078042, -0.0015114559096218731, -0.0013000760213799367, -0.0029467676395142917, -0.001327399749243341, -0.0017002780632537906, -0.0013769224847237638, -0.0016795241381259984, -0.0015858991359891665, -0.001624286642709194, -0.001428381024197734, -0.0014873875456942183, -0.001663007396018656, -0.0014367925609803933, -0.0015052582461976276, -0.001675180447819002, -0.001101205653412762, -0.0017541789184178929, -0.0014433207206820948, -0.001369451245409436, -0.001605191052021837, -0.00238645152967365, -0.0018090324088007037, -0.004174910450274183, -0.001951151827142894, -0.0021222832465355177, -0.0022291314653557492, -0.0025266846951126362, -0.0027826227678815485, -0.0028250390005268855, -0.0025028108793776487, -0.003539968764016522, -0.005867238698556321, -0.006079586188207032, -0.01147009352098393, -0.02117039946824661, -0.11874473193893215, -0.5060937497764826, -0.5060937497764826, -0.5060937497764826, -0.5060937497764826, -0.5060937497764826, -0.5060937497764826, -0.5060937497764826, -0.5060937497764826, -0.5060937497764826, -0.5060937497764826, -0.5060937497764826, -0.5060937497764826, -0.5060937497764826, -0.5060937497764826, -0.5060937497764826, -0.5060937497764826, -0.5060937497764826, -0.5060937497764826, -0.5060937497764826, -0.5060937497764826, -0.5060937497764826, -0.5060937497764826, -0.5060937497764826, -0.5060937497764826, -0.5060937497764826, -0.5060937497764826, -0.5060937497764826, -0.5060937497764826, -0.5060937497764826, -0.5060937497764826, -0.5060937497764826, -0.5060937497764826, -0.5060937497764826, -0.5060937497764826, -0.018008994629781228, -0.010444500834637441, -0.008533427038855734, -0.006741389755916316, -0.006637682405198575, -0.009512646714938454, -0.24665906906011517, -0.09491561190225184, -0.06876130611635745, -0.08789626037469134, -0.01911998682044214, -0.006176288180540723, -0.004862106207838224, -0.004517723162280163, -0.00417649688279198, -0.003943011252886208, -0.0042849848878177, -0.004270848350643064, -0.010722110961069124, -0.004118008992008981, -0.004579514414217555, -0.003955801138545211, -0.0035528036369214533, -0.003392704579709971, -0.0029342092657316243, -0.00295782070770656, -0.0034294671277166344, -0.0031035756792334723, -0.002654166053616791, -0.0025800009916565614, -0.0031505118295171997, -0.0030870335303916363, -0.003356385873303225, -0.0022098208874012926, -0.0028531125935842283, -0.0025068593658943436, -0.0021961392267257906, -0.002941263865068322, -0.00213968066873349, -0.002028502316534287, -0.002572613315351191, -0.001690860356575286, -0.0024203596676670713, -0.002166428594591707, -0.0021932419658696745, -0.002214665109022463, -0.0023220468965519095, -0.0020169545782664504, -0.0020481931533140596, -0.002183189360948745, -0.0021981784184390563, -0.002110795769112883, -0.0026094130425917683, -0.0025076175570575288, -0.0018449388421686312, -0.004937363716635446, -0.002752472737483913, -0.0024439411972707603, -0.0023415959476551507, -0.0021352535777623416, -0.002321507891792862, -0.00304515423886187, -0.0026061789249069997, -0.0030604322737417533, -0.002505819981706736, -0.0035677855694302707, -0.003323749977425905, -0.003426963815400086, -0.003840800800389843, -0.0024729621109145228, -0.003587331701965013, -0.004225450225021632, -0.0031270555909941322, -0.003577055485038727, -0.004062015495037485, -0.004535979370302812, -0.028903688878926914, -0.016331715090927897, -0.0045668508910239325, -0.005121391148350085, -0.04601055652892683, -0.00817554375316831, -0.0454890934706782, -0.0851978563296143, -0.05223784773261286, -0.03372276556183351, -0.030869113958033267, -0.07274660855182447, -0.08812696915993005, -0.13867406651843342, -0.18471263995161277, -0.1422157909837551, -0.10460416761634408, -0.2344759669504129, -0.1778817609883845, -0.2496662459452637, -0.5059404514031485, -0.796994244097732, -0.3507452964549884, -0.4472981833387166, -2.310599549207837, -1.61208980018273, -3.338431002106517, -1.801160853356123, -2.7352537391707297, -3.3664805283769965, -5.551440822426231
Max Values: 3.184672215487807, 1.183929262522725, 1.3484067807439712, 1.500901947219972, 2.5551949159125797, 1.8546827290701915, 1.9227617879005265, 1.980456572593539, 2.057896022128262, 2.09940239732532, 2.1599960330531753, 2.1636628205342276, 2.2254796227789484, 2.213646099502512, 2.195072935941425, 2.219486363163014, 2.2308879625052214, 2.2312275704680355, 2.2622217193529655, 2.2836693947610907, 2.311780994717992, 2.2973127365366968, 2.3158853004388225, 2.310614017394982, 2.2386549364418893, 2.2477094095920624, 2.1915653536088944, 2.137137325755248, 2.157152078088984, 2.146875397987969, 2.065857145449627, 1.9941686526108242, 1.9315766916461143, 1.8932025461108422, 1.8439891625621385, 1.7929399705444662, 1.7751874308214606, 1.793064207171483, 1.7562080430388958, 1.736993462351165, 1.7139021214388779, 1.6719248210329174, 1.6352185684572758, 1.6624156299894826, 1.6195271702963512, 1.5632033237952785, 1.5243759971272084, 1.5327383052635928, 1.5281682150252895, 1.4885587806320473, 1.4890739716829557, 1.4981569286601366, 1.4988048577997692, 1.4849674522756688, 1.5204222118627515, 1.533184295850333, 1.5418020516144675, 1.4812590646597525, 1.4589399232618236, 1.4752078379333393, 1.5049816105320135, 1.5401258327610776, 1.6088383285750747, 1.5981100387552938, 1.5452786279488466, 1.4840685773801847, 1.4492327237521754, 1.4383335500870085, 1.435027123114196, 1.4167024758771734, 1.4029529749550422, 1.3737722698297143, 1.3522744039873937, 1.3287451795204106, 1.3095903295125026, 1.2895021588683453, 1.274794803539407, 1.259177107738651, 1.2482795188807363, 1.2257164660550188, 1.2157865063527429, 1.2127133028188835, 1.2078144296574467, 1.2044599602122619, 1.2012018184796032, 1.1968936162520554, 1.1945556431783186, 1.1925015174092546, 1.1897053404863986, 1.1885273161788064, 1.1877242795017078, 1.1851195334984368, 1.1847041791097583, 1.182916081417716, 1.182840095048959, 1.1808733535544886, 1.1808340568768467, 1.1813854869906204, 1.1797120610863205, 1.179955544757831, 1.1780650130694998, 1.1800381224165906, 1.1797450623416805, 1.182211006254874, 1.1809707248867196, 1.1821096897838292, 1.1834953358720668, 1.1848916299986745, 1.184988160181092, 1.186045312640999, 1.1853960629978242, 1.186093429745597, 1.184407651611764, 1.1885289925430698, 1.1898491615393143, 1.1898681620559726, 1.1875348378325727, 1.1872443639522319, 1.1858126105753397, 1.184625798380971, 1.1837315569027853, 1.1871822145194528, 1.189276201149369, 1.1908077050102295, 1.1922584793364872, 1.1927573314624165, 1.1948257239446323, 1.1970276321662827, 1.1984439071957238, 1.2001033072619975, 1.2027670228744687, 1.204146827658406, 1.2067594481250126, 1.2090882830289047, 1.2106139143779724, 1.213713095816274, 1.2176356456402568, 1.2194205392206638, 1.2213675431812587, 1.2220499611521514, 1.2219850278961533, 1.2221625922757084, 1.223515908792251, 1.2246137516194724, 1.225964820649096, 1.2896438904208483, 1.3556065764605594, 1.4425367715084572, 1.5783067609954742, 1.7255468913172083, 1.77531505090883, 1.7281385898313604, 1.7092201333471169, 1.714921248178143, 1.7084052262653129, 1.6433813157782429, 1.5873533626072462, 1.5413044836641352, 1.5305172339722044, 1.5407929406064795, 1.5625388243497582, 1.5808833212358882, 1.594919446975837, 1.6023306857096034, 1.6085494778562857, 1.6173535931084193, 1.610197903471999, 1.6102329177228967, 1.6136810443094871, 1.6234359865884476, 1.6352212124911605, 1.6480361367684961, 1.6810762585591874, 1.714559514955909, 1.738920178147964, 1.7670216045480631, 1.8213688837822704, 1.8851640656939708, 1.9414046695492293, 1.982309299812186, 2.011570019858482, 2.062285196847369, 2.1118280949340256, 2.16917805380217, 2.2175618949841005, 2.2628120265653706, 2.3249308559388737, 2.3850505715709005, 2.4388981271258676, 2.519844964768708, 2.626307297174208, 2.777008541837859, 2.872338737299287, 2.938329798256746, 3.092867351660971, 3.3241146678701625, 3.697532616588432, 1.486093750223517, 1.486093750223517, 1.486093750223517, 1.486093750223517, 1.486093750223517, 1.486093750223517, 1.486093750223517, 1.486093750223517, 1.486093750223517, 1.486093750223517, 181.81139792501926, 54.746492870152, 77.1490428596735, 21.705315893515944, 5.853754911571741, 6.6052799904718995, 6.492876935473759, 5.691329905988823, 5.6449720293530845, 5.124615875956806, 4.930722654262354, 5.591117657604627, 5.238917018719803, 4.745736135075276, 4.625130706084747, 4.061544721229439, 2.5734421860761354, 1.9752183396994951, 1.821123310626717, 1.6391867237653062, 1.5725592809408224, 1.5346650127839891, 1.454361003159192, 1.381083421148105, 1.3433744444319013, 1.3241084580822646, 1.2940021518543288, 1.2727081528091733, 1.2742685943030665, 1.265787208554684, 1.280618702083302, 1.3155563532627634, 1.4146466022766617, 1.3982373333083165, 1.300662527329223, 1.2610936761020637, 1.2472060201953357, 1.2786919051113732, 1.3410510046123816, 1.3400312187450256, 1.2864536640108781, 1.2356005056572033, 1.2066666275031817, 1.1737861384799548, 1.1860689967852522, 1.252904421124185, 1.2886697405911032, 1.2321273216921327, 1.2251898419081044, 1.1833586588145408, 1.2095021058048583, 1.238536309242591, 1.195477014264725, 1.21093572029622, 1.211265719567564, 1.2178121286196981, 1.216921126234411, 1.2290442229705147, 1.2272722758252714, 1.268747933197119, 1.2595456468789052, 1.2555799766469138, 1.337925956153413, 1.3164381943624905, 1.3756226882251215, 1.405324113125062, 1.4011269685352088, 1.455694500561549, 1.4638500775058672, 1.5325173587038994, 1.6280362179240908, 1.710362901541885, 1.7806157766472093, 2.082698336349495, 2.3765738625825183, 2.6320781221256766, 4.362299114389316, 5.935228764483327, 1.486093750223517, 1.486093750223517, 1.486093750223517, 1.486093750223517, 1.486093750223517, 1.486093750223517, 1.486093750223517, 1.486093750223517, 1.486093750223517, 1.486093750223517, 1.486093750223517, 1.486093750223517, 1.486093750223517, 1.486093750223517, 1.486093750223517, 1.486093750223517, 1.486093750223517, 1.486093750223517, 1.486093750223517, 1.486093750223517, 1.486093750223517, 1.486093750223517, 1.486093750223517, 1.486093750223517, 1.486093750223517, 1.486093750223517, 1.486093750223517, 1.486093750223517, 1.486093750223517, 1.486093750223517, 1.486093750223517, 1.486093750223517, 1.486093750223517, 1.486093750223517, 4.370946093222301, 4.301707203607293, 4.224412747284987, 4.178613476090504, 4.0835827436822, 4.285772617060502, 5.002401262096101, 5.082728203675288, 4.851063585712836, 4.478532975856069, 3.6427951253244824, 3.254013386663246, 3.063020854302067, 2.891117370783832, 2.7531627699772794, 2.6391249839889492, 2.578323324013581, 2.561288063775464, 2.474597252767125, 2.468077974136577, 2.3837478106675003, 1.9753225907742264, 1.7653510367633776, 1.7591714075499567, 1.69766513723448, 1.654794664194696, 1.654602115531361, 1.616916854810597, 1.6528938160843156, 1.6757223180245548, 1.6602827826040996, 1.6613768172765053, 1.599783651470261, 1.6116012063012026, 1.601094013427201, 1.6343399080124072, 1.7568892631036308, 1.723385633830048, 1.7948764799025412, 1.8550374764104167, 1.7568012350611755, 1.7715682667053447, 1.787029237190836, 1.8816961208067369, 1.7575039481698693, 1.8886726151736184, 2.049274243054242, 1.9351208538273563, 1.7951961196217776, 1.8372286250623806, 1.8229737997007756, 1.8577806101175154, 1.8861197876922235, 1.9287482904660467, 1.9445889367561902, 2.0145644258386715, 2.032355497355638, 2.0866405879892223, 2.114981843047417, 2.117953705524087, 2.1155549149691524, 2.1113654328737534, 2.125335873963422, 2.1313481034960664, 2.2175331939574785, 2.4498469315881266, 2.420742933999918, 2.3060741414997215, 2.0845713137614443, 2.5015919533329902, 3.1336306782945935, 2.587552848547603, 2.507541051938915, 2.6474363611405356, 3.694691467881512, 3.630245110404758, 4.7971301298748585, 4.155628032563982, 3.40693938737968, 3.780977301597886, 6.362933169017197, 5.307010946107766, 6.85743605549942, 9.222901587985689, 7.1671040597429965, 6.3724124765067245, 6.226829505270871, 9.305307794507826, 11.483131532193513, 21.085291729425077, 20.4469229792594, 13.494506331917362, 9.676721846437431, 26.92564340532408, 14.109451098833237, 27.18121219327441, 30.497582585870983, 38.29047074774281, 28.0115225672489, 42.64262558449992, 49.32817617920227, 46.65051103127189, 44.5543214417994, 75.13842503773049, 65.23963371024001, 74.88595744327176, 50.70017104543512
