View In:
ArcGIS JavaScript
ArcGIS Online Map Viewer
ArcGIS Earth
Service Description: Tanager/vendor_visual_md
Name: Tanager/vendor_visual_md
Description:
Single Fused Map Cache: false
Extent:
XMin: -117.37488108599996
YMin: 0.4262140638907326
XMax: 117.73515951419878
YMax: 49.34675763800004
Spatial Reference: 4326
(4326)
Initial Extent:
XMin: -117.37488108599996
YMin: 0.4262140638907326
XMax: 117.73515951419878
YMax: 49.34675763800004
Spatial Reference: 4326
(4326)
Full Extent:
XMin: -117.37488108599996
YMin: 0.4262140638907326
XMax: 117.73515951419878
YMax: 49.34675763800004
Spatial Reference: 4326
(4326)
Pixel Size X: 2.694945852358564E-4
Pixel Size Y: 2.694945852358564E-4
Band Count: 4
Pixel Type: U8
RasterFunction Infos: {"rasterFunctionInfos": [{
"name": "None",
"description": "Make a Raster or Raster Dataset into a Function Raster Dataset.",
"help": ""
}]}
Mensuration Capabilities: Basic
Inspection Capabilities:
Has Histograms: true
Has Colormap: false
Has Multi Dimensions : false
Rendering Rule:
Min Scale: 0
Max Scale: 0
Resampling: false
Copyright Text:
Service Data Type: esriImageServiceDataTypeGeneric
Min Values: 0, 0, 0, 0
Max Values: 254, 255, 248, 255
Mean Values: 69.40942458882304, 63.53589451748676, 56.52667626650294, 183.05463520593904
Standard Deviation Values: 55.20534994791903, 46.52239128628576, 39.9002229046799, 114.76033126397215
Object ID Field: OBJECTID
Fields:
-
OBJECTID
(
type: esriFieldTypeOID, alias: OBJECTID
)
-
Shape
(
type: esriFieldTypeGeometry, alias: Shape
)
-
Name
(
type: esriFieldTypeString, alias: Name, length: 200
)
-
MinPS
(
type: esriFieldTypeDouble, alias: MinPS
)
-
MaxPS
(
type: esriFieldTypeDouble, alias: MaxPS
)
-
LowPS
(
type: esriFieldTypeDouble, alias: LowPS
)
-
HighPS
(
type: esriFieldTypeDouble, alias: HighPS
)
-
Category
(
type: esriFieldTypeInteger, alias: Category
, Coded Values:
[0: Unknown]
, [1: Primary]
, [2: Overview]
, ...6 more...
)
-
Tag
(
type: esriFieldTypeString, alias: Tag, length: 100
)
-
GroupName
(
type: esriFieldTypeString, alias: GroupName, length: 100
)
-
ProductName
(
type: esriFieldTypeString, alias: ProductName, length: 100
)
-
CenterX
(
type: esriFieldTypeDouble, alias: CenterX
)
-
CenterY
(
type: esriFieldTypeDouble, alias: CenterY
)
-
ZOrder
(
type: esriFieldTypeInteger, alias: ZOrder
)
-
ToSunZenith
(
type: esriFieldTypeDouble, alias: ToSunZenith
)
-
TotalCloudFraction
(
type: esriFieldTypeDouble, alias: TotalCloudFraction
)
-
AcquisitionDate
(
type: esriFieldTypeDate, alias: AcquisitionDate, length: 8
)
-
Shape_Length
(
type: esriFieldTypeDouble, alias: Shape_Length
)
-
Shape_Area
(
type: esriFieldTypeDouble, alias: Shape_Area
)
Default Mosaic Method: ByAttribute
Allowed Mosaic Methods: ByAttribute,NorthWest,Center,LockRaster,Nadir,Viewpoint,Seamline,None
SortField: ToSunZenith
SortValue:
Mosaic Operator: First
Default Compression Quality: 75
Default Resampling Method: Nearest
Max Record Count: 1000
Max Image Height: 4100
Max Image Width: 15000
Max Download Image Count: 20
Max Mosaic Image Count: 20
Allow Raster Function: true
Allow Copy: false
Allow Analysis: true
Allow Compute TiePoints: false
Supports Statistics: true
Supports Advanced Queries: true
Use StandardizedQueries: true
Raster Type Infos:
Name: Raster Dataset
Description: Supports all ArcGIS Raster Datasets
Help:
Has Raster Attribute Table: false
Edit Fields Info: null
Ownership Based AccessControl For Rasters: null
Child Resources:
Info
Histograms
Statistics
Key Properties
Legend
Raster Function Infos
Supported Operations:
Export Image
Query
Identify
Measure
Compute Histograms
Compute Statistics Histograms
Get Samples
Compute Class Statistics
Query GPS Info
Find Images
Image to Map
Map to Image
Measure from Image
Image to Map Multiray
Query Boundary
Compute Pixel Location
Compute Angles
Validate
Project