View In:
ArcGIS JavaScript
ArcGIS Online Map Viewer
ArcGIS Earth
ArcMap
View Footprint In:
ArcGIS Online Map Viewer
Service Description: 8-daily MODIS/Terra Net Evapotranspiration dataset is generated with the highest spatial resolution (500 m x 500 m) acquired from 2001 to present. The pixel values represent the sum of all eight days within the composite period in kg/m2/8days. The scaling factor (0.1) is applied to the original dataset. Data source: MOD16A2
Data is also provided in a time enabled mosaic dataset structure.Temporal statistics (standard deviation, minimum, maximum, and mean) are also calculated for the given period.
Name: Temporal/Neom_ET_MOD16A2_8day_500m_h21v06_006
Description: 8-daily MODIS/Terra Net Evapotranspiration dataset is generated with the highest spatial resolution (500 m x 500 m) acquired from 2001 to present. The pixel values represent the sum of all eight days within the composite period in kg/m2/8days. The scaling factor (0.1) is applied to the original dataset. Data source: MOD16A2
Data is also provided in a time enabled mosaic dataset structure.Temporal statistics (standard deviation, minimum, maximum, and mean) are also calculated for the given period.
Single Fused Map Cache: false
Extent:
XMin: 33.96556374558
YMin: 26.979529245289
XMax: 37.652864390009995
YMax: 30.000030582899
Spatial Reference: 4326
(4326)
Initial Extent:
XMin: 33.96556374558
YMin: 26.979529245289
XMax: 37.652864390009995
YMax: 30.000030582899
Spatial Reference: 4326
(4326)
Full Extent:
XMin: 33.96556374558
YMin: 26.979529245289
XMax: 37.652864390009995
YMax: 30.000030582899
Spatial Reference: 4326
(4326)
Time Info:
Start Time Field: Time
End Time Field: null
Time Extent:
[2001/01/01 00:00:00 UTC, 2019/01/09 00:00:00 UTC]
Time Reference:
N/A
Pixel Size X: 0.004976114229999995
Pixel Size Y: 0.004976114229999999
Band Count: 1
Pixel Type: F32
RasterFunction Infos: {"rasterFunctionInfos": [
{
"name": "None",
"description": "A No-Op Function.",
"help": ""
},
{
"name": "Stretched_blue2red_ETmodis",
"description": "A raster function template.",
"help": ""
}
]}
Mensuration Capabilities: Basic
Has Histograms: true
Has Colormap: false
Has Multi Dimensions : false
Rendering Rule:
Min Scale: 0
Max Scale: 0
Copyright Text: NASA, ESRS
Service Data Type: esriImageServiceDataTypeScientific
Min Values: 0
Max Values: 32
Mean Values: 0.7861841349663387
Standard Deviation Values: 1.5036522152509022
Object ID Field: OBJECTID
Fields:
-
OBJECTID
(
type: esriFieldTypeOID, alias: OBJECTID
)
-
Shape
(
type: esriFieldTypeGeometry, alias: Shape
)
-
Name
(
type: esriFieldTypeString, alias: Name, length: 200
)
-
MinPS
(
type: esriFieldTypeDouble, alias: MinPS
)
-
MaxPS
(
type: esriFieldTypeDouble, alias: MaxPS
)
-
LowPS
(
type: esriFieldTypeDouble, alias: LowPS
)
-
HighPS
(
type: esriFieldTypeDouble, alias: HighPS
)
-
Category
(
type: esriFieldTypeInteger, alias: Category
, Coded Values:
[0: Unknown]
, [1: Primary]
, [2: Overview]
, ...6 more...
)
-
Tag
(
type: esriFieldTypeString, alias: Tag, length: 100
)
-
GroupName
(
type: esriFieldTypeString, alias: GroupName, length: 100
)
-
ProductName
(
type: esriFieldTypeString, alias: ProductName, length: 100
)
-
CenterX
(
type: esriFieldTypeDouble, alias: CenterX
)
-
CenterY
(
type: esriFieldTypeDouble, alias: CenterY
)
-
ZOrder
(
type: esriFieldTypeInteger, alias: ZOrder
)
-
Time
(
type: esriFieldTypeDate, alias: Time, length: 8
)
-
Shape_Length
(
type: esriFieldTypeDouble, alias: Shape_Length
)
-
Shape_Area
(
type: esriFieldTypeDouble, alias: Shape_Area
)
Default Mosaic Method: Northwest
Allowed Mosaic Methods: NorthWest,Center,LockRaster,ByAttribute,Nadir,Viewpoint,Seamline,None
SortField:
SortValue: null
Mosaic Operator: Mean
Default Compression Quality: 75
Default Resampling Method: Nearest
Max Record Count: 1000
Max Image Height: 4100
Max Image Width: 15000
Max Download Image Count: 20
Max Mosaic Image Count: 100
Allow Raster Function: true
Allow Compute TiePoints: false
Supports Statistics: true
Supports Advanced Queries: true
Use StandardizedQueries: true
Raster Type Infos:
Name: Raster Dataset
Description: Supports all ArcGIS Raster Datasets
Help:
Has Raster Attribute Table: false
Edit Fields Info: null
Ownership Based AccessControl For Rasters: null
Child Resources:
Info
Histograms
Key Properties
Legend
rasterFunctionInfos
Supported Operations:
Export Image
Query
Identify
Measure
Compute Histograms
Compute Statistics Histograms
Get Samples
Compute Class Statistics
Query Boundary
Compute Pixel Location
Validate
Project