View In:
ArcGIS JavaScript
ArcGIS Online Map Viewer
ArcGIS Earth
ArcMap
View Footprint In:
ArcGIS Online Map Viewer
Service Description: 8-daily MODIS/Aqua Land Surface Temperature dataset with the highest spatial resolution (1200m x 1200m) acquired from 2009 to 2017. The pixel values represent the simple average of all the corresponding pixels collected within that 8-day period in Kelvin. The scaling factor (0.02) is applied to the original dataset. Data source: MYD11A2Data is also provided in a time enabled mosaic dataset structure.Temporal statistics (standard deviation, minimum, maximum, and mean) are also calculated for the given period.
Name: Temporal/Neom_LST_MYD11A2_8day_1km_h21v06_006
Description: 8-daily MODIS/Aqua Land Surface Temperature dataset with the highest spatial resolution (1200m x 1200m) acquired from 2009 to 2017. The pixel values represent the simple average of all the corresponding pixels collected within that 8-day period in Kelvin. The scaling factor (0.02) is applied to the original dataset. Data source: MYD11A2Data is also provided in a time enabled mosaic dataset structure.Temporal statistics (standard deviation, minimum, maximum, and mean) are also calculated for the given period.
Single Fused Map Cache: false
Extent:
XMin: 31.92535691128
YMin: 19.99804171609
XMax: 46.19683607494
YMax: 30.00001979104
Spatial Reference: 4326
(4326)
Initial Extent:
XMin: 31.92535691128
YMin: 19.99804171609
XMax: 46.19683607494
YMax: 30.00001979104
Spatial Reference: 4326
(4326)
Full Extent:
XMin: 31.92535691128
YMin: 19.99804171609
XMax: 46.19683607494
YMax: 30.00001979104
Spatial Reference: 4326
(4326)
Time Info:
Start Time Field: Time
End Time Field: null
Time Extent:
[2009/01/01 00:00:00 UTC, 2018/01/01 00:00:00 UTC]
Time Reference:
N/A
Pixel Size X: 0.00995221699
Pixel Size Y: 0.00995221699
Band Count: 1
Pixel Type: F32
RasterFunction Infos: {"rasterFunctionInfos": [{
"name": "None",
"description": "A No-Op Function.",
"help": ""
}]}
Mensuration Capabilities: Basic
Has Histograms: true
Has Colormap: false
Has Multi Dimensions : false
Rendering Rule:
Min Scale: 0
Max Scale: 0
Copyright Text: NASA, ESRS
Service Data Type: esriImageServiceDataTypeScientific
Min Values: 283.6000061035156
Max Values: 329.5
Mean Values: 311.90589651732586
Standard Deviation Values: 5.574432881485491
Object ID Field: OBJECTID
Fields:
-
OBJECTID
(
type: esriFieldTypeOID, alias: OBJECTID
)
-
Shape
(
type: esriFieldTypeGeometry, alias: Shape
)
-
Name
(
type: esriFieldTypeString, alias: Name, length: 200
)
-
MinPS
(
type: esriFieldTypeDouble, alias: MinPS
)
-
MaxPS
(
type: esriFieldTypeDouble, alias: MaxPS
)
-
LowPS
(
type: esriFieldTypeDouble, alias: LowPS
)
-
HighPS
(
type: esriFieldTypeDouble, alias: HighPS
)
-
Category
(
type: esriFieldTypeInteger, alias: Category
, Coded Values:
[0: Unknown]
, [1: Primary]
, [2: Overview]
, ...6 more...
)
-
Tag
(
type: esriFieldTypeString, alias: Tag, length: 100
)
-
GroupName
(
type: esriFieldTypeString, alias: GroupName, length: 100
)
-
ProductName
(
type: esriFieldTypeString, alias: ProductName, length: 100
)
-
CenterX
(
type: esriFieldTypeDouble, alias: CenterX
)
-
CenterY
(
type: esriFieldTypeDouble, alias: CenterY
)
-
ZOrder
(
type: esriFieldTypeInteger, alias: ZOrder
)
-
Shape_Length
(
type: esriFieldTypeDouble, alias: Shape_Length
)
-
Shape_Area
(
type: esriFieldTypeDouble, alias: Shape_Area
)
-
Time
(
type: esriFieldTypeDate, alias: Time, length: 8
)
Default Mosaic Method: Northwest
Allowed Mosaic Methods: NorthWest,Center,LockRaster,ByAttribute,Nadir,Viewpoint,Seamline,None
SortField:
SortValue: null
Mosaic Operator: First
Default Compression Quality: 75
Default Resampling Method: Nearest
Max Record Count: 50
Max Image Height: 4100
Max Image Width: 15000
Max Download Image Count: 20
Max Mosaic Image Count: 50
Allow Raster Function: true
Allow Compute TiePoints: false
Supports Statistics: true
Supports Advanced Queries: true
Use StandardizedQueries: true
Raster Type Infos:
Name: Raster Dataset
Description: Supports all ArcGIS Raster Datasets
Help:
Has Raster Attribute Table: false
Edit Fields Info: null
Ownership Based AccessControl For Rasters: null
Child Resources:
Info
Histograms
Key Properties
Legend
rasterFunctionInfos
Supported Operations:
Export Image
Query
Identify
Measure
Compute Histograms
Compute Statistics Histograms
Get Samples
Compute Class Statistics
Query Boundary
Compute Pixel Location
Validate
Project