View In:
ArcGIS JavaScript
ArcGIS Online Map Viewer
ArcGIS Earth
ArcMap
View Footprint In:
ArcGIS Online Map Viewer
Service Description: 16-daily MODIS/Terra NDVI dataset is generated with the highest spatial resolution (250m x 250m) acquired from 2009 to 2017. The pixel values represent the unitless vegetation indice (0-1). The best available pixel value from all the acquisitions from the 16 day period is chosen. Data source: MOD13Q1
Data is also provided in a time enabled mosaic dataset structure. Temporal statistics (standard deviation, minimum, maximum, and mean) are also calculated for the given period.
Name: Temporal/Neom_V2_NDVI_MOD13Q1_16day_250m_h21v06_006
Description: 16-daily MODIS/Terra NDVI dataset is generated with the highest spatial resolution (250m x 250m) acquired from 2009 to 2017. The pixel values represent the unitless vegetation indice (0-1). The best available pixel value from all the acquisitions from the 16 day period is chosen. Data source: MOD13Q1
Data is also provided in a time enabled mosaic dataset structure. Temporal statistics (standard deviation, minimum, maximum, and mean) are also calculated for the given period.
Single Fused Map Cache: false
Extent:
XMin: 31.92535691128
YMin: 19.998042451581
XMax: 46.18935547282
YMax: 30.000008999181
Spatial Reference: 4326
(4326)
Initial Extent:
XMin: 31.92535691128
YMin: 19.998042451581
XMax: 46.18935547282
YMax: 30.000008999181
Spatial Reference: 4326
(4326)
Full Extent:
XMin: 31.92535691128
YMin: 19.998042451581
XMax: 46.18935547282
YMax: 30.000008999181
Spatial Reference: 4326
(4326)
Time Info:
Start Time Field: Time
End Time Field: null
Time Extent:
[2009/01/01 00:00:00 UTC, 2018/01/01 00:00:00 UTC]
Time Reference:
N/A
Pixel Size X: 0.002488051379999999
Pixel Size Y: 0.0024880513799999996
Band Count: 1
Pixel Type: F32
RasterFunction Infos: {"rasterFunctionInfos": [{
"name": "None",
"description": "A No-Op Function.",
"help": ""
}]}
Mensuration Capabilities: Basic
Has Histograms: true
Has Colormap: false
Has Multi Dimensions : false
Rendering Rule:
Min Scale: 0
Max Scale: 0
Copyright Text: NASA, ESRS
Service Data Type: esriImageServiceDataTypeGeneric
Min Values: -0.20000000298023224
Max Values: 0.9775000214576721
Mean Values: 0.0883390783391416
Standard Deviation Values: 0.03345864751798368
Object ID Field: OBJECTID
Fields:
-
OBJECTID
(
type: esriFieldTypeOID, alias: OBJECTID
)
-
Shape
(
type: esriFieldTypeGeometry, alias: Shape
)
-
Name
(
type: esriFieldTypeString, alias: Name, length: 200
)
-
MinPS
(
type: esriFieldTypeDouble, alias: MinPS
)
-
MaxPS
(
type: esriFieldTypeDouble, alias: MaxPS
)
-
LowPS
(
type: esriFieldTypeDouble, alias: LowPS
)
-
HighPS
(
type: esriFieldTypeDouble, alias: HighPS
)
-
Category
(
type: esriFieldTypeInteger, alias: Category
, Coded Values:
[0: Unknown]
, [1: Primary]
, [2: Overview]
, ...6 more...
)
-
Tag
(
type: esriFieldTypeString, alias: Tag, length: 100
)
-
GroupName
(
type: esriFieldTypeString, alias: GroupName, length: 100
)
-
ProductName
(
type: esriFieldTypeString, alias: ProductName, length: 100
)
-
CenterX
(
type: esriFieldTypeDouble, alias: CenterX
)
-
CenterY
(
type: esriFieldTypeDouble, alias: CenterY
)
-
ZOrder
(
type: esriFieldTypeInteger, alias: ZOrder
)
-
Shape_Length
(
type: esriFieldTypeDouble, alias: Shape_Length
)
-
Shape_Area
(
type: esriFieldTypeDouble, alias: Shape_Area
)
-
Time
(
type: esriFieldTypeDate, alias: Time, length: 8
)
Default Mosaic Method: Northwest
Allowed Mosaic Methods: NorthWest,Center,LockRaster,ByAttribute,Nadir,Viewpoint,Seamline,None
SortField:
SortValue: null
Mosaic Operator: First
Default Compression Quality: 75
Default Resampling Method: Nearest
Max Record Count: 1000
Max Image Height: 4100
Max Image Width: 15000
Max Download Image Count: 20
Max Mosaic Image Count: 50
Allow Raster Function: true
Allow Compute TiePoints: false
Supports Statistics: true
Supports Advanced Queries: true
Use StandardizedQueries: true
Raster Type Infos:
Name: Raster Dataset
Description: Supports all ArcGIS Raster Datasets
Help:
Has Raster Attribute Table: false
Edit Fields Info: null
Ownership Based AccessControl For Rasters: null
Child Resources:
Info
Histograms
Key Properties
Legend
rasterFunctionInfos
Supported Operations:
Export Image
Query
Identify
Measure
Compute Histograms
Compute Statistics Histograms
Get Samples
Compute Class Statistics
Query Boundary
Compute Pixel Location
Validate
Project