View In:
ArcGIS JavaScript
ArcGIS Online Map Viewer
ArcGIS Earth
Service Description: AVIRIS/abundance_m1_md
Name: AVIRIS/abundance_m1_md
Description:
Single Fused Map Cache: false
Extent:
XMin: -117.38990087199994
YMin: 35.225979662990056
XMax: -113.28135890201943
YMax: 38.452871894000054
Spatial Reference: 4326
(4326)
Initial Extent:
XMin: -117.38990087199994
YMin: 35.225979662990056
XMax: -113.28135890201943
YMax: 38.452871894000054
Spatial Reference: 4326
(4326)
Full Extent:
XMin: -117.38990087199994
YMin: 35.225979662990056
XMax: -113.28135890201943
YMax: 38.452871894000054
Spatial Reference: 4326
(4326)
Pixel Size X: 9.342478954863923E-5
Pixel Size Y: 9.34247895486392E-5
Band Count: 10
Pixel Type: F32
RasterFunction Infos: {"rasterFunctionInfos": [
{
"name": "None",
"description": "Make a Raster or Raster Dataset into a Function Raster Dataset.",
"help": ""
},
{
"name": "Calcite_Abundance_m1",
"description": "Calcite_Abundance_m1 extract band and stretch",
"help": ""
},
{
"name": "Chlorite_Abundance_m1",
"description": "Chlorite_Abundance_m1 extract band and stretch",
"help": ""
},
{
"name": "Dolomite_Abundance_m1",
"description": "Dolomite_Abundance_m1 extract band and stretch",
"help": ""
},
{
"name": "Goethite_Abundance_m1",
"description": "Goethite_Abundance_m1 extract band and stretch",
"help": ""
},
{
"name": "Gypsum_Abundance_m1",
"description": "Gypsum_Abundance_m1 extract band and stretch",
"help": ""
},
{
"name": "Hematite_Abundance_m1",
"description": "Hematite_Abundance_m1 extract band and stretch",
"help": ""
},
{
"name": "Illite+Muscovite_Abundance_m1",
"description": "Illite+Muscovite_Abundance_m1 extract band and stretch",
"help": ""
},
{
"name": "Kaolinite_Abundance_m1",
"description": "Kaolinite_Abundance_m1 extract band and stretch",
"help": ""
},
{
"name": "Montmorillonite_Abundance_m1",
"description": "Montmorillonite_Abundance_m1 extract band and stretch",
"help": ""
},
{
"name": "RGB_Hematite_Goethite_Kaolinite_Abundance_M1",
"description": "RGB_Hematite_Goethite_Kaolinite_Abundance_M1",
"help": ""
},
{
"name": "RGB_Montmorillonite_Illite+Muscovite_Calcite_Abundance_M1",
"description": "RGB_Montmorillonite_Illite+Muscovite_Calcite_Abundance_M1",
"help": ""
},
{
"name": "Vermiculite_Abundance_m1",
"description": "Vermiculite_Abundance_m1 extract band and stretch",
"help": ""
}
]}
Mensuration Capabilities: Basic
Inspection Capabilities:
Has Histograms: true
Has Colormap: false
Has Multi Dimensions : false
Rendering Rule:
Min Scale: 0
Max Scale: 0
Resampling: false
Copyright Text:
Service Data Type: esriImageServiceDataTypeGeneric
Min Values: 0.0019433593843132257, 5.406260606832802E-4, 6.531454273499548E-4, 2.015088830376043E-4, 0, 3.390714118722826E-4, 9.727387223392725E-4, 9.472656529396771E-4, 0.001165796653367579, 9.926361599355005E-6
Max Values: 0.9930566453840584, 0.998046875, 0.9940546794096008, 0.9213755894452333, 0.26867020048666745, 0.998046875, 0.9880664157681167, 0.998046875, 0.8283788895932958, 0.41917967441258946
Mean Values: 0.11752112863486643, 0.0015643006477523561, 0.026394076308249685, 0.0026940235940910934, 9.854291100781972E-5, 0.004106047942991966, 0.0532943029685462, 0.015355544180602015, 0.005859241192909148, 2.881094663943395E-4
Standard Deviation Values: 0.20295222272036736, 0.006805398457556655, 0.10430077735101546, 0.01425133890811734, 2.0309414281774455E-4, 0.00665689159940671, 0.09920975126310097, 0.05673577453820799, 0.023871479574263325, 9.454874535455222E-4
Object ID Field: OBJECTID
Fields:
-
OBJECTID
(
type: esriFieldTypeOID, alias: OBJECTID
)
-
Shape
(
type: esriFieldTypeGeometry, alias: Shape
)
-
Name
(
type: esriFieldTypeString, alias: Name, length: 200
)
-
MinPS
(
type: esriFieldTypeDouble, alias: MinPS
)
-
MaxPS
(
type: esriFieldTypeDouble, alias: MaxPS
)
-
LowPS
(
type: esriFieldTypeDouble, alias: LowPS
)
-
HighPS
(
type: esriFieldTypeDouble, alias: HighPS
)
-
Category
(
type: esriFieldTypeInteger, alias: Category
, Coded Values:
[0: Unknown]
, [1: Primary]
, [2: Overview]
, ...6 more...
)
-
Tag
(
type: esriFieldTypeString, alias: Tag, length: 100
)
-
GroupName
(
type: esriFieldTypeString, alias: GroupName, length: 100
)
-
ProductName
(
type: esriFieldTypeString, alias: ProductName, length: 100
)
-
CenterX
(
type: esriFieldTypeDouble, alias: CenterX
)
-
CenterY
(
type: esriFieldTypeDouble, alias: CenterY
)
-
ZOrder
(
type: esriFieldTypeInteger, alias: ZOrder
)
-
Shape_Length
(
type: esriFieldTypeDouble, alias: Shape_Length
)
-
Shape_Area
(
type: esriFieldTypeDouble, alias: Shape_Area
)
-
ToSunZenith
(
type: esriFieldTypeDouble, alias: ToSunZenith
)
-
TotalCloudFraction
(
type: esriFieldTypeDouble, alias: TotalCloudFraction
)
-
AcquisitionDate
(
type: esriFieldTypeDate, alias: AcquisitionDate, length: 8
)
Default Mosaic Method: ByAttribute
Allowed Mosaic Methods: ByAttribute,NorthWest,Center,LockRaster,Nadir,Viewpoint,Seamline,None
SortField: ToSunZenith
SortValue:
Mosaic Operator: First
Default Compression Quality: 75
Default Resampling Method: Nearest
Max Record Count: 1000
Max Image Height: 4100
Max Image Width: 15000
Max Download Image Count: 20
Max Mosaic Image Count: 20
Allow Raster Function: true
Allow Copy: false
Allow Analysis: true
Allow Compute TiePoints: false
Supports Statistics: true
Supports Advanced Queries: true
Use StandardizedQueries: true
Raster Type Infos:
Name: Raster Dataset
Description: Supports all ArcGIS Raster Datasets
Help:
Has Raster Attribute Table: false
Edit Fields Info: null
Ownership Based AccessControl For Rasters: null
Child Resources:
Info
Histograms
Statistics
Key Properties
Legend
Raster Function Infos
Supported Operations:
Export Image
Query
Identify
Measure
Compute Histograms
Compute Statistics Histograms
Get Samples
Compute Class Statistics
Query GPS Info
Find Images
Image to Map
Map to Image
Measure from Image
Image to Map Multiray
Query Boundary
Compute Pixel Location
Compute Angles
Validate
Project