View In:
ArcGIS JavaScript
ArcGIS Online Map Viewer
ArcGIS Earth
Service Description: NASA_EMIT/EMIT_L2A_Reflectance_RGB_crf
Name: NASA_EMIT/EMIT_L2A_Reflectance_RGB_crf
Description:
Single Fused Map Cache: false
Extent:
XMin: 3132888.7300000004
YMin: 1187054.5600465015
XMax: 6719964.732258862
YMax: 4388061.299000002
Spatial Reference: 102100
(3857)
Initial Extent:
XMin: 3132888.7300000004
YMin: 1187054.5600465015
XMax: 6719964.732258862
YMax: 4388061.299000002
Spatial Reference: 102100
(3857)
Full Extent:
XMin: 3132888.7300000004
YMin: 1187054.5600465015
XMax: 6719964.732258862
YMax: 4388061.299000002
Spatial Reference: 102100
(3857)
Pixel Size X: 60.36104804649169
Pixel Size Y: 60.361048046491696
Band Count: 3
Pixel Type: F32
RasterFunction Infos: {"rasterFunctionInfos": [{
"name": "None",
"description": "",
"help": ""
}]}
Mensuration Capabilities: Basic
Inspection Capabilities:
Has Histograms: true
Has Colormap: false
Has Multi Dimensions : false
Rendering Rule:
Min Scale: 0
Max Scale: 0
Resampling: false
Copyright Text:
Service Data Type: esriImageServiceDataTypeGeneric
Min Values: 0, 0, 0
Max Values: 255, 255, 255
Mean Values: 163.05082729779562, 118.05485764949916, 83.6968450874079
Standard Deviation Values: 70.55220951366941, 48.905040733390784, 34.050855911953306
Object ID Field:
Fields:
None
Default Mosaic Method: Center
Allowed Mosaic Methods:
SortField:
SortValue: null
Mosaic Operator: First
Default Compression Quality: 75
Default Resampling Method: Nearest
Max Record Count: null
Max Image Height: 4100
Max Image Width: 15000
Max Download Image Count: null
Max Mosaic Image Count: null
Allow Raster Function: true
Allow Copy: false
Allow Analysis: true
Allow Compute TiePoints: false
Supports Statistics: false
Supports Advanced Queries: false
Use StandardizedQueries: true
Raster Type Infos:
Name: Raster Dataset
Description: Supports all ArcGIS Raster Datasets
Help:
Has Raster Attribute Table: false
Edit Fields Info: null
Ownership Based AccessControl For Rasters: null
Child Resources:
Info
Histograms
Statistics
Key Properties
Legend
Raster Function Infos
Supported Operations:
Export Image
Identify
Measure
Compute Histograms
Compute Statistics Histograms
Get Samples
Compute Class Statistics
Query Boundary
Compute Pixel Location
Compute Angles
Validate
Project