View In:
ArcGIS JavaScript
ArcGIS Online Map Viewer
ArcGIS Earth
Service Description: NASA_EMIT/EMIT_L2B_Abundance
Name: NASA_EMIT/EMIT_L2B_Abundance
Description:
Single Fused Map Cache: false
Extent:
XMin: 3132888.7300000004
YMin: 1187054.5600465038
XMax: 6719964.73225886
YMax: 4388061.299000002
Spatial Reference: 102100
(3857)
Initial Extent:
XMin: 3132888.7300000004
YMin: 1187054.5600465038
XMax: 6719964.73225886
YMax: 4388061.299000002
Spatial Reference: 102100
(3857)
Full Extent:
XMin: 3132888.7300000004
YMin: 1187054.5600465038
XMax: 6719964.73225886
YMax: 4388061.299000002
Spatial Reference: 102100
(3857)
Pixel Size X: 60.36104804649165
Pixel Size Y: 60.361048046491646
Band Count: 10
Pixel Type: F32
RasterFunction Infos: {"rasterFunctionInfos": [
{
"name": "None",
"description": "Make a Raster or Raster Dataset into a Function Raster Dataset.",
"help": ""
},
{
"name": "Spectral_Abundance_Composite_RGB_Hematite_Goethite_Kaolinite",
"description": "Spectral_Abundance_Composite_RGB_Hematite_Goethite_Kaolinite\nR: Hematite, Gamma=1.5, Min=0, Max=0.1\nG: Goethite, Gamma=1.5, Min=0, Max=0.1\nB: Kaolinite, Gamma=1.5, Min=0, Max=0.2",
"help": ""
},
{
"name": "Spectral_Abundance_Composite_RGB_Montmorillonite_IlliteMuscovite_Calcite",
"description": "Spectral_Abundance_Composite_RGB_Montmorillonite_IlliteMuscovite_Calcite\nR: Montmorillonite, Gamma=1.5, Min=0, Max=0.1\nG: Illite+Muscovite, Gamma=1.5, Min=0, Max=0.2\nB: Calcite, Gamma=1.5, Min=0, Max=0.3\n",
"help": ""
},
{
"name": "Spectral_Abundance_Calcite",
"description": "Spectral Abundance - Calcite\ngamma=1, Min=0, Max=0.4",
"help": ""
},
{
"name": "Spectral_Abundance_Chlorite",
"description": "Spectral_Abundance_Chlorite\ngamma=1, Min=0. Max=0.2",
"help": ""
},
{
"name": "Spectral_Abundance_Dolomite",
"description": "Spectral_Abundance_Dolomite\nGamma=1, Min=0, Max=0.2",
"help": ""
},
{
"name": "Spectral_Abundance_Goethite",
"description": "Spectral_Abundance_Goethite\nGamma=1, Min=0, Max=0.1",
"help": ""
},
{
"name": "Spectral_Abundance_Gypsum",
"description": "Spectral_Abundance_Gypsum\nGamma=1, Min=0, Max=0.1",
"help": ""
},
{
"name": "Spectral_Abundance_Hematite",
"description": "Spectral_Abundance_Hematite\nGamma=1, Min=0, Max=0.1",
"help": ""
},
{
"name": "Spectral_Abundance_Illite_Muscovite",
"description": "Spectral_Abundance_Illite+Muscovite\nGamma=1, min=0, Max=0.2",
"help": ""
},
{
"name": "Spectral_Abundance_Kaolinite",
"description": "Spectral_Abundance_Kaolinite\nGamma=1, Min=0, Max=0.2",
"help": ""
},
{
"name": "Spectral_Abundance_Montmorillonite",
"description": "Spectral_Abundance_Montmorillonite\nGamma=1, Min=0, Max=0.1",
"help": ""
},
{
"name": "Spectral_Abundance_Vermiculite",
"description": "Spectral_Abundance_Vermiculite\nGamma=1, Min=0, Max=0.02",
"help": ""
}
]}
Mensuration Capabilities: Basic
Inspection Capabilities:
Has Histograms: true
Has Colormap: false
Has Multi Dimensions : false
Rendering Rule:
Min Scale: 0
Max Scale: 0
Copyright Text:
Service Data Type: esriImageServiceDataTypeGeneric
Min Values: 0, 0, 0, 0, 0, 0, -0.5, -0.33725491166114807, -0.3450980484485626, 0
Max Values: 0.4975000023841858, 0.5, 0.49799999594688416, 0.5, 0.24972550570964813, 0.42500001192092896, 0.41372549533843994, 0.5, 0.41999998688697815, 0.1070588231086731
Mean Values: 0.05519291205070984, 0.004505556027043425, 0.0032942401146123443, 0.004636305389817192, 9.491161577214652E-5, 0.0037254789383923074, 0.009280103724134979, 0.006785565806154657, 0.002661295821649038, 2.0350764190316933E-6
Standard Deviation Values: 0.08788295123686825, 0.021159244929297497, 0.016900050742635796, 0.01172026352538573, 0.002323411654487208, 0.005878733039947934, 0.015540272305635537, 0.020019254111886684, 0.009352211867635747, 1.4811141125228898E-4
Object ID Field:
Fields:
None
Default Mosaic Method: Center
Allowed Mosaic Methods:
SortField:
SortValue: null
Mosaic Operator: First
Default Compression Quality: 100
Default Resampling Method: Nearest
Max Record Count: null
Max Image Height: 4100
Max Image Width: 15000
Max Download Image Count: null
Max Mosaic Image Count: null
Allow Raster Function: true
Allow Copy: false
Allow Analysis: true
Allow Compute TiePoints: false
Supports Statistics: false
Supports Advanced Queries: false
Use StandardizedQueries: true
Raster Type Infos:
Name: Raster Dataset
Description: Supports all ArcGIS Raster Datasets
Help:
Has Raster Attribute Table: false
Edit Fields Info: null
Ownership Based AccessControl For Rasters: null
Child Resources:
Info
Histograms
Statistics
Key Properties
Legend
Raster Function Infos
Supported Operations:
Export Image
Identify
Measure
Compute Histograms
Compute Statistics Histograms
Get Samples
Compute Class Statistics
Query Boundary
Compute Pixel Location
Compute Angles
Validate
Project