View In:
ArcGIS JavaScript
ArcGIS Online Map Viewer
ArcGIS Earth
Service Description: NASA_EMIT/EMIT_L2B_Abundance_MD
Name: NASA_EMIT/EMIT_L2B_Abundance_MD
Description:
Single Fused Map Cache: false
Extent:
XMin: 3132888.7300000004
YMin: 1187054.5600465033
XMax: 6719964.73225886
YMax: 4388061.299000002
Spatial Reference: 102100
(3857)
Initial Extent:
XMin: 3132888.7300000004
YMin: 1187054.5600465033
XMax: 6719964.73225886
YMax: 4388061.299000002
Spatial Reference: 102100
(3857)
Full Extent:
XMin: 3132888.7300000004
YMin: 1187054.5600465033
XMax: 6719964.73225886
YMax: 4388061.299000002
Spatial Reference: 102100
(3857)
Pixel Size X: 60.36104804649165
Pixel Size Y: 60.36104804649166
Band Count: 10
Pixel Type: F64
RasterFunction Infos: {"rasterFunctionInfos": [
{
"name": "None",
"description": "Make a Raster or Raster Dataset into a Function Raster Dataset.",
"help": ""
},
{
"name": "Spectral_Abundance_Composite_RGB_Hematite_Goethite_Kaolinite",
"description": "Spectral_Abundance_Composite_RGB_Hematite_Goethite_Kaolinite\nR: Hematite, Gamma=1.5, Min=0, Max=0.1\nG: Goethite, Gamma=1.5, Min=0, Max=0.1\nB: Kaolinite, Gamma=1.5, Min=0, Max=0.2",
"help": ""
},
{
"name": "Spectral_Abundance_Composite_RGB_Montmorillonite_IlliteMuscovite_Calcite",
"description": "Spectral_Abundance_Composite_RGB_Montmorillonite_IlliteMuscovite_Calcite\nR: Montmorillonite, Gamma=1.5, Min=0, Max=0.1\nG: Illite+Muscovite, Gamma=1.5, Min=0, Max=0.2\nB: Calcite, Gamma=1.5, Min=0, Max=0.3\n",
"help": ""
},
{
"name": "Spectral_Abundance_Calcite",
"description": "Spectral Abundance - Calcite\ngamma=1, Min=0, Max=0.4",
"help": ""
},
{
"name": "Spectral_Abundance_Chlorite",
"description": "Spectral_Abundance_Chlorite\ngamma=1, Min=0. Max=0.2",
"help": ""
},
{
"name": "Spectral_Abundance_Dolomite",
"description": "Spectral_Abundance_Dolomite\nGamma=1, Min=0, Max=0.2",
"help": ""
},
{
"name": "Spectral_Abundance_Goethite",
"description": "Spectral_Abundance_Goethite\nGamma=1, Min=0, Max=0.1",
"help": ""
},
{
"name": "Spectral_Abundance_Gypsum",
"description": "Spectral_Abundance_Gypsum\nGamma=1, Min=0, Max=0.1",
"help": ""
},
{
"name": "Spectral_Abundance_Hematite",
"description": "Spectral_Abundance_Hematite\nGamma=1, Min=0, Max=0.1",
"help": ""
},
{
"name": "Spectral_Abundance_Illite_Muscovite",
"description": "Spectral_Abundance_Illite+Muscovite\nGamma=1, min=0, Max=0.2",
"help": ""
},
{
"name": "Spectral_Abundance_Kaolinite",
"description": "Spectral_Abundance_Kaolinite\nGamma=1, Min=0, Max=0.2",
"help": ""
},
{
"name": "Spectral_Abundance_Montmorillonite",
"description": "Spectral_Abundance_Montmorillonite\nGamma=1, Min=0, Max=0.1",
"help": ""
},
{
"name": "Spectral_Abundance_Vermiculite",
"description": "Spectral_Abundance_Vermiculite\nGamma=1, Min=0, Max=0.02",
"help": ""
}
]}
Mensuration Capabilities: Basic
Inspection Capabilities:
Has Histograms: true
Has Colormap: false
Has Multi Dimensions : false
Rendering Rule:
Min Scale: 0
Max Scale: 0
Resampling: false
Copyright Text:
Service Data Type: esriImageServiceDataTypeGeneric
Min Values: -0.015388530446216464, 1.9757200789172208E-4, -0.005125578260958719, -9.170744458515401E-4, 0, -3.414616925283553E-4, -0.0016221518235397525, -0.0010013307542067196, -0.00162957079055559, 0
Max Values: 0.49899141187779605, 0.3209403123217954, 0.45595866092571674, 0.20352071296724714, 0.21722120927108793, 0.18003847486158978, 0.27005554759671213, 0.3111526504721951, 0.23678741842786627, 0.14481465084827508
Mean Values: 0.04592095667277275, 0.0013146665729489606, 0.010579367948702605, 0.009167765008987102, 1.2820959035120144E-4, 0.012244297343417058, 0.012155510283206309, 0.0022703522194809926, 0.002100648767640532, 2.0571191805322624E-4
Standard Deviation Values: 0.05963938612641548, 0.010023412816434816, 0.024151447927846223, 0.013957650951374611, 0.0019125600822332116, 0.01884668182694363, 0.019981277592488782, 0.011894599124650672, 0.00887845659751555, 9.724435117406966E-4
Object ID Field: OBJECTID
Fields:
-
OBJECTID
(
type: esriFieldTypeOID, alias: OBJECTID
)
-
Shape
(
type: esriFieldTypeGeometry, alias: Shape
)
-
Name
(
type: esriFieldTypeString, alias: Name, length: 200
)
-
MinPS
(
type: esriFieldTypeDouble, alias: MinPS
)
-
MaxPS
(
type: esriFieldTypeDouble, alias: MaxPS
)
-
LowPS
(
type: esriFieldTypeDouble, alias: LowPS
)
-
HighPS
(
type: esriFieldTypeDouble, alias: HighPS
)
-
Category
(
type: esriFieldTypeInteger, alias: Category
, Coded Values:
[0: Unknown]
, [1: Primary]
, [2: Overview]
, ...6 more...
)
-
Tag
(
type: esriFieldTypeString, alias: Tag, length: 100
)
-
GroupName
(
type: esriFieldTypeString, alias: GroupName, length: 100
)
-
ProductName
(
type: esriFieldTypeString, alias: ProductName, length: 100
)
-
CenterX
(
type: esriFieldTypeDouble, alias: CenterX
)
-
CenterY
(
type: esriFieldTypeDouble, alias: CenterY
)
-
ZOrder
(
type: esriFieldTypeInteger, alias: ZOrder
)
-
Aspect
(
type: esriFieldTypeDouble, alias: Aspect
)
-
CloudCirrusF
(
type: esriFieldTypeDouble, alias: CloudCirrusF
)
-
CloudF
(
type: esriFieldTypeDouble, alias: CloudF
)
-
CloudsBufferF
(
type: esriFieldTypeDouble, alias: CloudsBufferF
)
-
Cosine
(
type: esriFieldTypeDouble, alias: Cosine
)
-
DAAC_index
(
type: esriFieldTypeInteger, alias: DAAC_index
)
-
EarthSunDist
(
type: esriFieldTypeDouble, alias: EarthSunDist
)
-
FID_index
(
type: esriFieldTypeInteger, alias: FID_index
)
-
L1BObservationDownload
(
type: esriFieldTypeString, alias: L1BObservationDownload, length: 8000
)
-
L1BRadianceDownload
(
type: esriFieldTypeString, alias: L1BRadianceDownload, length: 8000
)
-
L2AMaskDownload
(
type: esriFieldTypeString, alias: L2AMaskDownload, length: 8000
)
-
L2AReflectanceDownload
(
type: esriFieldTypeString, alias: L2AReflectanceDownload, length: 8000
)
-
L2AReflUncDownload
(
type: esriFieldTypeString, alias: L2AReflUncDownload, length: 8000
)
-
Orbit
(
type: esriFieldTypeInteger, alias: Orbit
)
-
OrbitSegment
(
type: esriFieldTypeInteger, alias: OrbitSegment
)
-
PathLength
(
type: esriFieldTypeDouble, alias: PathLength
)
-
RetrievedAOTMedian
(
type: esriFieldTypeDouble, alias: RetrievedAOTMedian
)
-
RetrievedEleMedian
(
type: esriFieldTypeDouble, alias: RetrievedEleMedian
)
-
RetrievedWVMedian
(
type: esriFieldTypeDouble, alias: RetrievedWVMedian
)
-
ScreenedOnboardFraction
(
type: esriFieldTypeDouble, alias: ScreenedOnboardFraction
)
-
Slope
(
type: esriFieldTypeDouble, alias: Slope
)
-
SolarPhase
(
type: esriFieldTypeDouble, alias: SolarPhase
)
-
ToSensorAzimuth
(
type: esriFieldTypeDouble, alias: ToSensorAzimuth
)
-
ToSensorZenith
(
type: esriFieldTypeDouble, alias: ToSensorZenith
)
-
ToSunAzimuth
(
type: esriFieldTypeDouble, alias: ToSunAzimuth
)
-
ToSunZenith
(
type: esriFieldTypeDouble, alias: ToSunZenith
)
-
TotalCloudFraction
(
type: esriFieldTypeDouble, alias: TotalCloudFraction
)
-
UTCTime
(
type: esriFieldTypeDouble, alias: UTCTime
)
-
dcid
(
type: esriFieldTypeInteger, alias: dcid
)
-
end_time
(
type: esriFieldTypeString, alias: end_time, length: 8000
)
-
fid
(
type: esriFieldTypeString, alias: fid, length: 8000
)
-
start_time
(
type: esriFieldTypeString, alias: start_time, length: 8000
)
-
Name_fromURL
(
type: esriFieldTypeString, alias: Name_fromURL, length: 8000
)
-
Shape_Length
(
type: esriFieldTypeDouble, alias: Shape_Length
)
-
Shape_Area
(
type: esriFieldTypeDouble, alias: Shape_Area
)
Default Mosaic Method: ByAttribute
Allowed Mosaic Methods: ByAttribute,NorthWest,Center,LockRaster,Nadir,Viewpoint,Seamline,None
SortField: ToSunZenith
SortValue:
Mosaic Operator: First
Default Compression Quality: 75
Default Resampling Method: Nearest
Max Record Count: 1000
Max Image Height: 4100
Max Image Width: 15000
Max Download Image Count: 20
Max Mosaic Image Count: 50
Allow Raster Function: true
Allow Copy: false
Allow Analysis: true
Allow Compute TiePoints: false
Supports Statistics: true
Supports Advanced Queries: true
Use StandardizedQueries: true
Raster Type Infos:
Name: Raster Dataset
Description: Supports all ArcGIS Raster Datasets
Help:
Has Raster Attribute Table: false
Edit Fields Info: null
Ownership Based AccessControl For Rasters: null
Child Resources:
Info
Histograms
Statistics
Key Properties
Legend
Raster Function Infos
Supported Operations:
Export Image
Query
Identify
Measure
Compute Histograms
Compute Statistics Histograms
Get Samples
Compute Class Statistics
Query GPS Info
Find Images
Image to Map
Map to Image
Measure from Image
Image to Map Multiray
Query Boundary
Compute Pixel Location
Compute Angles
Validate
Project