View In:
ArcGIS JavaScript
ArcGIS Online Map Viewer
ArcGIS Earth
Service Description: NASA_EMIT/MinimumWavelengthMap_2100_2400
Name: NASA_EMIT/MinimumWavelengthMap_2100_2400
Description:
Single Fused Map Cache: false
Extent:
XMin: 4036191.8139999993
YMin: 3094312.492076599
XMax: 4167537.454549166
YMax: 3223364.412799999
Spatial Reference: 102100
(3857)
Initial Extent:
XMin: 4036191.8139999993
YMin: 3094312.492076599
XMax: 4167537.454549166
YMax: 3223364.412799999
Spatial Reference: 102100
(3857)
Full Extent:
XMin: 4036191.8139999993
YMin: 3094312.492076599
XMax: 4167537.454549166
YMax: 3223364.412799999
Spatial Reference: 102100
(3857)
Pixel Size X: 60.361048046492
Pixel Size Y: 60.36104804649209
Band Count: 2
Pixel Type: F32
RasterFunction Infos: {"rasterFunctionInfos": [{
"name": "None",
"description": "Make a Raster or Raster Dataset into a Function Raster Dataset.",
"help": ""
}]}
Mensuration Capabilities: None
Inspection Capabilities:
Has Histograms: true
Has Colormap: false
Has Multi Dimensions : false
Rendering Rule:
Min Scale: 0
Max Scale: 0
Copyright Text:
Service Data Type: esriImageServiceDataTypeGeneric
Min Values: 2.0999999046325684, -4.440892098500626E-16
Max Values: 2.4000000953674316, 22.993446350097656
Mean Values: 2.2783280037899694, 0.12037027143506826
Standard Deviation Values: 0.06544097161575922, 0.07263737489142066
Object ID Field: OBJECTID
Fields:
-
OBJECTID
(
type: esriFieldTypeOID, alias: OBJECTID
)
-
Shape
(
type: esriFieldTypeGeometry, alias: Shape
)
-
Name
(
type: esriFieldTypeString, alias: Name, length: 200
)
-
MinPS
(
type: esriFieldTypeDouble, alias: MinPS
)
-
MaxPS
(
type: esriFieldTypeDouble, alias: MaxPS
)
-
LowPS
(
type: esriFieldTypeDouble, alias: LowPS
)
-
HighPS
(
type: esriFieldTypeDouble, alias: HighPS
)
-
Category
(
type: esriFieldTypeInteger, alias: Category
, Coded Values:
[0: Unknown]
, [1: Primary]
, [2: Overview]
, ...6 more...
)
-
Tag
(
type: esriFieldTypeString, alias: Tag, length: 100
)
-
GroupName
(
type: esriFieldTypeString, alias: GroupName, length: 100
)
-
ProductName
(
type: esriFieldTypeString, alias: ProductName, length: 100
)
-
CenterX
(
type: esriFieldTypeDouble, alias: CenterX
)
-
CenterY
(
type: esriFieldTypeDouble, alias: CenterY
)
-
ZOrder
(
type: esriFieldTypeInteger, alias: ZOrder
)
-
Shape_Length
(
type: esriFieldTypeDouble, alias: Shape_Length
)
-
Shape_Area
(
type: esriFieldTypeDouble, alias: Shape_Area
)
-
Aspect
(
type: esriFieldTypeDouble, alias: Aspect
)
-
CloudCirrusF
(
type: esriFieldTypeDouble, alias: CloudCirrusF
)
-
CloudF
(
type: esriFieldTypeDouble, alias: CloudF
)
-
CloudsBufferF
(
type: esriFieldTypeDouble, alias: CloudsBufferF
)
-
Cosine
(
type: esriFieldTypeDouble, alias: Cosine
)
-
DAAC_index
(
type: esriFieldTypeInteger, alias: DAAC_index
)
-
EarthSunDist
(
type: esriFieldTypeDouble, alias: EarthSunDist
)
-
FID_index
(
type: esriFieldTypeInteger, alias: FID_index
)
-
L1BObservationDownload
(
type: esriFieldTypeString, alias: L1BObservationDownload, length: 8000
)
-
L1BRadianceDownload
(
type: esriFieldTypeString, alias: L1BRadianceDownload, length: 8000
)
-
L2AMaskDownload
(
type: esriFieldTypeString, alias: L2AMaskDownload, length: 8000
)
-
L2AReflectanceDownload
(
type: esriFieldTypeString, alias: L2AReflectanceDownload, length: 8000
)
-
L2AReflUncDownload
(
type: esriFieldTypeString, alias: L2AReflUncDownload, length: 8000
)
-
Orbit
(
type: esriFieldTypeInteger, alias: Orbit
)
-
OrbitSegment
(
type: esriFieldTypeInteger, alias: OrbitSegment
)
-
PathLength
(
type: esriFieldTypeDouble, alias: PathLength
)
-
RetrievedAOTMedian
(
type: esriFieldTypeDouble, alias: RetrievedAOTMedian
)
-
RetrievedEleMedian
(
type: esriFieldTypeDouble, alias: RetrievedEleMedian
)
-
RetrievedWVMedian
(
type: esriFieldTypeDouble, alias: RetrievedWVMedian
)
-
ScreenedOnboardFraction
(
type: esriFieldTypeDouble, alias: ScreenedOnboardFraction
)
-
Slope
(
type: esriFieldTypeDouble, alias: Slope
)
-
SolarPhase
(
type: esriFieldTypeDouble, alias: SolarPhase
)
-
ToSensorAzimuth
(
type: esriFieldTypeDouble, alias: ToSensorAzimuth
)
-
ToSensorZenith
(
type: esriFieldTypeDouble, alias: ToSensorZenith
)
-
ToSunAzimuth
(
type: esriFieldTypeDouble, alias: ToSunAzimuth
)
-
ToSunZenith
(
type: esriFieldTypeDouble, alias: ToSunZenith
)
-
TotalCloudFraction
(
type: esriFieldTypeDouble, alias: TotalCloudFraction
)
-
UTCTime
(
type: esriFieldTypeDouble, alias: UTCTime
)
-
dcid
(
type: esriFieldTypeInteger, alias: dcid
)
-
end_time
(
type: esriFieldTypeString, alias: end_time, length: 8000
)
-
fid
(
type: esriFieldTypeString, alias: fid, length: 8000
)
-
start_time
(
type: esriFieldTypeString, alias: start_time, length: 8000
)
-
Name_fromURL
(
type: esriFieldTypeString, alias: Name_fromURL, length: 8000
)
-
SensorName
(
type: esriFieldTypeString, alias: Sensor Name, length: 20
)
-
AcquisitionDate
(
type: esriFieldTypeDate, alias: Acquisition Date, length: 8
)
Default Mosaic Method: ByAttribute
Allowed Mosaic Methods: ByAttribute,NorthWest,Center,LockRaster,Nadir,Viewpoint,Seamline,None
SortField: ToSunZenith
SortValue:
Mosaic Operator: First
Default Compression Quality: 75
Default Resampling Method: Nearest
Max Record Count: 1000
Max Image Height: 4100
Max Image Width: 15000
Max Download Image Count: 20
Max Mosaic Image Count: 20
Allow Raster Function: true
Allow Copy: false
Allow Analysis: true
Allow Compute TiePoints: false
Supports Statistics: true
Supports Advanced Queries: true
Use StandardizedQueries: true
Raster Type Infos:
Name: Raster Dataset
Description: Supports all ArcGIS Raster Datasets
Help:
Has Raster Attribute Table: false
Edit Fields Info: null
Ownership Based AccessControl For Rasters: null
Child Resources:
Info
Histograms
Statistics
Key Properties
Legend
Raster Function Infos
Supported Operations:
Export Image
Query
Identify
Compute Histograms
Compute Statistics Histograms
Get Samples
Compute Class Statistics
Query GPS Info
Find Images
Image to Map
Map to Image
Measure from Image
Image to Map Multiray
Query Boundary
Compute Pixel Location
Compute Angles
Validate
Project