View In:
ArcGIS JavaScript
ArcGIS Online Map Viewer
ArcGIS Earth
Service Description: NASA_EMIT/g1g2_code_small_crf
Name: NASA_EMIT/g1g2_code_small_crf
Description:
Single Fused Map Cache: false
Extent:
XMin: 33.369727501449624
YMin: 25.76222366277628
XMax: 34.299804115451465
YMax: 26.642436029407392
Spatial Reference: 4326
(4326)
Initial Extent:
XMin: 33.369727501449624
YMin: 25.76222366277628
XMax: 34.299804115451465
YMax: 26.642436029407392
Spatial Reference: 4326
(4326)
Full Extent:
XMin: 33.369727501449624
YMin: 25.76222366277628
XMax: 34.299804115451465
YMax: 26.642436029407392
Spatial Reference: 4326
(4326)
Pixel Size X: 5.420026888122617E-4
Pixel Size Y: 5.420026888122619E-4
Band Count: 1
Pixel Type: S32
RasterFunction Infos: {"rasterFunctionInfos": [
{
"name": "None",
"description": "Make a Raster or Raster Dataset into a Function Raster Dataset.",
"help": ""
},
{
"name": "hpc135_g1g2_RAT",
"description": "g1g2 hpc135",
"help": ""
}
]}
Mensuration Capabilities: Basic
Inspection Capabilities:
Has Histograms: true
Has Colormap: false
Has Multi Dimensions : false
Rendering Rule:
Min Scale: 0
Max Scale: 0
Resampling: false
Copyright Text:
Service Data Type: esriImageServiceDataTypeThematic
Min Values: 1000000
Max Values: 1088130
Mean Values: 1031717.1588484332
Standard Deviation Values: 17336.972535244822
Object ID Field:
Fields:
None
Default Mosaic Method: Center
Allowed Mosaic Methods:
SortField:
SortValue: null
Mosaic Operator: First
Default Compression Quality: 75
Default Resampling Method: Nearest
Max Record Count: null
Max Image Height: 4100
Max Image Width: 15000
Max Download Image Count: null
Max Mosaic Image Count: null
Allow Raster Function: true
Allow Copy: false
Allow Analysis: true
Allow Compute TiePoints: false
Supports Statistics: false
Supports Advanced Queries: false
Use StandardizedQueries: true
Raster Type Infos:
Name: Raster Dataset
Description: Supports all ArcGIS Raster Datasets
Help:
Has Raster Attribute Table: true
Edit Fields Info: null
Ownership Based AccessControl For Rasters: null
Child Resources:
Info
Raster Attribute Table
Histograms
Statistics
Key Properties
Legend
Raster Function Infos
Supported Operations:
Export Image
Identify
Measure
Compute Histograms
Compute Statistics Histograms
Get Samples
Compute Class Statistics
Query Boundary
Compute Pixel Location
Compute Angles
Validate
Project