View In:
ArcGIS JavaScript
ArcGIS Online Map Viewer
ArcGIS Earth
Service Description: The Annual Landsat 8 Mosaic Image Service (2013–2023) is derived from the Landsat 8 Operational Land Imager (OLI) and Thermal Infrared Sensor (TIRS) surface reflectance data. A total of 421 scenes were selected, primarily during the summer months (May–August), to minimize cloud contamination. The dataset includes visible and near-infrared bands (Bands 1–7, 9 OLI) as well as thermal bands (Bands 10 & 11 TIRS). To enhance usability, spectral indices such as NDVI, NDWI, soil salinity, and false-color composites are provided as function templates. Annual overviews were generated to optimize visualization performance at multiple scales. The mosaics preserve the 30m native resolution with additional coarser levels for efficient display. The source Landsat 8 imagery can be accessed through the USGS Earth Explorer portal: https://earthexplorer.usgs.gov/
Name: Saudi_Dune_Sabkha/Landsat_OLI_Mosaic_Combined__
Description: The Annual Landsat 8 Mosaic Image Service (2013–2023) is derived from the Landsat 8 Operational Land Imager (OLI) and Thermal Infrared Sensor (TIRS) surface reflectance data. A total of 421 scenes were selected, primarily during the summer months (May–August), to minimize cloud contamination. The dataset includes visible and near-infrared bands (Bands 1–7, 9 OLI) as well as thermal bands (Bands 10 & 11 TIRS). To enhance usability, spectral indices such as NDVI, NDWI, soil salinity, and false-color composites are provided as function templates. Annual overviews were generated to optimize visualization performance at multiple scales. The mosaics preserve the 30m native resolution with additional coarser levels for efficient display. The source Landsat 8 imagery can be accessed through the USGS Earth Explorer portal: https://earthexplorer.usgs.gov/
Single Fused Map Cache: false
Extent:
XMin: 4226975.0568
YMin: 2006692.444699999
XMax: 5583275.0568
YMax: 3309232.444699999
Spatial Reference: 102100
(3857)
Initial Extent:
XMin: 4226975.0568
YMin: 2006692.444699999
XMax: 5583275.0568
YMax: 3309232.444699999
Spatial Reference: 102100
(3857)
Full Extent:
XMin: 4226975.0568
YMin: 2006692.444699999
XMax: 5583275.0568
YMax: 3309232.444699999
Spatial Reference: 102100
(3857)
Time Info:
Start Time Field: StartTime
End Time Field: EndTime
Time Extent:
[2013/04/07 07:38:32 UTC, 2023/12/08 07:19:10 UTC]
Time Reference:
N/A
Pixel Size X: 30.0
Pixel Size Y: 30.0
Band Count: 7
Pixel Type: U16
RasterFunction Infos: {"rasterFunctionInfos": [
{
"name": "None",
"description": "Make a Raster or Raster Dataset into a Function Raster Dataset.",
"help": ""
},
{
"name": "NDVI",
"description": "NDVI",
"help": ""
}
]}
Mensuration Capabilities: Basic,Base-Top Shadow Height
Inspection Capabilities:
Has Histograms: true
Has Colormap: false
Has Multi Dimensions : false
Rendering Rule:
Min Scale: 0
Max Scale: 0
Copyright Text:
Service Data Type: esriImageServiceDataTypeGeneric
Min Values: 85.49609375, 78.263671875, 133.642578125, 501.662109375, 3117.5234375, 6961.60546875, 7170.23046875
Max Values: 37058.50390625, 37952.736328125, 38711.357421875, 41988.70703125, 47114.607421875, 55720.39453125, 61857.76953125
Mean Values: 12018.144102987328, 13211.72243466406, 16634.72382102563, 20415.811365097128, 23548.823033382665, 27193.607292095, 25047.655508378502
Standard Deviation Values: 1973.7008867358538, 2348.2989604402414, 3445.023934661651, 4952.9953332508685, 5951.234616125955, 7158.1289272087515, 6505.613112503008
Object ID Field: OBJECTID
Fields:
-
OBJECTID
(
type: esriFieldTypeOID, alias: OBJECTID
)
-
Shape
(
type: esriFieldTypeGeometry, alias: Shape
)
-
Name
(
type: esriFieldTypeString, alias: Name, length: 200
)
-
MinPS
(
type: esriFieldTypeDouble, alias: MinPS
)
-
MaxPS
(
type: esriFieldTypeDouble, alias: MaxPS
)
-
LowPS
(
type: esriFieldTypeDouble, alias: LowPS
)
-
HighPS
(
type: esriFieldTypeDouble, alias: HighPS
)
-
Category
(
type: esriFieldTypeInteger, alias: Category
, Coded Values:
[0: Unknown]
, [1: Primary]
, [2: Overview]
, ...6 more...
)
-
Tag
(
type: esriFieldTypeString, alias: Tag, length: 100
)
-
GroupName
(
type: esriFieldTypeString, alias: GroupName, length: 100
)
-
ProductName
(
type: esriFieldTypeString, alias: ProductName, length: 100
)
-
CenterX
(
type: esriFieldTypeDouble, alias: CenterX
)
-
CenterY
(
type: esriFieldTypeDouble, alias: CenterY
)
-
ZOrder
(
type: esriFieldTypeInteger, alias: ZOrder
)
-
SensorName
(
type: esriFieldTypeString, alias: Sensor Name, length: 20
)
-
AcquisitionDate
(
type: esriFieldTypeDate, alias: Acquisition Date, length: 8
)
-
SunAzimuth
(
type: esriFieldTypeDouble, alias: Sun Azimuth
)
-
SunElevation
(
type: esriFieldTypeDouble, alias: Sun Elevation
)
-
CloudCover
(
type: esriFieldTypeDouble, alias: Cloud Cover
)
-
WRS_PATH
(
type: esriFieldTypeInteger, alias: WRS_PATH
)
-
WRS_ROW
(
type: esriFieldTypeInteger, alias: WRS_ROW
)
-
StartTime
(
type: esriFieldTypeDate, alias: StartTime, length: 8
)
-
EndTime
(
type: esriFieldTypeDate, alias: EndTime, length: 8
)
-
Shape_Length
(
type: esriFieldTypeDouble, alias: Shape_Length
)
-
Shape_Area
(
type: esriFieldTypeDouble, alias: Shape_Area
)
Default Mosaic Method: ByAttribute
Allowed Mosaic Methods: ByAttribute,NorthWest,Center,LockRaster,Nadir,Viewpoint,Seamline,None
SortField: MinPS
SortValue:
Mosaic Operator: First
Default Compression Quality: 75
Default Resampling Method: Nearest
Max Record Count: 1000
Max Image Height: 4100
Max Image Width: 15000
Max Download Image Count: 50
Max Mosaic Image Count: 50
Allow Raster Function: true
Allow Copy: true
Allow Analysis: true
Allow Compute TiePoints: false
Supports Statistics: true
Supports Advanced Queries: true
Use StandardizedQueries: true
Raster Type Infos:
Name: Raster Dataset
Description: Supports all ArcGIS Raster Datasets
Help:
Has Raster Attribute Table: false
Edit Fields Info: null
Ownership Based AccessControl For Rasters: null
Child Resources:
Info
Histograms
Statistics
Key Properties
Legend
Raster Function Infos
Supported Operations:
Export Image
Query
Identify
Measure
Compute Histograms
Compute Statistics Histograms
Get Samples
Compute Class Statistics
Query GPS Info
Find Images
Image to Map
Map to Image
Measure from Image
Image to Map Multiray
Query Boundary
Compute Pixel Location
Compute Angles
Validate
Project