View In:
ArcGIS JavaScript
ArcGIS Online Map Viewer
ArcGIS Earth
Service Description: The Annual Sentinel-1 RTC Mosaic Image Service (2015–2023) is derived from Copernicus Sentinel-1 synthetic aperture radar (SAR) data. The mosaics are generated using Radiometrically Terrain Corrected (RTC) backscatter products produced through the ASF on-demand processing pipeline. Each annual mosaic was assembled from scenes acquired in the first week of August, when available, to provide consistency in seasonal conditions.
The mosaics are structured using the ArcGIS mosaic dataset framework and published as a time-aware image service on ArcGIS Server. Users can visualize backscatter changes over time via the time slider and perform on-the-fly calculations of spectral indices and band ratio composites. Due to the failure of Sentinel-1B in December 2021, mosaics for 2022 and 2023 have missing sections. More details on the RTC product generation can be found at the ASF RTC Guide: https://hyp3-docs.asf.alaska.edu/guides/rtc_product_guide/
Name: Saudi_Dune_Sabkha/Sentinel_1_RTC_combined__
Description: The Annual Sentinel-1 RTC Mosaic Image Service (2015–2023) is derived from Copernicus Sentinel-1 synthetic aperture radar (SAR) data. The mosaics are generated using Radiometrically Terrain Corrected (RTC) backscatter products produced through the ASF on-demand processing pipeline. Each annual mosaic was assembled from scenes acquired in the first week of August, when available, to provide consistency in seasonal conditions.
The mosaics are structured using the ArcGIS mosaic dataset framework and published as a time-aware image service on ArcGIS Server. Users can visualize backscatter changes over time via the time slider and perform on-the-fly calculations of spectral indices and band ratio composites. Due to the failure of Sentinel-1B in December 2021, mosaics for 2022 and 2023 have missing sections. More details on the RTC product generation can be found at the ASF RTC Guide: https://hyp3-docs.asf.alaska.edu/guides/rtc_product_guide/
Single Fused Map Cache: false
Extent:
XMin: 4151629.3038999997
YMin: 1880858.9082999974
XMax: 5670839.3039
YMax: 3417308.9082999974
Spatial Reference: 102100
(3857)
Initial Extent:
XMin: 4151629.3038999997
YMin: 1880858.9082999974
XMax: 5670839.3039
YMax: 3417308.9082999974
Spatial Reference: 102100
(3857)
Full Extent:
XMin: 4151629.3038999997
YMin: 1880858.9082999974
XMax: 5670839.3039
YMax: 3417308.9082999974
Spatial Reference: 102100
(3857)
Time Info:
Start Time Field: StartTime
End Time Field: EndTime
Time Extent:
[2015/05/02 14:56:31 UTC, 2023/08/12 14:58:58 UTC]
Time Reference:
N/A
Pixel Size X: 10.0
Pixel Size Y: 10.0
Band Count: 1
Pixel Type: F32
RasterFunction Infos: {"rasterFunctionInfos": [{
"name": "None",
"description": "Make a Raster or Raster Dataset into a Function Raster Dataset.",
"help": ""
}]}
Mensuration Capabilities: Basic
Inspection Capabilities:
Has Histograms: true
Has Colormap: false
Has Multi Dimensions : false
Rendering Rule:
Min Scale: 0
Max Scale: 0
Copyright Text:
Service Data Type: esriImageServiceDataTypeGeneric
Min Values: -47.427512085065246
Max Values: 7.066348945721984
Mean Values: -19.224386894832463
Standard Deviation Values: 7.610785463420402
Object ID Field: OBJECTID
Fields:
-
OBJECTID
(
type: esriFieldTypeOID, alias: OBJECTID
)
-
Shape
(
type: esriFieldTypeGeometry, alias: Shape
)
-
Name
(
type: esriFieldTypeString, alias: Name, length: 200
)
-
MinPS
(
type: esriFieldTypeDouble, alias: MinPS
)
-
MaxPS
(
type: esriFieldTypeDouble, alias: MaxPS
)
-
LowPS
(
type: esriFieldTypeDouble, alias: LowPS
)
-
HighPS
(
type: esriFieldTypeDouble, alias: HighPS
)
-
Category
(
type: esriFieldTypeInteger, alias: Category
, Coded Values:
[0: Unknown]
, [1: Primary]
, [2: Overview]
, ...6 more...
)
-
Tag
(
type: esriFieldTypeString, alias: Tag, length: 100
)
-
GroupName
(
type: esriFieldTypeString, alias: GroupName, length: 100
)
-
ProductName
(
type: esriFieldTypeString, alias: ProductName, length: 100
)
-
CenterX
(
type: esriFieldTypeDouble, alias: CenterX
)
-
CenterY
(
type: esriFieldTypeDouble, alias: CenterY
)
-
ZOrder
(
type: esriFieldTypeInteger, alias: ZOrder
)
-
StartTime
(
type: esriFieldTypeDate, alias: StartTime, length: 8
)
-
EndTime
(
type: esriFieldTypeDate, alias: EndTime, length: 8
)
-
Shape_Length
(
type: esriFieldTypeDouble, alias: Shape_Length
)
-
Shape_Area
(
type: esriFieldTypeDouble, alias: Shape_Area
)
Default Mosaic Method: ByAttribute
Allowed Mosaic Methods: ByAttribute,NorthWest,Center,LockRaster,Nadir,Viewpoint,Seamline,None
SortField: StartTime
SortValue:
Mosaic Operator: First
Default Compression Quality: 75
Default Resampling Method: Nearest
Max Record Count: 1000
Max Image Height: 4100
Max Image Width: 15000
Max Download Image Count: 50
Max Mosaic Image Count: 50
Allow Raster Function: true
Allow Copy: true
Allow Analysis: true
Allow Compute TiePoints: false
Supports Statistics: true
Supports Advanced Queries: true
Use StandardizedQueries: true
Raster Type Infos:
Name: Raster Dataset
Description: Supports all ArcGIS Raster Datasets
Help:
Has Raster Attribute Table: false
Edit Fields Info: null
Ownership Based AccessControl For Rasters: null
Child Resources:
Info
Histograms
Statistics
Key Properties
Legend
Raster Function Infos
Supported Operations:
Export Image
Query
Identify
Measure
Compute Histograms
Compute Statistics Histograms
Get Samples
Compute Class Statistics
Query GPS Info
Find Images
Image to Map
Map to Image
Measure from Image
Image to Map Multiray
Query Boundary
Compute Pixel Location
Compute Angles
Validate
Project